Workbook

Sheet VPS1
A1: 1. | B1: VPS priemonės | D1: VPS priemonės | F1: Vietos plėtros strategijų, įgyvendinamų
F2: bendruomenių inicijuotos vietos plėtros būdu, įgyvendinimo taisyklių
C3: NMA vaidmuo: | D3: Užpildo stulpelius (suplanuota VPS). PILDOMI TIK BALTI LANGELIAI!!! | F3: 5 priedas
C4: VVG vaidmuo: | D4: Patikrina lentelės duomenis.
B5: VVG kodas | C5: MAZE
B7: 1 | C7: 2 | D7: 3 | E7: 4 | F7: 5 | G7: 6 | H7: 7 | I7: 8 | J7: 9 | K7: 10 | L7: 11 | M7: 12
B8: VPS priemonės numeris | C8: VVG kodas | D8: VPS priemonė | E8: Priemonės rūšis (iš sąrašo) | F8: Planuojama paremti projektų (rodiklis L700) | G8: Planuojama paramos suma priemonei, Eur | H8: Išlaidų dalis, nuo vietos projektų įgyvendinimo išlaidų, proc. | I8: Priemonės kodas (bendras) | J8: Priemonės kodas (unikalus) | K8: Išlaidų kategorija | L8: Finansavimo šaltinis | M8: Klaidų tikrinimas
A9: 1.3 | D9: Vietos projektams skirtos priemonės, iš viso | F9: =SUM(F10:F29) -> 16 | G9: =SUM(G10:G29) -> 1261104 | H9: =SUM(H10:H29) -> 100
A10: 1.4 | B10: 1 priemonė | C10: =IF(F10>0,$C$5,0) -> MAZE | D10: Tvarios ir patrauklios viešosios infrastruktūros kūrimas skatinant kultūros plėtrą, švietimo ir socialinės įtraukties iniciatyvas, gyventojų sveikatingumą ir fizinį aktyvumą vietos lygmeniu | E10: Viešųjų paslaugų prieinamumo didinimas (ne pelno) | F10: 4 | G10: 400000 | H10: 31.72 | I10: LEADER-20VVG-08 | J10: MAŽE-LEADER-20VVG-08-01 | K10: Vietos projektų įgyvendinimo išlaidos | L10: EŽŪFKP | M10: =IF(K10="Vietos projektų įgyvendinimo išlaidos", "Gerai","Priemonę pašalinti iš sąrašo") -> Gerai
A11: 1.5 | B11: 2 priemonė | C11: =IF(F11>0,$C$5,0) -> MAZE | D11: Skatinti darnią plėtrą ekonomikoje ir aplinkosaugoje, puoselėti gamtos, kultūros paveldą bei įtraukų turizmą | E11: Socialinis verslas | F11: 1 | G11: 80000 | H11: 6.34 | I11: LEADER-20VVG-06 | J11: MAŽE-LEADER-20VVG-06-02 | K11: Vietos projektų įgyvendinimo išlaidos | L11: EŽŪFKP | M11: =IF(K11="Vietos projektų įgyvendinimo išlaidos", "Gerai","Priemonę pašalinti iš sąrašo") -> Gerai
A12: 1.6 | B12: 3 priemonė | C12: =IF(F12>0,$C$5,0) -> MAZE | D12: Palaikyti Mažeikių rajono bendruomenių aktyvumą, sumanumą, iniciatyvumą ir socialinį atsakingumą | E12: Veiklos projektai | F12: 4 | G12: 81104 | H12: 6.43 | I12: LEADER-20VVG-09 | J12: MAŽE-LEADER-20VVG-09-03 | K12: Vietos projektų įgyvendinimo išlaidos | L12: EŽŪFKP | M12: =IF(K12="Vietos projektų įgyvendinimo išlaidos", "Gerai","Priemonę pašalinti iš sąrašo") -> Gerai
A13: 1.7 | B13: 4 priemonė | C13: =IF(F13>0,$C$5,0) -> MAZE | D13: Aplinkai palankaus smulkaus verslo kūrimas ir plėtra | E13: Ne žemės ūkio verslo kūrimas ir plėtra | F13: 7 | G13: 700000 | H13: 55.51 | I13: LEADER-20VVG-03 | J13: MAŽE-LEADER-20VVG-03-04 | K13: =VLOOKUP(I13,[1]Sąrašai!$B$8:$C$19,2,FALSE) -> Vietos projektų įgyvendinimo išlaidos | L13: EŽŪFKP | M13: =IF(K13="Vietos projektų įgyvendinimo išlaidos", "Gerai","Priemonę pašalinti iš sąrašo") -> Gerai
A14: 1.8 | B14: 5 priemonė | L14: EŽŪFKP | M14: =IF(K14="Vietos projektų įgyvendinimo išlaidos", "Gerai","Priemonę pašalinti iš sąrašo") -> Priemonę pašalinti iš sąrašo
A15: 1.9 | B15: 6 priemonė | C15: =IF(F15>0,$C$5,0) -> 0 | L15: EŽŪFKP | M15: =IF(K15="Vietos projektų įgyvendinimo išlaidos", "Gerai","Priemonę pašalinti iš sąrašo") -> Priemonę pašalinti iš sąrašo
A16: 1.10 | B16: 7 priemonė | C16: =IF(F16>0,$C$5,0) -> 0 | L16: EŽŪFKP | M16: =IF(K16="Vietos projektų įgyvendinimo išlaidos", "Gerai","Priemonę pašalinti iš sąrašo") -> Priemonę pašalinti iš sąrašo
A17: 1.11 | B17: 8 priemonė | C17: =IF(F17>0,$C$5,0) -> 0 | L17: EŽŪFKP | M17: =IF(K17="Vietos projektų įgyvendinimo išlaidos", "Gerai","Priemonę pašalinti iš sąrašo") -> Priemonę pašalinti iš sąrašo
A18: 1.12 | B18: 9 priemonė | C18: =IF(F18>0,$C$5,0) -> 0 | L18: EŽŪFKP | M18: =IF(K18="Vietos projektų įgyvendinimo išlaidos", "Gerai","Priemonę pašalinti iš sąrašo") -> Priemonę pašalinti iš sąrašo
A19: 1.13 | B19: 10 priemonė | C19: =IF(F19>0,$C$5,0) -> 0 | L19: EŽŪFKP | M19: =IF(K19="Vietos projektų įgyvendinimo išlaidos", "Gerai","Priemonę pašalinti iš sąrašo") -> Priemonę pašalinti iš sąrašo
A20: 1.14 | B20: 11 priemonė | C20: =IF(F20>0,$C$5,0) -> 0 | L20: EŽŪFKP | M20: =IF(K20="Vietos projektų įgyvendinimo išlaidos", "Gerai","Priemonę pašalinti iš sąrašo") -> Priemonę pašalinti iš sąrašo
A21: 1.15 | B21: 12 priemonė | C21: =IF(F21>0,$C$5,0) -> 0 | L21: EŽŪFKP | M21: =IF(K21="Vietos projektų įgyvendinimo išlaidos", "Gerai","Priemonę pašalinti iš sąrašo") -> Priemonę pašalinti iš sąrašo
A22: 1.16 | B22: 13 priemonė | C22: =IF(F22>0,$C$5,0) -> 0 | L22: EŽŪFKP | M22: =IF(K22="Vietos projektų įgyvendinimo išlaidos", "Gerai","Priemonę pašalinti iš sąrašo") -> Priemonę pašalinti iš sąrašo
A23: 1.17 | B23: 14 priemonė | C23: =IF(F23>0,$C$5,0) -> 0 | L23: EŽŪFKP | M23: =IF(K23="Vietos projektų įgyvendinimo išlaidos", "Gerai","Priemonę pašalinti iš sąrašo") -> Priemonę pašalinti iš sąrašo
A24: 1.18 | B24: 15 priemonė | C24: =IF(F24>0,$C$5,0) -> 0 | L24: EŽŪFKP | M24: =IF(K24="Vietos projektų įgyvendinimo išlaidos", "Gerai","Priemonę pašalinti iš sąrašo") -> Priemonę pašalinti iš sąrašo
A25: 1.19 | B25: 16 priemonė | C25: =IF(F25>0,$C$5,0) -> 0 | L25: EŽŪFKP | M25: =IF(K25="Vietos projektų įgyvendinimo išlaidos", "Gerai","Priemonę pašalinti iš sąrašo") -> Priemonę pašalinti iš sąrašo
A26: 1.20 | B26: 17 priemonė | C26: =IF(F26>0,$C$5,0) -> 0 | L26: EŽŪFKP | M26: =IF(K26="Vietos projektų įgyvendinimo išlaidos", "Gerai","Priemonę pašalinti iš sąrašo") -> Priemonę pašalinti iš sąrašo
... A29: 1.23 | B29: 20 priemonė | C29: =IF(F29>0,$C$5,0) -> 0 | L29: EŽŪFKP | M29: =IF(K29="Vietos projektų įgyvendinimo išlaidos", "Gerai","Priemonę pašalinti iš sąrašo") -> Priemonę pašalinti iš sąrašo
D32: Pildymo instrukcija (VPS1 lapas)
B33: 1. | D33: Pildo NMA. Kopijuojama informacija iš VPS II dalies 7 lapo. Kopijuojami tik 2-9 stupleliai ir tik tos eilutės, kurios yra užpildytos. Kopijuojant formoje įklijuojamos tik reikšmės (be formatavimo). Parinkus komandą "Įklijuoti/ Paste" atsiranda mygtukas, kurį paspaudus reikia pasirinkti variantą "Įklijuoti reikšmes/ Paste values".
B34: 2. | D34: SVARBU! Kopijuojamos tik Vietos projektų priemonės. Teritorinio ir tarptautinio bendradarbiavimo priemonės į sąrašą nėra įtraukiamos. Jei 12 stulpelyje rodo klaidą "Priemonę pašalinti iš sąrašo", informacija apie priemonę 3-10 stulpeliuose pašalinama.

Sheet VPS2
B1: VPS planuojami priemonių rezultato rodikliai
A2: NMA vaidmuo: | B2: Užpildo stulpelius (suplanuota VPS). PILDOMI TIK BALTI LANGELIAI!!!
A3: VVG vaidmuo: | B3: Patikrina lentelės duomenis.
B6: 1 | C6: 2 | D6: 2 | E6: 3 | F6: 4 | G6: 5 | H6: 6 | I6: 7 | J6: 8 | K6: 9 | L6: 10 | M6: 11 | N6: 12 | O6: 13 | P6: 14 | Q6: 15
B7: VPS priemonės numeris | C7: VVG kodas | D7: VPS priemonė | E7: Priemonės rūšis (iš sąrašo) | F7: Priemonės kodas (unikalus) | G7: Priemonės kodas (bendras) | H7: R3 (ūkių skaičius) | I7: R3 (apmokytų ūkininkų skaičius) | J7: R.37 | K7: R.39 (verslo pradžia) | L7: R.39 (verslo plėtra) | M7: R.41 | N7: R.42 | O7: P.1 | P7: P.2 | Q7: P.3
D8: Iš viso | E8: - | F8: - | G8: - | H8: =SUM(H9:H28) -> 0 | I8: =SUM(I9:I28) -> 0 | J8: =SUM(J9:J28) -> 14.5 | K8: =SUM(K9:K28) -> 4 | L8: =SUM(L9:L28) -> 4 | M8: =SUM(M9:M28) -> 2000 | N8: =SUM(N9:N28) -> 70 | O8: =SUM(O9:O28) -> 0 | ... Q8: =SUM(Q9:Q28) -> 0
B9: 1 priemonė | C9: ='VPS1'!C10 -> MAZE | D9: ='VPS1'!D10 -> Tvarios ir patrauklios viešosios infrastruktūros kūrimas skatinant kultūros plėtrą, švietimo ir socialinės įtraukties iniciatyvas, gyventojų sveikatingumą ir fizinį aktyvumą vietos lygmeniu | E9: ='VPS1'!E10 -> Viešųjų paslaugų prieinamumo didinimas (ne pelno) | F9: ='VPS1'!J10 -> MAŽE-LEADER-20VVG-08-01 | G9: ='VPS1'!I10 -> LEADER-20VVG-08 | M9: 1500 | N9: 40
B10: 2 priemonė | C10: ='VPS1'!C11 -> MAZE | D10: ='VPS1'!D11 -> Skatinti darnią plėtrą ekonomikoje ir aplinkosaugoje, puoselėti gamtos, kultūros paveldą bei įtraukų turizmą | E10: ='VPS1'!E11 -> Socialinis verslas | F10: ='VPS1'!J11 -> MAŽE-LEADER-20VVG-06-02 | G10: ='VPS1'!I11 -> LEADER-20VVG-06 | J10: 0.5 | K10: 1 | M10: 50 | N10: 10
B11: 3 priemonė | C11: ='VPS1'!C12 -> MAZE | D11: ='VPS1'!D12 -> Palaikyti Mažeikių rajono bendruomenių aktyvumą, sumanumą, iniciatyvumą ir socialinį atsakingumą | E11: ='VPS1'!E12 -> Veiklos projektai | F11: ='VPS1'!J12 -> MAŽE-LEADER-20VVG-09-03 | G11: ='VPS1'!I12 -> LEADER-20VVG-09 | M11: 400 | N11: 20
B12: 4 priemonė | C12: ='VPS1'!C13 -> MAZE | D12: ='VPS1'!D13 -> Aplinkai palankaus smulkaus verslo kūrimas ir plėtra | E12: ='VPS1'!E13 -> Ne žemės ūkio verslo kūrimas ir plėtra | F12: ='VPS1'!J13 -> MAŽE-LEADER-20VVG-03-04 | G12: ='VPS1'!I13 -> LEADER-20VVG-03 | J12: 14 | K12: 3 | L12: 4 | M12: 50
B13: 5 priemonė | C13: ='VPS1'!C14 -> 0 | D13: ='VPS1'!D14 -> 0 | E13: ='VPS1'!E14 -> 0 | F13: ='VPS1'!J14 -> 0 | G13: ='VPS1'!I14 -> 0
B14: 6 priemonė | C14: ='VPS1'!C15 -> 0 | D14: ='VPS1'!D15 -> 0 | E14: ='VPS1'!E15 -> 0 | F14: ='VPS1'!J15 -> 0 | G14: ='VPS1'!I15 -> 0
B15: 7 priemonė | C15: ='VPS1'!C16 -> 0 | D15: ='VPS1'!D16 -> 0 | E15: ='VPS1'!E16 -> 0 | F15: ='VPS1'!J16 -> 0 | G15: ='VPS1'!I16 -> 0
B16: 8 priemonė | C16: ='VPS1'!C17 -> 0 | D16: ='VPS1'!D17 -> 0 | E16: ='VPS1'!E17 -> 0 | F16: ='VPS1'!J17 -> 0 | G16: ='VPS1'!I17 -> 0
B17: 9 priemonė | C17: ='VPS1'!C18 -> 0 | D17: ='VPS1'!D18 -> 0 | E17: ='VPS1'!E18 -> 0 | F17: ='VPS1'!J18 -> 0 | G17: ='VPS1'!I18 -> 0
B18: 10 priemonė | C18: ='VPS1'!C19 -> 0 | D18: ='VPS1'!D19 -> 0 | E18: ='VPS1'!E19 -> 0 | F18: ='VPS1'!J19 -> 0 | G18: ='VPS1'!I19 -> 0
B19: 11 priemonė | C19: ='VPS1'!C20 -> 0 | D19: ='VPS1'!D20 -> 0 | E19: ='VPS1'!E20 -> 0 | F19: ='VPS1'!J20 -> 0 | G19: ='VPS1'!I20 -> 0
B20: 12 priemonė | C20: ='VPS1'!C21 -> 0 | D20: ='VPS1'!D21 -> 0 | E20: ='VPS1'!E21 -> 0 | F20: ='VPS1'!J21 -> 0 | G20: ='VPS1'!I21 -> 0
B21: 13 priemonė | C21: ='VPS1'!C22 -> 0 | D21: ='VPS1'!D22 -> 0 | E21: ='VPS1'!E22 -> 0 | F21: ='VPS1'!J22 -> 0 | G21: ='VPS1'!I22 -> 0
B22: 14 priemonė | C22: ='VPS1'!C23 -> 0 | D22: ='VPS1'!D23 -> 0 | E22: ='VPS1'!E23 -> 0 | F22: ='VPS1'!J23 -> 0 | G22: ='VPS1'!I23 -> 0
B23: 15 priemonė | C23: ='VPS1'!C24 -> 0 | D23: ='VPS1'!D24 -> 0 | E23: ='VPS1'!E24 -> 0 | F23: ='VPS1'!J24 -> 0 | G23: ='VPS1'!I24 -> 0
B24: 16 priemonė | C24: ='VPS1'!C25 -> 0 | D24: ='VPS1'!D25 -> 0 | E24: ='VPS1'!E25 -> 0 | F24: ='VPS1'!J25 -> 0 | G24: ='VPS1'!I25 -> 0
... B28: 20 priemonė | C28: ='VPS1'!C29 -> 0 | D28: ='VPS1'!D29 -> 0 | E28: ='VPS1'!E29 -> 0 | F28: ='VPS1'!J29 -> 0 | G28: ='VPS1'!I29 -> 0
D31: Pildymo instrukcija (VPS2 lapas)
B32: 1. | D32: Pildo NMA. Pagal poreikį pildomi 6-15 stulpeliai. Duomenys imami iš VPS II dalies 11 arba 12 lapo.
B33: 2. | D33: Rezultato rodiklių reikšmių pasiekimai už 2024 m. nebus vertinami, jie bus vertinami tik 2025 m., vertinant suplanuotų rodiklių pasiekimą už 2024 ir 2025 metus.

Sheet VPS3
B1: VPS planuojami rodikliai pamečiui
A2: NMA vaidmuo: | B2: Užpildo stulpelius (suplanuota VPS). PILDOMI TIK BALTI LANGELIAI!!!
A3: VVG vaidmuo: | B3: Patikrina lentelės duomenis.
B6: 1 | C6: 2 | D6: 3 | E6: 4 | F6: 5 | G6: 6 | H6: 7 | I6: 8 | J6: 9
B7: Rodiklis | C7: 2024 | D7: 2025 | E7: 2026 | F7: 2027 | G7: 2028 | H7: 2029 | I7: Iš viso | J7: Klaidų tikrinimas
B8: R3 (ūkių skaičius) | I8: =SUM(C8:H8) -> 0 | J8: =IF(I8='VPS2'!H8,"Gerai","Klaida, nesutampa su VPS2 suma") -> Gerai
B9: R3 (apmokytų ūkininkų skaičius) | I9: =SUM(C9:H9) -> 0 | J9: =IF(I9='VPS2'!I8,"Gerai","Klaida, nesutampa su VPS2 suma") -> Gerai
B10: R.37 | E10: 14 | F10: 0.5 | I10: =SUM(C10:H10) -> 14.5 | J10: =IF(I10='VPS2'!J8,"Gerai","Klaida, nesutampa su VPS2 suma") -> Gerai
B11: R.39 (verslo pradžia) | E11: 1 | F11: 3 | I11: =SUM(C11:H11) -> 4 | J11: =IF(I11='VPS2'!K8,"Gerai","Klaida, nesutampa su VPS2 suma") -> Gerai
B12: R.39 (verslo plėtra) | F12: 4 | I12: =SUM(C12:H12) -> 4 | J12: =IF(I12='VPS2'!L8,"Gerai","Klaida, nesutampa su VPS2 suma") -> Gerai
B13: R.41 | E13: 1950 | F13: 50 | I13: =SUM(C13:H13) -> 2000 | J13: =IF(I13='VPS2'!M8,"Gerai","Klaida, nesutampa su VPS2 suma") -> Gerai
B14: R.42 | E14: 60 | F14: 10 | I14: =SUM(C14:H14) -> 70 | J14: =IF(I14='VPS2'!N8,"Gerai","Klaida, nesutampa su VPS2 suma") -> Gerai
C17: Pildymo instrukcija (VPS3 lapas)
B18: 1 | C18: Pildo NMA. Pildomi2-7 stulpeliai. Duomenys imami iš VPS II dalies 11 lapo.

Sheet D1
B1: Duomenys: Informacija apie kvietimus
A3: NMA vaidmuo: | B3: Patikrina VVG pateiktus lentelės duomenis.
A4: VVG vaidmuo: | B4: Užpildo lentelę (C, D, E stulpeliai).
A6: VVG | B6: Kvietimo Nr. | C6: Kvietimo pradžia | D6: Kvietimo pabaiga | E6: Gautų paraiškų skaičius | F6: Kvietimo trukmė (d.) | G6: Kvietimo pradžios metai | H6: Kvietimo pabaigos metai
A7: Užsipildo automatiškai pagal lapą VPS1 | B7: Nurodomas kvietimo numeris pagal schemą KV01, kur "KV" reiškia žodį "kvietimas", o "01" - dviženklį kvietimo Nr. 1 numerį. Kiekvienas kvietimas nurodomas naujoje eilutėje. Jei kvietimų buvo mažiau, nereikalingos eilutės nepildomos. | C7: Pildo VVG. Nurodoma data pagal schemą MMM-MM-DD, pavyzdžiui, 2024-10-01 | D7: Pildo VVG. Nurodoma data pagal schemą MMM-MM-DD, pavyzdžiui, 2024-10-01 | E7: Pildo VVG. Nurodomas bendras užregistruotų paraiškų skaičius | F7: Užsipildo aututomatiškai (formulė) | G7: Užsipildo aututomatiškai (formulė) | H7: Užsipildo aututomatiškai (formulė)
A8: Iš viso | E8: =SUM(E9:E38) -> 22
A9: =IF(F9>0,'VPS1'!C10,0) -> MAZE | B9: KV01 | C9: 45488 | D9: 45548 | E9: 3 | F9: =D9-C9 -> 60 | G9: =YEAR(C9) -> 2024 | H9: =YEAR(D9) -> 2024
A10: =IF(F10>0,'VPS1'!C11,0) -> MAZE | B10: KV02 | C10: 45579 | D10: 45615 | E10: 3 | F10: =D10-C10 -> 36 | G10: =YEAR(C10) -> 2024 | H10: =YEAR(D10) -> 2024
A11: MAZE | B11: KV03 | C11: 45681 | D11: 45740 | E11: 8 | F11: =D11-C11 -> 59 | G11: =YEAR(C11) -> 2025 | H11: =YEAR(D11) -> 2025
A12: MAZE | B12: KV04 | C12: 45699 | D12: 45755 | E12: 1 | F12: =D12-C12 -> 56 | G12: =YEAR(C12) -> 2025 | H12: =YEAR(D12) -> 2025
A13: MAZE | B13: KV05 | C13: 45703 | D13: 45762 | E13: 2 | F13: =D13-C13 -> 59 | G13: =YEAR(C13) -> 2025 | H13: =YEAR(D13) -> 2025
A14: MAZE | B14: KV06 | C14: 45863 | D14: 45925 | E14: 0 | F14: =D14-C14 -> 62 | G14: =YEAR(C14) -> 2025 | H14: =YEAR(D14) -> 2025
A15: MAZE | B15: KV07 | C15: 45968 | D15: 45999 | E15: 1 | F15: =D15-C15 -> 31 | G15: =YEAR(C15) -> 2025 | H15: =YEAR(D15) -> 2025
A16: MAZE | B16: KV08 | C16: 45973 | D16: 46022 | E16: 4 | F16: =D16-C16 -> 49 | G16: =YEAR(C16) -> 2025 | H16: =YEAR(D16) -> 2025
A17: =IF(F17>0,'VPS1'!C18,0) -> 0 | B17: KV09 | F17: =D17-C17 -> 0 | G17: =YEAR(C17) -> 1900 | H17: =YEAR(D17) -> 1900
A18: =IF(F18>0,'VPS1'!C19,0) -> 0 | B18: KV10 | F18: =D18-C18 -> 0 | G18: =YEAR(C18) -> 1900 | H18: =YEAR(D18) -> 1900
A19: =IF(F19>0,'VPS1'!C20,0) -> 0 | B19: KV11 | F19: =D19-C19 -> 0 | G19: =YEAR(C19) -> 1900 | H19: =YEAR(D19) -> 1900
A20: =IF(F20>0,'VPS1'!C21,0) -> 0 | B20: KV12 | F20: =D20-C20 -> 0 | G20: =YEAR(C20) -> 1900 | H20: =YEAR(D20) -> 1900
A21: =IF(F21>0,'VPS1'!C22,0) -> 0 | B21: KV13 | F21: =D21-C21 -> 0 | G21: =YEAR(C21) -> 1900 | H21: =YEAR(D21) -> 1900
A22: =IF(F22>0,'VPS1'!C23,0) -> 0 | B22: KV14 | F22: =D22-C22 -> 0 | G22: =YEAR(C22) -> 1900 | H22: =YEAR(D22) -> 1900
A23: =IF(F23>0,'VPS1'!C24,0) -> 0 | B23: KV15 | F23: =D23-C23 -> 0 | G23: =YEAR(C23) -> 1900 | H23: =YEAR(D23) -> 1900
A24: =IF(F24>0,'VPS1'!C25,0) -> 0 | B24: KV16 | F24: =D24-C24 -> 0 | G24: =YEAR(C24) -> 1900 | H24: =YEAR(D24) -> 1900
A25: =IF(F25>0,'VPS1'!C26,0) -> 0 | B25: KV17 | F25: =D25-C25 -> 0 | G25: =YEAR(C25) -> 1900 | H25: =YEAR(D25) -> 1900
A26: =IF(F26>0,'VPS1'!C27,0) -> 0 | B26: KV18 | F26: =D26-C26 -> 0 | G26: =YEAR(C26) -> 1900 | H26: =YEAR(D26) -> 1900
A27: =IF(F27>0,'VPS1'!C28,0) -> 0 | B27: KV19 | F27: =D27-C27 -> 0 | G27: =YEAR(C27) -> 1900 | H27: =YEAR(D27) -> 1900
A28: =IF(F28>0,'VPS1'!C29,0) -> 0 | B28: KV20 | F28: =D28-C28 -> 0 | G28: =YEAR(C28) -> 1900 | H28: =YEAR(D28) -> 1900
... A38: =IF(F38>0,'VPS1'!C39,0) -> 0 | B38: KV30 | F38: =D38-C38 -> 0 | G38: =YEAR(C38) -> 1900 | H38: =YEAR(D38) -> 1900

Sheet D2
B1: Duomenys: Informacija apie įvykusius kvietimus VPS priemonių lygiu
A3: NMA vaidmuo: | B3: Patikrina VVG pateiktus lentelės duomenis.
A4: VVG vaidmuo: | B4: Užpildo lentelę nuo K stulpelio.
K5: Kvietimui numatyta lėšų suma (VPS priemonių lygiu), Eur
B6: VPS priemonės numeris | C6: VVG kodas | D6: VPS priemonė | E6: Priemonės kodas (unikalus) | F6: Priemonės kodas (bendras) | G6: Planuojama paramos suma priemonei, Eur | H6: Bendras kvietimų skaičius (vnt.) | I6: Bendra kvietimų teikti paraiškas suma, Eur | J6: Paskelbti kvietimai, proc. nuo vietos projektams numatytų lėšų (nuo VPS įgyvendinimo pradžios) | K6: KV01 | L6: KV02 | M6: KV03 | N6: KV04 | O6: KV05 | P6: KV06 | Q6: KV07 | R6: KV08 | S6: KV09 | T6: KV10 | U6: KV11 | V6: KV12 | W6: KV13 | X6: KV14 | Y6: KV15 | Z6: KV16 | AA6: KV17 | AB6: KV18 | AC6: KV19 | AD6: KV20 | AE6: KV21 | AF6: KV22 | AG6: KV23 | AH6: KV24 | AI6: KV25 | AJ6: KV26 | AK6: KV27 | AL6: KV28 | AM6: KV29 | AN6: KV30
B7: Užsipildo automatiškai pagal lapą VPS1 | C7: Užsipildo automatiškai pagal lapą VPS1 | D7: Užsipildo automatiškai pagal lapą VPS1 | E7: Užsipildo automatiškai pagal lapą VPS1 | F7: Užsipildo automatiškai pagal lapą VPS1 | G7: Užsipildo automatiškai pagal lapą VPS1 | H7: Užsipildo automatiškai (formulė) | I7: Užsipildo automatiškai (formulė) | J7: Užsipildo automatiškai (formulė) | K7: Pildo VVG. Suma nurodoma tame langelyje, kuriame susikerta aktualus kvietimo numeris ir VPS priemonė. Jei kvietimų daugiau nei 30, įterpti daugiau stulpelių.
B8: Iš viso | G8: =SUM(G9:G28) -> 1261104 | H8: =SUM(H9:H28) -> 8 | I8: =SUM(I9:I28) -> 2156284.1 | J8: =IF(G8>0,I8/G8,0) -> 1.7098385 | K8: =SUM(K9:K28) -> 700000 | L8: =SUM(L9:L28) -> 81104 | M8: =SUM(M9:M28) -> 655183.82 | N8: =SUM(N9:N28) -> 200000 | O8: =SUM(O9:O28) -> 35879.34 | P8: =SUM(P9:P28) -> 300000 | Q8: =SUM(Q9:Q28) -> 5054 | R8: =SUM(R9:R28) -> 179062.97 | ... AN8: =SUM(AN9:AN28) -> 0
B9: 1 priemonė | C9: ='VPS1'!C10 -> MAZE | D9: ='VPS1'!D10 -> Tvarios ir patrauklios viešosios infrastruktūros kūrimas skatinant kultūros plėtrą, švietimo ir socialinės įtraukties iniciatyvas, gyventojų sveikatingumą ir fizinį aktyvumą vietos lygmeniu | E9: ='VPS1'!J10 -> MAŽE-LEADER-20VVG-08-01 | F9: ='VPS1'!I10 -> LEADER-20VVG-08 | G9: ='VPS1'!G10 -> 400000 | H9: =COUNTIFS(K9:AN9,">0") -> 2 | I9: =SUM(K9:AN9) -> 500000 | J9: =IF(G9>0,I9/G9,0) -> 1.25 | N9: 200000 | P9: 300000
B10: 2 priemonė | C10: ='VPS1'!C11 -> MAZE | D10: ='VPS1'!D11 -> Skatinti darnią plėtrą ekonomikoje ir aplinkosaugoje, puoselėti gamtos, kultūros paveldą bei įtraukų turizmą | E10: ='VPS1'!J11 -> MAŽE-LEADER-20VVG-06-02 | F10: ='VPS1'!I11 -> LEADER-20VVG-06 | G10: ='VPS1'!G11 -> 80000 | H10: =COUNTIFS(K10:AN10,">0") -> 0 | I10: =SUM(K10:AN10) -> 0 | J10: =IF(G10>0,I10/G10,0) -> 0
B11: 3 priemonė | C11: ='VPS1'!C12 -> MAZE | D11: ='VPS1'!D12 -> Palaikyti Mažeikių rajono bendruomenių aktyvumą, sumanumą, iniciatyvumą ir socialinį atsakingumą | E11: ='VPS1'!J12 -> MAŽE-LEADER-20VVG-09-03 | F11: ='VPS1'!I12 -> LEADER-20VVG-09 | G11: ='VPS1'!G12 -> 81104 | H11: =COUNTIFS(K11:AN11,">0") -> 3 | I11: =SUM(K11:AN11) -> 122037.34 | J11: =IF(G11>0,I11/G11,0) -> 1.5047019 | L11: 81104 | O11: 35879.34 | Q11: 5054
B12: 4 priemonė | C12: ='VPS1'!C13 -> MAZE | D12: ='VPS1'!D13 -> Aplinkai palankaus smulkaus verslo kūrimas ir plėtra | E12: ='VPS1'!J13 -> MAŽE-LEADER-20VVG-03-04 | F12: ='VPS1'!I13 -> LEADER-20VVG-03 | G12: ='VPS1'!G13 -> 700000 | H12: =COUNTIFS(K12:AN12,">0") -> 3 | I12: =SUM(K12:AN12) -> 1534246.8 | J12: =IF(G12>0,I12/G12,0) -> 2.1917811 | K12: 700000 | M12: 655183.82 | R12: 179062.97
B13: 5 priemonė | C13: ='VPS1'!C14 -> 0 | D13: ='VPS1'!D14 -> 0 | E13: ='VPS1'!J14 -> 0 | F13: ='VPS1'!I14 -> 0 | G13: ='VPS1'!G14 -> 0 | H13: =COUNTIFS(K13:AN13,">0") -> 0 | I13: =SUM(K13:AN13) -> 0 | J13: =IF(G13>0,I13/G13,0) -> 0
B14: 6 priemonė | C14: ='VPS1'!C15 -> 0 | D14: ='VPS1'!D15 -> 0 | E14: ='VPS1'!J15 -> 0 | F14: ='VPS1'!I15 -> 0 | G14: ='VPS1'!G15 -> 0 | H14: =COUNTIFS(K14:AN14,">0") -> 0 | I14: =SUM(K14:AN14) -> 0 | J14: =IF(G14>0,I14/G14,0) -> 0
B15: 7 priemonė | C15: ='VPS1'!C16 -> 0 | D15: ='VPS1'!D16 -> 0 | E15: ='VPS1'!J16 -> 0 | F15: ='VPS1'!I16 -> 0 | G15: ='VPS1'!G16 -> 0 | H15: =COUNTIFS(K15:AN15,">0") -> 0 | I15: =SUM(K15:AN15) -> 0 | J15: =IF(G15>0,I15/G15,0) -> 0
B16: 8 priemonė | C16: ='VPS1'!C17 -> 0 | D16: ='VPS1'!D17 -> 0 | E16: ='VPS1'!J17 -> 0 | F16: ='VPS1'!I17 -> 0 | G16: ='VPS1'!G17 -> 0 | H16: =COUNTIFS(K16:AN16,">0") -> 0 | I16: =SUM(K16:AN16) -> 0 | J16: =IF(G16>0,I16/G16,0) -> 0
B17: 9 priemonė | C17: ='VPS1'!C18 -> 0 | D17: ='VPS1'!D18 -> 0 | E17: ='VPS1'!J18 -> 0 | F17: ='VPS1'!I18 -> 0 | G17: ='VPS1'!G18 -> 0 | H17: =COUNTIFS(K17:AN17,">0") -> 0 | I17: =SUM(K17:AN17) -> 0 | J17: =IF(G17>0,I17/G17,0) -> 0
B18: 10 priemonė | C18: ='VPS1'!C19 -> 0 | D18: ='VPS1'!D19 -> 0 | E18: ='VPS1'!J19 -> 0 | F18: ='VPS1'!I19 -> 0 | G18: ='VPS1'!G19 -> 0 | H18: =COUNTIFS(K18:AN18,">0") -> 0 | I18: =SUM(K18:AN18) -> 0 | J18: =IF(G18>0,I18/G18,0) -> 0
B19: 11 priemonė | C19: ='VPS1'!C20 -> 0 | D19: ='VPS1'!D20 -> 0 | E19: ='VPS1'!J20 -> 0 | F19: ='VPS1'!I20 -> 0 | G19: ='VPS1'!G20 -> 0 | H19: =COUNTIFS(K19:AN19,">0") -> 0 | I19: =SUM(K19:AN19) -> 0 | J19: =IF(G19>0,I19/G19,0) -> 0
B20: 12 priemonė | C20: ='VPS1'!C21 -> 0 | D20: ='VPS1'!D21 -> 0 | E20: ='VPS1'!J21 -> 0 | F20: ='VPS1'!I21 -> 0 | G20: ='VPS1'!G21 -> 0 | H20: =COUNTIFS(K20:AN20,">0") -> 0 | I20: =SUM(K20:AN20) -> 0 | J20: =IF(G20>0,I20/G20,0) -> 0
B21: 13 priemonė | C21: ='VPS1'!C22 -> 0 | D21: ='VPS1'!D22 -> 0 | E21: ='VPS1'!J22 -> 0 | F21: ='VPS1'!I22 -> 0 | G21: ='VPS1'!G22 -> 0 | H21: =COUNTIFS(K21:AN21,">0") -> 0 | I21: =SUM(K21:AN21) -> 0 | J21: =IF(G21>0,I21/G21,0) -> 0
B22: 14 priemonė | C22: ='VPS1'!C23 -> 0 | D22: ='VPS1'!D23 -> 0 | E22: ='VPS1'!J23 -> 0 | F22: ='VPS1'!I23 -> 0 | G22: ='VPS1'!G23 -> 0 | H22: =COUNTIFS(K22:AN22,">0") -> 0 | I22: =SUM(K22:AN22) -> 0 | J22: =IF(G22>0,I22/G22,0) -> 0
B23: 15 priemonė | C23: ='VPS1'!C24 -> 0 | D23: ='VPS1'!D24 -> 0 | E23: ='VPS1'!J24 -> 0 | F23: ='VPS1'!I24 -> 0 | G23: ='VPS1'!G24 -> 0 | H23: =COUNTIFS(K23:AN23,">0") -> 0 | I23: =SUM(K23:AN23) -> 0 | J23: =IF(G23>0,I23/G23,0) -> 0
B24: 16 priemonė | C24: ='VPS1'!C25 -> 0 | D24: ='VPS1'!D25 -> 0 | E24: ='VPS1'!J25 -> 0 | F24: ='VPS1'!I25 -> 0 | G24: ='VPS1'!G25 -> 0 | H24: =COUNTIFS(K24:AN24,">0") -> 0 | I24: =SUM(K24:AN24) -> 0 | J24: =IF(G24>0,I24/G24,0) -> 0
... B28: 20 priemonė | C28: ='VPS1'!C29 -> 0 | D28: ='VPS1'!D29 -> 0 | E28: ='VPS1'!J29 -> 0 | F28: ='VPS1'!I29 -> 0 | G28: ='VPS1'!G29 -> 0 | H28: =COUNTIFS(K28:AN28,">0") -> 0 | I28: =SUM(K28:AN28) -> 0 | J28: =IF(G28>0,I28/G28,0) -> 0

Sheet D3
B1: Duomenys: Informacija apie gautas paraiškas VPS priemonių lygiu
A3: NMA vaidmuo: | B3: Patikrina VVG pateiktus lentelės duomenis.
A4: VVG vaidmuo: | B4: Užpildo lentelę nuo H stulpelio.
H5: Gautų paraiškų skaičius (VPS priemonių lygiu)
B6: VPS priemonės numeris | C6: VVG kodas | D6: VPS priemonė | E6: Priemonės kodas (bendras) | F6: Priemonės kodas (unikalus) | G6: Bendras gautų paraiškų skaičius | H6: KV01 | I6: KV02 | J6: KV03 | K6: KV04 | L6: KV05 | M6: KV06 | N6: KV07 | O6: KV08 | P6: KV09 | Q6: KV10 | R6: KV11 | S6: KV12 | T6: KV13 | U6: KV14 | V6: KV15 | W6: KV16 | X6: KV17 | Y6: KV18 | Z6: KV19 | AA6: KV20 | AB6: KV21 | AC6: KV22 | AD6: KV23 | AE6: KV24 | AF6: KV25 | AG6: KV26 | AH6: KV27 | AI6: KV28 | AJ6: KV29 | AK6: KV30
B7: Užsipildo automatiškai pagal lapą VPS1 | C7: Užsipildo automatiškai pagal lapą VPS2 | D7: Užsipildo automatiškai pagal lapą VPS1 | E7: Užsipildo automatiškai pagal lapą VPS1 | F7: Užsipildo automatiškai pagal lapą VPS1 | G7: Užsipildo automatiškai (formulė) | H7: Pildo VVG. Gautų paraiškų skaičius nurodomas tame langelyje, kuriame susikerta aktualus kvietimo numeris ir VPS priemonė. Jei kvietimų daugiau nei 30, įterpti daugiau stulpelių.
B8: Iš viso | G8: =SUM(G9:G28) -> 22 | H8: =SUM(H9:H28) -> 3 | I8: =SUM(I9:I28) -> 3 | J8: =SUM(J9:J28) -> 8 | K8: =SUM(K9:K28) -> 1 | L8: =SUM(L9:L28) -> 2 | M8: =SUM(M9:M28) -> 0 | N8: =SUM(N9:N28) -> 1 | ... AK8: =SUM(AK9:AK28) -> 0
B9: 1 priemonė | C9: ='VPS1'!C10 -> MAZE | D9: ='VPS1'!D10 -> Tvarios ir patrauklios viešosios infrastruktūros kūrimas skatinant kultūros plėtrą, švietimo ir socialinės įtraukties iniciatyvas, gyventojų sveikatingumą ir fizinį aktyvumą vietos lygmeniu | E9: ='VPS1'!I10 -> LEADER-20VVG-08 | F9: ='VPS1'!J10 -> MAŽE-LEADER-20VVG-08-01 | G9: =SUM(H9:AK9) -> 1 | K9: 1 | M9: 0
B10: 2 priemonė | C10: ='VPS1'!C11 -> MAZE | D10: ='VPS1'!D11 -> Skatinti darnią plėtrą ekonomikoje ir aplinkosaugoje, puoselėti gamtos, kultūros paveldą bei įtraukų turizmą | E10: ='VPS1'!I11 -> LEADER-20VVG-06 | F10: ='VPS1'!J11 -> MAŽE-LEADER-20VVG-06-02 | G10: =SUM(H10:AK10) -> 0
B11: 3 priemonė | C11: ='VPS1'!C12 -> MAZE | D11: ='VPS1'!D12 -> Palaikyti Mažeikių rajono bendruomenių aktyvumą, sumanumą, iniciatyvumą ir socialinį atsakingumą | E11: ='VPS1'!I12 -> LEADER-20VVG-09 | F11: ='VPS1'!J12 -> MAŽE-LEADER-20VVG-09-03 | G11: =SUM(H11:AK11) -> 6 | I11: 3 | L11: 2 | N11: 1
B12: 4 priemonė | C12: ='VPS1'!C13 -> MAZE | D12: ='VPS1'!D13 -> Aplinkai palankaus smulkaus verslo kūrimas ir plėtra | E12: ='VPS1'!I13 -> LEADER-20VVG-03 | F12: ='VPS1'!J13 -> MAŽE-LEADER-20VVG-03-04 | G12: =SUM(H12:AK12) -> 15 | H12: 3 | J12: 8 | O12: 4
B13: 5 priemonė | C13: ='VPS1'!C14 -> 0 | D13: ='VPS1'!D14 -> 0 | E13: ='VPS1'!I14 -> 0 | F13: ='VPS1'!J14 -> 0 | G13: =SUM(H13:AK13) -> 0
B14: 6 priemonė | C14: ='VPS1'!C15 -> 0 | D14: ='VPS1'!D15 -> 0 | E14: ='VPS1'!I15 -> 0 | F14: ='VPS1'!J15 -> 0 | G14: =SUM(H14:AK14) -> 0
B15: 7 priemonė | C15: ='VPS1'!C16 -> 0 | D15: ='VPS1'!D16 -> 0 | E15: ='VPS1'!I16 -> 0 | F15: ='VPS1'!J16 -> 0 | G15: =SUM(H15:AK15) -> 0
B16: 8 priemonė | C16: ='VPS1'!C17 -> 0 | D16: ='VPS1'!D17 -> 0 | E16: ='VPS1'!I17 -> 0 | F16: ='VPS1'!J17 -> 0 | G16: =SUM(H16:AK16) -> 0
B17: 9 priemonė | C17: ='VPS1'!C18 -> 0 | D17: ='VPS1'!D18 -> 0 | E17: ='VPS1'!I18 -> 0 | F17: ='VPS1'!J18 -> 0 | G17: =SUM(H17:AK17) -> 0
B18: 10 priemonė | C18: ='VPS1'!C19 -> 0 | D18: ='VPS1'!D19 -> 0 | E18: ='VPS1'!I19 -> 0 | F18: ='VPS1'!J19 -> 0 | G18: =SUM(H18:AK18) -> 0
B19: 11 priemonė | C19: ='VPS1'!C20 -> 0 | D19: ='VPS1'!D20 -> 0 | E19: ='VPS1'!I20 -> 0 | F19: ='VPS1'!J20 -> 0 | G19: =SUM(H19:AK19) -> 0
B20: 12 priemonė | C20: ='VPS1'!C21 -> 0 | D20: ='VPS1'!D21 -> 0 | E20: ='VPS1'!I21 -> 0 | F20: ='VPS1'!J21 -> 0 | G20: =SUM(H20:AK20) -> 0
B21: 13 priemonė | C21: ='VPS1'!C22 -> 0 | D21: ='VPS1'!D22 -> 0 | E21: ='VPS1'!I22 -> 0 | F21: ='VPS1'!J22 -> 0 | G21: =SUM(H21:AK21) -> 0
B22: 14 priemonė | C22: ='VPS1'!C23 -> 0 | D22: ='VPS1'!D23 -> 0 | E22: ='VPS1'!I23 -> 0 | F22: ='VPS1'!J23 -> 0 | G22: =SUM(H22:AK22) -> 0
B23: 15 priemonė | C23: ='VPS1'!C24 -> 0 | D23: ='VPS1'!D24 -> 0 | E23: ='VPS1'!I24 -> 0 | F23: ='VPS1'!J24 -> 0 | G23: =SUM(H23:AK23) -> 0
B24: 16 priemonė | C24: ='VPS1'!C25 -> 0 | D24: ='VPS1'!D25 -> 0 | E24: ='VPS1'!I25 -> 0 | F24: ='VPS1'!J25 -> 0 | G24: =SUM(H24:AK24) -> 0
... B28: 20 priemonė | C28: ='VPS1'!C29 -> 0 | D28: ='VPS1'!D29 -> 0 | E28: ='VPS1'!I29 -> 0 | F28: ='VPS1'!J29 -> 0 | G28: =SUM(H28:AK28) -> 0

Sheet D4
B1: Duomenys: Informacija apie gautų paraiškų vertę VPS priemonių lygiu
A3: NMA vaidmuo: | B3: Patikrina VVG pateiktus lentelės duomenis.
A4: VVG vaidmuo: | B4: Užpildo lentelę nuo I stulpelio.
I5: Gautų paraiškų vertė (prašoma paramos suma), Eur
B6: VPS priemonės numeris | C6: VVG kodas | D6: VPS priemonė | E6: Priemonės kodas (unikalus) | F6: Planuojama paramos suma priemonei, Eur | G6: Bendra gautų paraiškų vertė, Eur | H6: Gautų paraiškų vertė, proc. nuo vietos projektams numatytų lėšų (nuo VPS įgyvendinimo pradžios) | I6: KV01 | J6: KV02 | K6: KV03 | L6: KV04 | M6: KV05 | N6: KV06 | O6: KV07 | P6: KV08 | Q6: KV09 | R6: KV10 | S6: KV11 | T6: KV12 | U6: KV13 | V6: KV14 | W6: KV15 | X6: KV16 | Y6: KV17 | Z6: KV18 | AA6: KV19 | AB6: KV20 | AC6: KV21 | AD6: KV22 | AE6: KV23 | AF6: KV24 | AG6: KV25 | AH6: KV26 | AI6: KV27 | AJ6: KV28 | AK6: KV29 | AL6: KV30
B7: Užsipildo automatiškai pagal lapą VPS1 | C7: Užsipildo automatiškai pagal lapą VPS1 | D7: Užsipildo automatiškai pagal lapą VPS1 | E7: Užsipildo automatiškai pagal lapą VPS1 | F7: Užsipildo automatiškai pagal lapą VPS1 | G7: Užsipildo automatiškai (formulė) | H7: Užsipildo automatiškai (formulė) | I7: Pildo VVG. Suma nurodoma tame langelyje, kuriame susikerta aktualus kvietimo numeris ir VPS priemonė. Kaip įvesti sumas žr. 4 eilutę lape "Instrukcija". Jei kvietimų daugiau nei 30, įterpti daugiau stulpelių.
B8: Iš viso | F8: =SUM(F9:F28) -> 1261104 | G8: =SUM(G9:G28) -> 1135870.6 | H8: =IF(G8>0,G8/F8,0) -> 0.90069545 | I8: =SUM(I9:I28) -> 102478.15 | J8: =SUM(J9:J28) -> 45222.66 | K8: =SUM(K9:K28) -> 609047.77 | L8: =SUM(L9:L28) -> 100000 | M8: =SUM(M9:M28) -> 35844.62 | N8: =SUM(N9:N28) -> 0 | O8: =SUM(O9:O28) -> 5037.3 | P8: =SUM(P9:P28) -> 238240.13 | ... AL8: =SUM(AL9:AL28) -> 0
B9: 1 priemonė | C9: ='VPS1'!C10 -> MAZE | D9: ='VPS1'!D10 -> Tvarios ir patrauklios viešosios infrastruktūros kūrimas skatinant kultūros plėtrą, švietimo ir socialinės įtraukties iniciatyvas, gyventojų sveikatingumą ir fizinį aktyvumą vietos lygmeniu | E9: ='VPS1'!J10 -> MAŽE-LEADER-20VVG-08-01 | F9: ='VPS1'!G10 -> 400000 | G9: =SUM(I9:AL9) -> 100000 | H9: =IF(G9>0,G9/F9,0) -> 0.25 | L9: 100000 | N9: 0
B10: 2 priemonė | C10: ='VPS1'!C11 -> MAZE | D10: ='VPS1'!D11 -> Skatinti darnią plėtrą ekonomikoje ir aplinkosaugoje, puoselėti gamtos, kultūros paveldą bei įtraukų turizmą | E10: ='VPS1'!J11 -> MAŽE-LEADER-20VVG-06-02 | F10: ='VPS1'!G11 -> 80000 | G10: =SUM(I10:AL10) -> 0 | H10: =IF(G10>0,G10/F10,0) -> 0
B11: 3 priemonė | C11: ='VPS1'!C12 -> MAZE | D11: ='VPS1'!D12 -> Palaikyti Mažeikių rajono bendruomenių aktyvumą, sumanumą, iniciatyvumą ir socialinį atsakingumą | E11: ='VPS1'!J12 -> MAŽE-LEADER-20VVG-09-03 | F11: ='VPS1'!G12 -> 81104 | G11: =SUM(I11:AL11) -> 86104.58 | H11: =IF(G11>0,G11/F11,0) -> 1.0616564 | J11: 45222.66 | M11: 35844.62 | O11: 5037.3
B12: 4 priemonė | C12: ='VPS1'!C13 -> MAZE | D12: ='VPS1'!D13 -> Aplinkai palankaus smulkaus verslo kūrimas ir plėtra | E12: ='VPS1'!J13 -> MAŽE-LEADER-20VVG-03-04 | F12: ='VPS1'!G13 -> 700000 | G12: =SUM(I12:AL12) -> 949766.05 | H12: =IF(G12>0,G12/F12,0) -> 1.3568086 | I12: 102478.15 | K12: 609047.77 | P12: 238240.13
B13: 5 priemonė | C13: ='VPS1'!C14 -> 0 | D13: ='VPS1'!D14 -> 0 | E13: ='VPS1'!J14 -> 0 | F13: ='VPS1'!G14 -> 0 | G13: =SUM(I13:AL13) -> 0 | H13: =IF(G13>0,G13/F13,0) -> 0
B14: 6 priemonė | C14: ='VPS1'!C15 -> 0 | D14: ='VPS1'!D15 -> 0 | E14: ='VPS1'!J15 -> 0 | F14: ='VPS1'!G15 -> 0 | G14: =SUM(I14:AL14) -> 0 | H14: =IF(G14>0,G14/F14,0) -> 0
B15: 7 priemonė | C15: ='VPS1'!C16 -> 0 | D15: ='VPS1'!D16 -> 0 | E15: ='VPS1'!J16 -> 0 | F15: ='VPS1'!G16 -> 0 | G15: =SUM(I15:AL15) -> 0 | H15: =IF(G15>0,G15/F15,0) -> 0
B16: 8 priemonė | C16: ='VPS1'!C17 -> 0 | D16: ='VPS1'!D17 -> 0 | E16: ='VPS1'!J17 -> 0 | F16: ='VPS1'!G17 -> 0 | G16: =SUM(I16:AL16) -> 0 | H16: =IF(G16>0,G16/F16,0) -> 0
B17: 9 priemonė | C17: ='VPS1'!C18 -> 0 | D17: ='VPS1'!D18 -> 0 | E17: ='VPS1'!J18 -> 0 | F17: ='VPS1'!G18 -> 0 | G17: =SUM(I17:AL17) -> 0 | H17: =IF(G17>0,G17/F17,0) -> 0
B18: 10 priemonė | C18: ='VPS1'!C19 -> 0 | D18: ='VPS1'!D19 -> 0 | E18: ='VPS1'!J19 -> 0 | F18: ='VPS1'!G19 -> 0 | G18: =SUM(I18:AL18) -> 0 | H18: =IF(G18>0,G18/F18,0) -> 0
B19: 11 priemonė | C19: ='VPS1'!C20 -> 0 | D19: ='VPS1'!D20 -> 0 | E19: ='VPS1'!J20 -> 0 | F19: ='VPS1'!G20 -> 0 | G19: =SUM(I19:AL19) -> 0 | H19: =IF(G19>0,G19/F19,0) -> 0
B20: 12 priemonė | C20: ='VPS1'!C21 -> 0 | D20: ='VPS1'!D21 -> 0 | E20: ='VPS1'!J21 -> 0 | F20: ='VPS1'!G21 -> 0 | G20: =SUM(I20:AL20) -> 0 | H20: =IF(G20>0,G20/F20,0) -> 0
B21: 13 priemonė | C21: ='VPS1'!C22 -> 0 | D21: ='VPS1'!D22 -> 0 | E21: ='VPS1'!J22 -> 0 | F21: ='VPS1'!G22 -> 0 | G21: =SUM(I21:AL21) -> 0 | H21: =IF(G21>0,G21/F21,0) -> 0
B22: 14 priemonė | C22: ='VPS1'!C23 -> 0 | D22: ='VPS1'!D23 -> 0 | E22: ='VPS1'!J23 -> 0 | F22: ='VPS1'!G23 -> 0 | G22: =SUM(I22:AL22) -> 0 | H22: =IF(G22>0,G22/F22,0) -> 0
B23: 15 priemonė | C23: ='VPS1'!C24 -> 0 | D23: ='VPS1'!D24 -> 0 | E23: ='VPS1'!J24 -> 0 | F23: ='VPS1'!G24 -> 0 | G23: =SUM(I23:AL23) -> 0 | H23: =IF(G23>0,G23/F23,0) -> 0
B24: 16 priemonė | C24: ='VPS1'!C25 -> 0 | D24: ='VPS1'!D25 -> 0 | E24: ='VPS1'!J25 -> 0 | F24: ='VPS1'!G25 -> 0 | G24: =SUM(I24:AL24) -> 0 | H24: =IF(G24>0,G24/F24,0) -> 0
... B28: 20 priemonė | C28: ='VPS1'!C29 -> 0 | D28: ='VPS1'!D29 -> 0 | E28: ='VPS1'!J29 -> 0 | F28: ='VPS1'!G29 -> 0 | G28: =SUM(I28:AL28) -> 0 | H28: =IF(G28>0,G28/F28,0) -> 0

Sheet D5
B1: Duomenys: Informacija apie paraiškų vertinimo rezultatus (NMA PAK)
A3: NMA vaidmuo: | B3: Užpildo lentelę pagal pagal pateiktą instrukciją.
A4: VVG vaidmuo: | B4: Patikrina lentelės duomenis.
R5: VP pobūdis | AM5: Rodikliai
B6: VVG ir priemonės kodas (Priemonės kodas (unikalus)) | C6: VVG kodas (4 raidės) | D6: VVG pavadinimas (pilnas) | E6: VPS priemonės kodas (unikalus) | F6: Paraiškos gavimo data | G6: Pareiškėjo pavadinimas / Vardas, pavardė | H6: Pareiškėjo registracijos kodas (pagal VĮ Registrų centro Juridinių asmenų registro duomenis) / asmens kodas ir ūkio registracijos Nr. | I6: Paraiškos atpažinties (registracijos) kodas (suteiktas VVG) | J6: Paraiškos atpažinties (registracijos) kodas (suteiktas NMA) | K6: Vietos projekto pavadinimas | L6: Prašoma paramos suma vietos projektui įgyvendinti, Eur | M6: Finansavimo šaltinis | N6: Pareiškėjo tipas (juridinis ar fizinis) | O6: Pareiškėjo tipas (detaliau) | P6: Jei pareiškėjas fizinis asmuo, ar vyras? | Q6: Jei pareiškėjas fizinis asmuo, ar jaunas (iki 40 m.)? | R6: Ar vietos projektas skirtas jaunimui? | S6: Ar pagrįsta vietos projekte VPS tema? | T6: Ar vietos projektas kuria inovacijas? | U6: Ar vietos projektas susijęs su L801? | V6: Ar vietos projektas susijęs su L802? | W6: Ar vietos projektas susijęs su L803? | X6: Ar vietos projektas susijęs su L804? | Y6: Ar vietos projektas susijęs su L805? | Z6: Ar vietos projektas susijęs su L806? | AA6: Arvietos projektas susijęs su L807? | AB6: Ar vietos projektas susijęs su L808? | AC6: Ar vietos projektas susijęs su L809? | AD6: Paraiškos etapas | AE6: Pridėtinės vertės (kokybės) vertinimas, balai | AF6: Vietos projekto atrankos data (po VVG PAK) | AG6: Patvirtinta paramos suma vietos projektui įgyvendinti, Eur (po NMA PAK) | AH6: Paraiškos patvirtinimo data (po NMA PAK) | AI6: Vietos projekto sutarties data | AJ6: Projekto pabaigos (galutinio MP) data (jei data yra, projektas baigtas) | AK6: 1 MP apmokėjimo data | AL6: Galutinio MP apmokėjimo data | AM6: PLANUOJAMA: R3 (ūkių skaičius) | AN6: PLANUOJAMA: R3 (apmokytų ūkininkų skaičius) | AO6: PLANUOJAMA: R.37 | AP6: PLANUOJAMA: R.39 (verslo pradžia) | AQ6: PLANUOJAMA: R.39 (verslo plėtra) | AR6: PLANUOJAMA: R.41 | AS6: PLANUOJAMA: R.42 | AT6: PLANUOJAMA: P.1 | AU6: PLANUOJAMA: P.2 | AV6: PLANUOJAMA: P.3 | AW6: PASIEKTA: R.3 (ūkių skaičius) | AX6: PASIEKTA: R.3 (apmokytų ūkininkų skaičius) | AY6: PASIEKTA: R.37 | AZ6: PASIEKTA: R.39 (verslo pradžia) | BA6: PASIEKTA: R.39 (verslo plėtra) | BB6: PASIEKTA: R.41 | BC6: PASIEKTA: R.42 | BD6: PASIEKTA: P.1 | BE6: PASIEKTA: P.2 | BF6: PASIEKTA: P.3 | BG6: Paraiškos gavimo metai | BH6: Paraiškos atrankos metai | BI6: Paraiškos patvirtinimo metai | BJ6: Vietos projekto sutarties metai | BK6: Projekto pabaigos metai | BL6: Apmokėto 1MP metai | BM6: Apmokėto galutinio MP metai | BN6: Ar paraiška atrinka | BO6: Ar paraiška patvirtinta? | BP6: Ar sudaryta sutartis? | BQ6: Ar apmokėtas 1 MP? | BR6: Ar apmokėtas galutinis MP? | BS6: Ar projektas baigtas?
B7: Jei #N/A - neteisingas priemonės kodas (tikslinti E stulpelį) | C7: Užsipildo automatiškai iš paraiškos kodo | D7: Pildo NMA | E7: Pildo NMA. Reikšmės turi sutapti su nurodytomis lapo VPS1 J stulpelyje. | F7: Pildo NMA. Nurodoma paraiškos gavimo/ užregistravimo data pagal schemą MMM-MM-DD, pavyzdžiui, 2024-10-01 | G7: Pildo NMA | H7: Pildo NMA | I7: Pildo NMA | J7: Pildo NMA | K7: Pildo NMA | L7: Pildo NMA | M7: Pildo NMA. Lauko reikšmė įvedama arba pasirenkama iš sąrašo (galimos reikšmės: EŽŪFKP) | N7: Pildo NMA. Lauko reikšmė įvedama arba pasirenkama iš sąrašo (galimos reikšmės: juridinis asmuo arba fizinis asmuo) | O7: Pildo NMA. Lauko reikšmė įvedama arba pasirenkama iš sąrašo. Galimų reikšmių sąrašas pateiktas lape "Instrukcija". | P7: Pildo NMA pagal pareiškėjo kodą arba pavadinimą. Lauko reikšmės: taip arba ne. | Q7: Pildo NMA pagal pareiškėjo kodą. Lauko reikšmės: taip arba ne. | R7: Pildo NMA pagal pareiškėjo kodą. Lauko reikšmės: taip, ne. | S7: Pildo NMA pagal pareiškėjo kodą. Lauko reikšmės: taip, ne. | T7: Pildo NMA pagal pareiškėjo kodą. Lauko reikšmės: taip, ne. | U7: Pildo NMA pagal pareiškėjo kodą. Lauko reikšmės: taip, ne. | V7: Pildo NMA pagal pareiškėjo kodą. Lauko reikšmės: taip, ne. | W7: Pildo NMA pagal pareiškėjo kodą. Lauko reikšmės: taip, ne. | X7: Pildo NMA pagal pareiškėjo kodą. Lauko reikšmės: taip, ne. | Y7: Pildo NMA pagal pareiškėjo kodą. Lauko reikšmės: taip, ne. | Z7: Pildo NMA pagal pareiškėjo kodą. Lauko reikšmės: taip, ne. | AA7: Pildo NMA pagal pareiškėjo kodą. Lauko reikšmės: taip, ne. | AB7: Pildo NMA pagal pareiškėjo kodą. Lauko reikšmės: taip, ne. | AC7: Pildo NMA pagal pareiškėjo kodą. Lauko reikšmės: taip, ne. | AD7: Pildo NMA. Įtraukiamos tik paraiškos, kurių etapas - "Sutarties rengimas" ir "Paramos administravimas" | AE7: Pildo NMA. Pateikiama informacija iš VVG PAK protokolo. | AF7: Pildo NMA. Nurodoma NMA direktoriaus įsakymo data pagal schemą MMM-MM-DD, pavyzdžiui, 2024-10-01 | AG7: Pildo NMA. Pateikiama informacija iš NMA PAK protokolo. | AH7: Pildo NMA. Nurodoma NMA direktoriaus įsakymo data pagal schemą MMM-MM-DD, pavyzdžiui, 2024-10-01 | AI7: Pildo NMA. Nurodoma sutarties data pagal schemą MMM-MM-DD, pavyzdžiui, 2024-10-01 | AJ7: Pildo NMA. Nurodoma galutinio MP gavimo data pagal schemą MMM-MM-DD, pavyzdžiui, 2024-10-01 | AK7: Pildo NMA. Pasirenkami iš sąrašo 1 MP apmokėjimo metai, pvz 2024. Nurodomi finansiniai metai, t. y. jei apmokėjimas atliktas pvz. iki 2024-10-15, nurodomi 2024 m, jei apmokėtas pvz.. 2024-10-20, nurodomi 2025 m. | AL7: Pildo NMA. Pasirenkami iš sąrašo galutinio MP pmokėjimo metai, pvz 2024. Nurodomi finansiniai metai, t. y. jei apmokėjimas atliktas pvz. iki 2024-10-15, nurodomi 2024 m, jei apmokėtas pvz.. 2024-10-20, nurodomi 2025 m. | AM7: Pildo NMA (iš paraiškų/ sutarčių) - pildoma visiems patvirtintiems projektams. | AN7: Pildo NMA (iš paraiškų/ sutarčių) - pildoma visiems patvirtintiems projektams. | AO7: Pildo NMA (iš paraiškų/ sutarčių) - pildoma visiems patvirtintiems projektams. | AP7: Pildo NMA (iš paraiškų/ sutarčių) - pildoma visiems patvirtintiems projektams. | AQ7: Pildo NMA (iš paraiškų/ sutarčių) - pildoma visiems patvirtintiems projektams. | AR7: Pildo NMA (iš paraiškų/ sutarčių) - pildoma visiems patvirtintiems projektams. | AS7: Pildo NMA (iš paraiškų/ sutarčių) - pildoma visiems patvirtintiems projektams. | AT7: Pildo NMA (iš paraiškų/ sutarčių) - pildoma visiems patvirtintiems projektams. | AU7: Pildo NMA (iš paraiškų/ sutarčių) - pildoma visiems patvirtintiems projektams. | AV7: Pildo NMA (iš paraiškų/ sutarčių) - pildoma visiems patvirtintiems projektams. | AW7: Pildo NMA (pildoma kai apmokamas 1 MP. Pastaba, jei apmokėjimas atliktas pvz. iki 2024-10-15, rodiklio pasiekimas užskaitomas 2024 m, jei vėliau, keliamas į 2025 m | AX7: Pildo NMA (pildoma kai apmokamas 1 MP. Pastaba, jei apmokėjimas atliktas pvz. iki 2024-10-15, rodiklio pasiekimas užskaitomas 2024 m, jei vėliau, keliamas į 2025 m | AY7: Pildo NMA (pildoma kai apmokamas galutinis MP. Pastaba, jei apmokėjimas atliktas pvz. iki 2024-10-15, rodiklio pasiekimas užskaitomas 2024 m, jei vėliau, keliamas į 2025 m | AZ7: Pildo NMA (pildoma kai apmokamas 1 MP. Pastaba, jei apmokėjimas atliktas pvz. iki 2024-10-15, rodiklio pasiekimas užskaitomas 2024 m, jei vėliau, keliamas į 2025 m | BA7: Pildo NMA (pildoma kai apmokamas 1 MP. Pastaba, jei apmokėjimas atliktas pvz. iki 2024-10-15, rodiklio pasiekimas užskaitomas 2024 m, jei vėliau, keliamas į 2025 m | BB7: Pildo NMA (pildoma kai apmokamas 1 MP. Pastaba, jei apmokėjimas atliktas pvz. iki 2024-10-15, rodiklio pasiekimas užskaitomas 2024 m, jei vėliau, keliamas į 2025 m | BC7: Pildo NMA (pildoma kai apmokamas 1 MP. Pastaba, jei apmokėjimas atliktas pvz. iki 2024-10-15, rodiklio pasiekimas užskaitomas 2024 m, jei vėliau, keliamas į 2025 m | BD7: Pildo NMA (pildoma kai apmokamas 1 MP. Pastaba, jei apmokėjimas atliktas pvz. iki 2024-10-15, rodiklio pasiekimas užskaitomas 2024 m, jei vėliau, keliamas į 2025 m | BE7: Pildo NMA (pildoma kai apmokamas 1 MP. Pastaba, jei apmokėjimas atliktas pvz. iki 2024-10-15, rodiklio pasiekimas užskaitomas 2024 m, jei vėliau, keliamas į 2025 m | BF7: Pildo NMA (pildoma kai apmokamas 1 MP. Pastaba, jei apmokėjimas atliktas pvz. iki 2024-10-15, rodiklio pasiekimas užskaitomas 2024 m, jei vėliau, keliamas į 2025 m | BG7: Užsipildo automatiškai pagal F stulpelį | BH7: Užsipildo automatiškai pagal AF stulpelį | BI7: Užsipildo automatiškai pagal AH stulpelį | BJ7: Užsipildo automatiškai pagal AI stulpelį | BK7: Užsipildo automatiškai pagal AJ stilpelį | BL7: Užsipildo automatiškai pagal AK stilpelį | BM7: Užsipildo automatiškai pagal AL stilpelį | BN7: Užsipildo automatiškai | BO7: Užsipildo automatiškai | BP7: Užsipildo automatiškai | BQ7: Užsipildo automatiškai | BR7: Užsipildo automatiškai | BS7: Užsipildo automatiškai
B8: 1 | C8: 2 | D8: 3 | E8: 4 | F8: 5 | G8: 6 | H8: 7 | I8: 8 | J8: 9 | K8: 10 | L8: 11 | M8: 12 | N8: 13 | O8: 14 | P8: 15 | Q8: 16 | R8: 17 | S8: 18 | T8: 19 | U8: 20 | V8: 21 | W8: 22 | X8: 23 | Y8: 24 | Z8: 25 | AA8: 26 | AB8: 27 | AC8: 28 | AD8: 29 | AE8: 30 | AF8: 31 | AG8: 32 | AH8: 33 | AI8: 34 | AJ8: 35 | AK8: 36 | AL8: 37 | AM8: 38 | AN8: 39 | AO8: 40 | AP8: 41 | AQ8: 42 | AR8: 43 | AS8: 44 | AT8: 45 | AU8: 46 | AV8: 47 | AW8: 48 | AX8: 49 | AY8: 50 | AZ8: 51 | BA8: 52 | BB8: 53 | BC8: 54 | BD8: 55 | BE8: 56 | BF8: 57 | BG8: 58 | BH8: 59 | BI8: 60 | BJ8: 61 | BK8: 62 | BL8: 63 | BM8: 64 | BN8: 65 | BO8: 66 | BP8: 67 | BQ8: 68 | BR8: 69 | BS8: 70
A9: Kas pildo | B9: automatiškai | C9: automatiškai | D9: NMA | E9: NMA | F9: NMA | G9: NMA | H9: NMA | I9: NMA | J9: NMA | K9: NMA | L9: NMA | M9: NMA | N9: NMA | O9: NMA | P9: NMA | Q9: NMA | R9: NMA | S9: NMA | T9: NMA | U9: NMA | V9: NMA | W9: NMA | X9: NMA | Y9: NMA | Z9: NMA | AA9: NMA | AB9: NMA | AC9: NMA | AD9: NMA | AE9: NMA | AF9: NMA | AG9: NMA | AH9: NMA | AI9: NMA | AJ9: NMA | AK9: NMA | AL9: NMA | AM9: NMA | AN9: NMA | AO9: NMA | AP9: NMA | AQ9: NMA | AR9: NMA | AS9: NMA | AT9: NMA | AU9: NMA | AV9: NMA | AW9: NMA | AX9: NMA | AY9: NMA | AZ9: NMA | BA9: NMA | BB9: NMA | BC9: NMA | BD9: NMA | BE9: NMA | BF9: NMA | BG9: automatiškai | BH9: automatiškai | BI9: automatiškai | BJ9: automatiškai | BK9: automatiškai | BL9: automatiškai | BM9: automatiškai | BN9: automatiškai | BO9: automatiškai | BP9: automatiškai | BQ9: automatiškai | BR9: automatiškai | BS9: automatiškai
A10: Iš kur duomenys | B10: formulė | C10: formulė | D10: iš sistemos | E10: iš sistemos | F10: iš sistemos | G10: iš sistemos | H10: iš sistemos | I10: iš sistemos | J10: iš sistemos | K10: iš sistemos | L10: iš sistemos | M10: iš sistemos | N10: iš sistemos | O10: ranka | P10: ranka | Q10: ranka | R10: iš sistemos | S10: iš sistemos | T10: iš sistemos | U10: iš sistemos | V10: iš sistemos | W10: iš sistemos | X10: iš sistemos | Y10: iš sistemos | Z10: iš sistemos | AA10: iš sistemos | AB10: iš sistemos | AC10: iš sistemos | AD10: iš sistemos | AE10: iš sistemos | AF10: iš sistemos | AG10: iš sistemos | AH10: iš sistemos | AI10: iš sistemos | AJ10: iš sistemos | AK10: ranka | AL10: ranka | AM10: iš sistemos | AN10: iš sistemos | AO10: iš sistemos | AP10: iš sistemos | AQ10: iš sistemos | AR10: iš sistemos | AS10: iš sistemos | AT10: iš sistemos | AU10: iš sistemos | AV10: iš sistemos | AW10: iš sistemos | AX10: iš sistemos | AY10: iš sistemos | AZ10: iš sistemos | BA10: iš sistemos | BB10: iš sistemos | BC10: iš sistemos | BD10: iš sistemos | BE10: iš sistemos | BF10: iš sistemos | BG10: formulė | BH10: formulė | BI10: formulė | BJ10: formulė | BK10: formulė | BL10: formulė | BM10: formulė | BN10: formulė | BO10: formulė | BP10: formulė | BQ10: formulė | BR10: formulė | BS10: formulė
B11: =VLOOKUP(E11,'VPS1'!$J$10:$J$29,1,FALSE) -> MAŽE-LEADER-20VVG-03-04 | C11: =LEFT(E11,4) -> MAŽE | D11: Šiaurės vakarų Lietuvos vietos veiklos grupė | E11: MAŽE-LEADER-20VVG-03-04 | F11: 45548 | G11: Valdas Stancevičius | I11: MAZE-LEADER-03-1-1 | J11: 20VS-PV-24-2-06272 | K11: Mobilių technikos ir kitų transporto priemonių remonto paslaugų teikimas Mažeikių rajone | L11: 44486.18 | M11: EŽŪFKP | N11: fizinis asmuo | O11: fizinis asmuo | P11: taip | Q11: taip | AD11: išregistruota | AE11: 85 | AF11: 45565 | AG11: 0 | AH11: 45622 | AI11: 45666 | BG11: =IF($F11>0,YEAR($F11),) -> 2024 | BH11: =IF($AF11>0,YEAR($AF11),) -> 2024 | BI11: =IF($AH11>0,YEAR($AH11),) -> 2024 | BJ11: =IF($AI11>0,YEAR($AI11),) -> 2025 | BK11: =IF($AJ11>0,YEAR($AJ11),) -> 0 | BL11: =IF($AK11>0,$AK11,) -> 0 | BM11: =IF($AL11>0,$AL11,) -> 0 | BN11: =IF(BH11>0,"taip","ne") -> taip | BO11: =IF(BI11>0,"taip","ne") -> taip | BP11: =IF(BJ11>0,"taip","ne") -> taip | BQ11: =IF(BL11>0,"taip","ne") -> ne | BR11: =IF(BM11>0,"taip","ne") -> ne | BS11: =IF(BK11>0,"taip","ne") -> ne
B12: =VLOOKUP(E12,'VPS1'!$J$10:$J$29,1,FALSE) -> MAŽE-LEADER-20VVG-03-04 | C12: =LEFT(E12,4) -> MAŽE | D12: Šiaurės vakarų Lietuvos vietos veiklos grupė | E12: MAŽE-LEADER-20VVG-03-04 | F12: 45548 | G12: UAB Eko.Logiškas | H12: 302310591 | I12: MAŽE-LEADER-03-1-2 | J12: 20VS-PV-24-2-06273 | K12: Inovatyvi natūralių, alternatyvos neturinčių, produktų gamyba | L12: 57661.97 | M12: EŽŪFKP | N12: juridinis asmuo | O12: MVĮ | P12: =IF($N12="fizinis asmuo","užpildykite","nepildyti") -> nepildyti | Q12: =IF($N12="fizinis asmuo","užpildykite","nepildyti") -> nepildyti | AD12: išregistruota | AE12: 85 | AF12: 45565 | AG12: 0 | AH12: 45615 | BG12: =IF($F12>0,YEAR($F12),) -> 2024 | BH12: =IF($AF12>0,YEAR($AF12),) -> 2024 | BI12: =IF($AH12>0,YEAR($AH12),) -> 2024 | BJ12: =IF($AI12>0,YEAR($AI12),) -> 0 | BK12: =IF($AJ12>0,YEAR($AJ12),) -> 0 | BL12: =IF($AK12>0,$AK12,) -> 0 | BM12: =IF($AL12>0,$AL12,) -> 0 | BN12: =IF(BH12>0,"taip","ne") -> taip | BO12: =IF(BI12>0,"taip","ne") -> taip | BP12: =IF(BJ12>0,"taip","ne") -> ne | BQ12: =IF(BL12>0,"taip","ne") -> ne | BR12: =IF(BM12>0,"taip","ne") -> ne | BS12: =IF(BK12>0,"taip","ne") -> ne
B13: =VLOOKUP(E13,'VPS1'!$J$10:$J$29,1,FALSE) -> MAŽE-LEADER-20VVG-09-03 | C13: MAŽE | D13: Šiaurės vakarų Lietuvos vietos veiklos grupė | E13: MAŽE-LEADER-20VVG-09-03 | F13: 45615 | G13: Asociacija "Kuriame kartu" | H13: 304031708 | I13: MAZE-LEADER-09-2-1 | J13: 20VS-PV-24-2-07909 | K13: Bendruomenės ryšių, aktyvumo, iniciatyvumo bei socialinio atsakingumo skatinimas | L13: 4946.78 | M13: EŽŪFKP | N13: juridinis asmuo | O13: NVO | P13: =IF($N13="fizinis asmuo","užpildykite","nepildyti") -> nepildyti | Q13: =IF($N13="fizinis asmuo","užpildykite","nepildyti") -> nepildyti | AD13: išregistruota | AE13: 100 | AF13: 45630 | AG13: 0 | AH13: 45630 | AI13: 45630 | BG13: =IF($F13>0,YEAR($F13),) -> 2024 | BH13: =IF($AF13>0,YEAR($AF13),) -> 2024 | BI13: =IF($AH13>0,YEAR($AH13),) -> 2024 | BJ13: =IF($AI13>0,YEAR($AI13),) -> 2024 | BK13: =IF($AJ13>0,YEAR($AJ13),) -> 0 | BL13: =IF($AK13>0,$AK13,) -> 0 | BM13: =IF($AL13>0,$AL13,) -> 0 | BN13: =IF(BH13>0,"taip","ne") -> taip | BO13: =IF(BI13>0,"taip","ne") -> taip | BP13: =IF(BJ13>0,"taip","ne") -> taip | BQ13: =IF(BL13>0,"taip","ne") -> ne | BR13: =IF(BM13>0,"taip","ne") -> ne | BS13: =IF(BK13>0,"taip","ne") -> ne
B14: =VLOOKUP(E14,'VPS1'!$J$10:$J$29,1,FALSE) -> MAŽE-LEADER-20VVG-09-03 | C14: MAŽE | D14: Šiaurės vakarų Lietuvos vietos veiklos grupė | E14: MAŽE-LEADER-20VVG-09-03 | F14: 45615 | G14: Mažeikių autizmo asociacija "Lietaus vaikai" | H14: 305186533 | I14: MAZE-LEADER-09-2-2 | J14: 20VS-PV-24-2-07911 | K14: Pasiimk tvarų puodelį į pažintį su gamta | L14: 19999.88 | M14: EŽŪFKP | N14: juridinis asmuo | O14: NVO | P14: =IF($N14="fizinis asmuo","užpildykite","nepildyti") -> nepildyti | Q14: =IF($N14="fizinis asmuo","užpildykite","nepildyti") -> nepildyti | R14: Taip | S14: Taip | X14: Taip | AC14: Taip | AD14: paramos administravimas | AE14: 100 | AF14: 45630 | AG14: 20000 | AH14: 45737 | AI14: 45737 | AK14: 2026 | AR14: 400 | AS14: 20 | BB14: 400 | BG14: =IF($F14>0,YEAR($F14),) -> 2024 | BH14: =IF($AF14>0,YEAR($AF14),) -> 2024 | BI14: =IF($AH14>0,YEAR($AH14),) -> 2025 | BJ14: =IF($AI14>0,YEAR($AI14),) -> 2025 | BK14: =IF($AJ14>0,YEAR($AJ14),) -> 0 | BL14: =IF($AK14>0,$AK14,) -> 2026 | BM14: =IF($AL14>0,$AL14,) -> 0 | BN14: =IF(BH14>0,"taip","ne") -> taip | BO14: =IF(BI14>0,"taip","ne") -> taip | BP14: =IF(BJ14>0,"taip","ne") -> taip | BQ14: =IF(BL14>0,"taip","ne") -> taip | BR14: =IF(BM14>0,"taip","ne") -> ne | BS14: =IF(BK14>0,"taip","ne") -> ne
B15: =VLOOKUP(E15,'VPS1'!$J$10:$J$29,1,FALSE) -> MAŽE-LEADER-20VVG-09-03 | C15: MAŽE | D15: Šiaurės vakarų Lietuvos vietos veiklos grupė | E15: MAŽE-LEADER-20VVG-09-03 | F15: 45615 | G15: Biudžetinė įstaiga "Mažeikių rajono Renavo dvaras" | H15: 303212367 | I15: MAZE-LEADER-09-2-3 | J15: 20VS-PV-24-2-07912 | K15: Gyventi ir kurti dermėje su gamta | L15: 20276 | M15: EŽŪFKP | N15: juridinis asmuo | O15: BĮ | P15: =IF($N15="fizinis asmuo","užpildykite","nepildyti") -> nepildyti | Q15: =IF($N15="fizinis asmuo","užpildykite","nepildyti") -> nepildyti | R15: Taip | S15: Taip | X15: Taip | AC15: Taip | AD15: paramos administravimas | AE15: 100 | AF15: 45630 | AG15: 20276 | AH15: 45708 | AI15: 45708 | AJ15: 45975 | AK15: 2025 | AL15: 2025 | AR15: 250 | AS15: 15 | BB15: 250 | BC15: 15 | BG15: =IF($F15>0,YEAR($F15),) -> 2024 | BH15: =IF($AF15>0,YEAR($AF15),) -> 2024 | BI15: =IF($AH15>0,YEAR($AH15),) -> 2025 | BJ15: =IF($AI15>0,YEAR($AI15),) -> 2025 | BK15: =IF($AJ15>0,YEAR($AJ15),) -> 2025 | BL15: =IF($AK15>0,$AK15,) -> 2025 | BM15: =IF($AL15>0,$AL15,) -> 2025 | BN15: =IF(BH15>0,"taip","ne") -> taip | BO15: =IF(BI15>0,"taip","ne") -> taip | BP15: =IF(BJ15>0,"taip","ne") -> taip | BQ15: =IF(BL15>0,"taip","ne") -> taip | BR15: =IF(BM15>0,"taip","ne") -> taip | BS15: =IF(BK15>0,"taip","ne") -> taip
B16: =VLOOKUP(E16,'VPS1'!$J$10:$J$29,1,FALSE) -> MAŽE-LEADER-20VVG-03-04 | C16: MAŽE | D16: Šiaurės vakarų Lietuvos vietos veiklos grupė | E16: MAŽE-LEADER-20VVG-03-04 | F16: 45733 | G16: UAB "ŽELMANTA" | H16: 305717158 | I16: MAŽE-LEADER-03-3-1 | J16: 20VS-PV-25-2-01040 | K16: UAB "ŽELMENTA" VERSLO PLĖTRA | L16: 100000 | M16: EŽŪFKP | N16: juridinis asmuo | O16: MVĮ | P16: =IF($N16="fizinis asmuo","užpildykite","nepildyti") -> nepildyti | Q16: =IF($N16="fizinis asmuo","užpildykite","nepildyti") -> nepildyti | S16: Taip | X16: Taip | Y16: Taip | Z16: Taip | AB16: Taip | AD16: paramos administravimas | AE16: 65 | AF16: 45762 | AG16: 100000 | AH16: 45847 | AI16: 45929 | AK16: 2026 | AO16: 2 | AQ16: 1 | AR16: 8 | BB16: 8 | BG16: =IF($F16>0,YEAR($F16),) -> 2025 | BH16: =IF($AF16>0,YEAR($AF16),) -> 2025 | BI16: =IF($AH16>0,YEAR($AH16),) -> 2025 | BJ16: =IF($AI16>0,YEAR($AI16),) -> 2025 | BK16: =IF($AJ16>0,YEAR($AJ16),) -> 0 | BL16: =IF($AK16>0,$AK16,) -> 2026 | BM16: =IF($AL16>0,$AL16,) -> 0 | BN16: =IF(BH16>0,"taip","ne") -> taip | BO16: =IF(BI16>0,"taip","ne") -> taip | BP16: =IF(BJ16>0,"taip","ne") -> taip | BQ16: =IF(BL16>0,"taip","ne") -> taip | BR16: =IF(BM16>0,"taip","ne") -> ne | BS16: =IF(BK16>0,"taip","ne") -> ne
B17: =VLOOKUP(E17,'VPS1'!$J$10:$J$29,1,FALSE) -> MAŽE-LEADER-20VVG-03-04 | C17: MAŽE | D17: Šiaurės vakarų Lietuvos vietos veiklos grupė | E17: MAŽE-LEADER-20VVG-03-04 | F17: 45740 | G17: Saulė Bruklytė | I17: MAŽE-LEADER-03-3-2 | J17: 20VS-PV-25-2-01041 | K17: Saulės Bruklytės verslo įkūrimas | L17: 10754.25 | M17: EŽŪFKP | N17: fizinis asmuo | O17: fizinis asmuo | P17: ne | Q17: taip | S17: Taip | X17: Taip | Y17: Taip | Z17: Taip | AB17: Taip | AD17: paramos administravimas | AE17: 40 | AF17: 45762 | AG17: 10754 | AH17: 45849 | AI17: 45863 | AJ17: 45960 | AK17: 2025 | AL17: 2025 | AO17: 1 | AP17: 1 | AR17: 30 | AY17: 1 | AZ17: 1 | BB17: 30 | BG17: =IF($F17>0,YEAR($F17),) -> 2025 | BH17: =IF($AF17>0,YEAR($AF17),) -> 2025 | BI17: =IF($AH17>0,YEAR($AH17),) -> 2025 | BJ17: =IF($AI17>0,YEAR($AI17),) -> 2025 | BK17: =IF($AJ17>0,YEAR($AJ17),) -> 2025 | BL17: =IF($AK17>0,$AK17,) -> 2025 | BM17: =IF($AL17>0,$AL17,) -> 2025 | BN17: =IF(BH17>0,"taip","ne") -> taip | BO17: =IF(BI17>0,"taip","ne") -> taip | BP17: =IF(BJ17>0,"taip","ne") -> taip | BQ17: =IF(BL17>0,"taip","ne") -> taip | BR17: =IF(BM17>0,"taip","ne") -> taip | BS17: =IF(BK17>0,"taip","ne") -> taip
B18: =VLOOKUP(E18,'VPS1'!$J$10:$J$29,1,FALSE) -> MAŽE-LEADER-20VVG-03-04 | C18: MAŽE | D18: Šiaurės vakarų Lietuvos vietos veiklos grupė | E18: MAŽE-LEADER-20VVG-03-04 | F18: 45740 | G18: UAB "GODMINA" | H18: 303997875 | I18: MAŽE-LEADER-03-3-6 | J18: 20VS-PV-25-2-01048 | K18: Transporto priemonių techninės priežiūros ir remonto paslaugų plėtra Mažeikių rajone | L18: 99317.28 | M18: EŽŪFKP | N18: juridinis asmuo | O18: MVĮ | P18: =IF($N18="fizinis asmuo","užpildykite","nepildyti") -> nepildyti | Q18: =IF($N18="fizinis asmuo","užpildykite","nepildyti") -> nepildyti | S18: Taip | X18: Taip | Y18: Taip | Z18: Taip | AB18: Taip | AD18: paramos administravimas | AE18: 90 | AF18: 45762 | AG18: 99317 | AH18: 45863 | AI18: 45881 | AK18: 2026 | AO18: 3 | AQ18: 1 | AR18: 8 | BB18: 8 | BG18: =IF($F18>0,YEAR($F18),) -> 2025 | BH18: =IF($AF18>0,YEAR($AF18),) -> 2025 | BI18: =IF($AH18>0,YEAR($AH18),) -> 2025 | BJ18: =IF($AI18>0,YEAR($AI18),) -> 2025 | BK18: =IF($AJ18>0,YEAR($AJ18),) -> 0 | BL18: =IF($AK18>0,$AK18,) -> 2026 | BM18: =IF($AL18>0,$AL18,) -> 0 | BN18: =IF(BH18>0,"taip","ne") -> taip | BO18: =IF(BI18>0,"taip","ne") -> taip | BP18: =IF(BJ18>0,"taip","ne") -> taip | BQ18: =IF(BL18>0,"taip","ne") -> taip | BR18: =IF(BM18>0,"taip","ne") -> ne | BS18: =IF(BK18>0,"taip","ne") -> ne
B19: =VLOOKUP(E19,'VPS1'!$J$10:$J$29,1,FALSE) -> MAŽE-LEADER-20VVG-03-04 | C19: MAŽE | D19: Šiaurės vakarų Lietuvos vietos veiklos grupė | E19: MAŽE-LEADER-20VVG-03-04 | F19: 45740 | G19: UAB "STATERAS" | H19: 304828643 | I19: MAŽE-LEADER-03-3-7 | J19: 20VS-PV-25-2-01049 | K19: UAB "Stateras" verslo plėtra" | L19: 100000 | M19: EŽŪFKP | N19: juridinis asmuo | O19: MVĮ | P19: =IF($N19="fizinis asmuo","užpildykite","nepildyti") -> nepildyti | Q19: =IF($N19="fizinis asmuo","užpildykite","nepildyti") -> nepildyti | S19: Taip | X19: Taip | Y19: Taip | Z19: Taip | AD19: paramos administravimas | AE19: 80 | AF19: 45762 | AG19: 100000 | AH19: 45828 | AI19: 45862 | AK19: 2025 | AO19: 3 | AQ19: 1 | AR19: 8 | BA19: 1 | BB19: 8 | BG19: =IF($F19>0,YEAR($F19),) -> 2025 | BH19: =IF($AF19>0,YEAR($AF19),) -> 2025 | BI19: =IF($AH19>0,YEAR($AH19),) -> 2025 | BJ19: =IF($AI19>0,YEAR($AI19),) -> 2025 | BK19: =IF($AJ19>0,YEAR($AJ19),) -> 0 | BL19: =IF($AK19>0,$AK19,) -> 2025 | BM19: =IF($AL19>0,$AL19,) -> 0 | BN19: =IF(BH19>0,"taip","ne") -> taip | BO19: =IF(BI19>0,"taip","ne") -> taip | BP19: =IF(BJ19>0,"taip","ne") -> taip | BQ19: =IF(BL19>0,"taip","ne") -> taip | BR19: =IF(BM19>0,"taip","ne") -> ne | BS19: =IF(BK19>0,"taip","ne") -> ne
B20: MAŽE-LEADER-20VVG-03-04 | C20: MAŽE | D20: Šiaurės vakarų Lietuvos vietos veiklos grupė | E20: MAŽE-LEADER-20VVG-03-04 | F20: 45740 | G20: Arvydas Daukantas | I20: MAŽE-LEADER-03-3-3 | J20: 20VS-PV-25-2-01042 | K20: AD verslo pradžia | L20: 99770.15 | M20: EŽŪFKP | N20: fizinis asmuo | O20: fizinis asmuo | P20: =IF($N20="fizinis asmuo","užpildykite","nepildyti") -> užpildykite | Q20: =IF($N20="fizinis asmuo","užpildykite","nepildyti") -> užpildykite | AD20: Atmesta | AE20: 70 | AF20: 45762 | AG20: 0 | BG20: 2025 | BH20: 2025
B21: MAŽE-LEADER-20VVG-03-04 | C21: MAŽE | D21: Šiaurės vakarų Lietuvos vietos veiklos grupė | E21: MAŽE-LEADER-20VVG-03-04 | F21: 45740 | G21: MB "TV namas" | H21: 307125027 | I21: MAŽE-LEADER-03-3-4 | J21: 20VS-PV-25-2-01043 | K21: MB "Tv namas" verslo įkūrimas | L21: 10838.59 | M21: EŽŪFKP | N21: juridinis asmuo | O21: MVĮ | P21: =IF($N21="fizinis asmuo","užpildykite","nepildyti") -> nepildyti | Q21: =IF($N21="fizinis asmuo","užpildykite","nepildyti") -> nepildyti | AD21: Išregistruota | AE21: 50 | AF21: 45762 | AG21: 0 | AH21: 45847 | BG21: 2025 | BH21: 2025
B22: MAŽE-LEADER-20VVG-03-04 | C22: MAŽE | D22: Šiaurės vakarų Lietuvos vietos veiklos grupė | E22: MAŽE-LEADER-20VVG-03-04 | F22: 45740 | G22: UAB SB SERVICE | H22: 302723177 | I22: MAŽE-LEADER-03-3-8 | J22: 20VS-PV-25-2-02925 | K22: UAB SB SERVICE aplinkai palankaus verslo plėtra | L22: 100000 | M22: EŽŪFKP | N22: juridinis asmuo | O22: MVĮ | P22: =IF($N22="fizinis asmuo","užpildykite","nepildyti") -> nepildyti | Q22: =IF($N22="fizinis asmuo","užpildykite","nepildyti") -> nepildyti | R22: Taip | S22: Taip | X22: Taip | Y22: Taip | Z22: Taip | AB22: Taip | AD22: paramos administravimas | AE22: 100 | AF22: 45838 | AG22: 100000 | AH22: 46052 | AO22: 3 | AQ22: 1 | AR22: 491 | BG22: 2025 | BH22: 2025
B23: =VLOOKUP(E23,'VPS1'!$J$10:$J$29,1,FALSE) -> MAŽE-LEADER-20VVG-08-01 | C23: MAŽE | D23: Šiaurės vakarų Lietuvos vietos veiklos grupė | E23: MAŽE-LEADER-20VVG-08-01 | F23: 45755 | G23: MAŽEIKIŲ RAJONO SAVIVALDYBĖS ADMINISTRACIJA | H23: 167371234 | I23: MAŽE-LEADER-08-4-1 | J23: 20VS-PV-25-2-01096 | K23: Tvarios kultūros veiklų erdvės, skatinančios socialinę įtrauktį, gyventojų sveikatingumą ir kultūros paslaugų prieinamumą, sukūrimas Viekšnių mieste | L23: 100000 | M23: EŽŪFKP | N23: juridinis asmuo | O23: BĮ | P23: =IF($N23="fizinis asmuo","užpildykite","nepildyti") -> nepildyti | Q23: =IF($N23="fizinis asmuo","užpildykite","nepildyti") -> nepildyti | R23: Taip | S23: Taip | X23: Taip | AB23: Taip | AC23: Taip | AD23: paramos administravimas | AE23: 40 | AF23: 45762 | AG23: 100000 | AH23: 45874 | AI23: 45943 | AR23: 450 | AS23: 15 | BG23: =IF($F23>0,YEAR($F23),) -> 2025 | BH23: =IF($AF23>0,YEAR($AF23),) -> 2025 | BI23: =IF($AH23>0,YEAR($AH23),) -> 2025 | BJ23: =IF($AI23>0,YEAR($AI23),) -> 2025 | BK23: =IF($AJ23>0,YEAR($AJ23),) -> 0 | BL23: =IF($AK23>0,$AK23,) -> 0 | BM23: =IF($AL23>0,$AL23,) -> 0 | BN23: =IF(BH23>0,"taip","ne") -> taip | BO23: =IF(BI23>0,"taip","ne") -> taip | BP23: =IF(BJ23>0,"taip","ne") -> taip | BQ23: =IF(BL23>0,"taip","ne") -> ne | BR23: =IF(BM23>0,"taip","ne") -> ne | BS23: =IF(BK23>0,"taip","ne") -> ne
B24: =VLOOKUP(E24,'VPS1'!$J$10:$J$29,1,FALSE) -> MAŽE-LEADER-20VVG-09-03 | C24: MAŽE | D24: Šiaurės vakarų Lietuvos vietos veiklos grupė | E24: MAŽE-LEADER-20VVG-09-03 | F24: 45761 | G24: VŠĮ "MES DU" | H24: 307122344 | I24: MAŽE-LEADER-09-5-2 | J24: 20VS-PV-25-2-01214 | K24: Tvarumas man tinka | L24: 15568.64 | M24: EŽŪFKP | N24: juridinis asmuo | O24: NVO | P24: =IF($N24="fizinis asmuo","užpildykite","nepildyti") -> nepildyti | Q24: =IF($N24="fizinis asmuo","užpildykite","nepildyti") -> nepildyti | R24: Taip | S24: Taip | X24: Taip | AC24: Taip | AD24: paramos administravimas | AE24: 90 | AF24: 45783 | AG24: 15499 | AH24: 45859 | AI24: 45859 | AK24: 2025 | AR24: 120 | AS24: 7 | BB24: 120 | BG24: =IF($F24>0,YEAR($F24),) -> 2025 | BH24: =IF($AF24>0,YEAR($AF24),) -> 2025 | BI24: =IF($AH24>0,YEAR($AH24),) -> 2025 | BJ24: =IF($AI24>0,YEAR($AI24),) -> 2025 | BK24: =IF($AJ24>0,YEAR($AJ24),) -> 0 | BL24: =IF($AK24>0,$AK24,) -> 2025 | BM24: =IF($AL24>0,$AL24,) -> 0 | BN24: =IF(BH24>0,"taip","ne") -> taip | BO24: =IF(BI24>0,"taip","ne") -> taip | BP24: =IF(BJ24>0,"taip","ne") -> taip | BQ24: =IF(BL24>0,"taip","ne") -> taip | BR24: =IF(BM24>0,"taip","ne") -> ne | BS24: =IF(BK24>0,"taip","ne") -> ne
