Workbook

Sheet VPS1
A1: A3 | B1: VPS duomenys: Informacija apie VPS priemones/ veiklos sritis
G2: Vietos plėtros strategijų, įgyvendinamų bendruomenių inicijuotos vietos plėtros būdu, administravimo taisyklių 2 priedo ir 3 priedo priedas
A3: NMA vaidmuo: | B3: Užpildo lentelę. I-J stulpelių eilutės nepildomos, jei priemonė turi veiklos sričių (C stulpelyje tipas 1).
A4: VVG vaidmuo: | B4: Patikrina lentelės duomenis.
A6: VVG ir priemonės/veiklos srities kodas | B6: VVG | C6: Tipas | D6: VPS priemonės/ veiklos srities pavadinimas | E6: VPS priemonės/ veiklos srities kodas | F6: Vietos projektams įgyvendinti numatyta lėšų suma, Eur | G6: Finansavimo šaltinis | H6: VPS prioritetas | I6: Siekama sukurti naujų darbo vietų | J6: Siekiama paremti vietos projektų
A7: Užsipildo automatiškai | B7: Nurodomas VVG pavadinimo trumpinys (4 raidės) | C7: Nurodomas skaičius nuo 1 iki 3, kur: 1 - priemonė, turinti veiklos sričių; 2 - veiklos sritis; 3 - priemonė, neturinti veiklos sričių | D7: Pateikiamas VPS priemonių ir jų veiklos sričių sąrašas iš VPS 5 dalies "VPS prioritetai, priemonės ir veiklos sritys". Nereikalingos eilutės paliekamos tuščios. | E7: Nurodomas priemonės/ VPS veiklos srities kodas (taip, kaip nurodyta lape "Kodai_priem" E stulpelyje). Be tarpelių prieš ir po kodo bei tarp kodo simbolių | F7: Pateikiama informacija iš VPS 11 dalies "VPS finansinis planas". Kaip įvesti sumas žr. 4 eilutę lape "Instrukcija". Priemonės eilutė nepildoma, jei priemonė turi veiklos sričių | G7: Nurodomas vienas iš dviejų fondų: EŽŪFKP arba EJRŽF | H7: Nurodomas skaičius romėniškais skaitmenimis iš VPS 5 dalies | I7: Pateikiama informacija iš VPS 9 dalies (VPS priemonių/ veiklos sričių lygiu) | J7: Pateikiama informacija iš VPS 12 dalies (VPS priemonių/ veiklos sričių lygiu, mokymų projektų neskirstant pagal temą)
B8: Iš viso | F8: =SUM(F9:F33) -> 2114412 | I8: =SUM(I9:I33) -> 35 | J8: =SUM(J9:J33) -> 46
A9: =CONCATENATE(LEFT(B9,4),"-",E9) -> MAŽE-LEADER-19.2-6 | B9: MAŽE | C9: 1 | D9: Priemonė „Ūkio ir verslo plėtra“ | E9: LEADER-19.2-6 | G9: EŽŪFKP
A10: =CONCATENATE(LEFT(B10,4),"-",E10) -> MAŽE-LEADER-19.2-6.2 | B10: MAŽE | C10: 2 | D10: - veiklos sritis „Parama ne žemės ūkio verslui kaimo vietovėse pradėti “ | E10: LEADER-19.2-6.2 | F10: 292679 | G10: EŽŪFKP | H10: I | I10: 6 | J10: 6
A11: =CONCATENATE(LEFT(B11,4),"-",E11) -> MAŽE-LEADER-19.2-6.4 | B11: MAŽE | C11: 2 | D11: - veiklos sritis „Parama ne žemės ūkio verslui kaimo vietovėse plėtoti “ | E11: LEADER-19.2-6.4 | F11: 1164588 | G11: EŽŪFKP | H11: I | I11: 26 | J11: 16
A12: =CONCATENATE(LEFT(B12,4),"-",E12) -> MAŽE-LEADER-19.2-4 | B12: MAŽE | C12: 1 | D12: Priemonė „Investicijos j materialųjį turtą“ | E12: LEADER-19.2-4 | G12: EŽŪFKP
A13: =CONCATENATE(LEFT(B13,4),"-",E13) -> MAŽE-LEADER-19.2-4.2 | B13: MAŽE | C13: 2 | D13: - veiklos sritis „Parama žemės ūkio produktų perdirbimui, rinkodarai ir (arba) plėtrai “ | E13: LEADER-19.2-4.2 | F13: 0 | G13: EŽŪFKP | H13: I | I13: 0 | J13: 0
A14: =CONCATENATE(LEFT(B14,4),"-",E14) -> MAŽE-LEADER-19.2-SAVA-1 | B14: MAŽE | C14: 3 | D14: Priemonė „NVO socialinio verslo kūrimas ir plėtra“ (kai socialinio verslo iniciatorius - NVO) | E14: LEADER-19.2-SAVA-1 | F14: 163822 | G14: EŽŪFKP | H14: I | I14: 3 | J14: 3
A15: =CONCATENATE(LEFT(B15,4),"-",E15) -> MAŽE-LEADER-19.2-7 | B15: MAŽE | C15: 1 | D15: Priemonė „Pagrindinės paslaugos ir kaimų atnaujinimas kaimo vietovėse“ | E15: LEADER-19.2-7 | G15: EŽŪFKP
A16: =CONCATENATE(LEFT(B16,4),"-",E16) -> MAŽE-LEADER-19.2-7.2 | B16: MAŽE | C16: 2 | D16: - veiklos sritis „Parama investicijoms į visų rūšių mažos apimties infrastruktūrą “ | E16: LEADER-19.2-7.2 | F16: 154815 | G16: EŽŪFKP | H16: II | J16: 3
A17: =CONCATENATE(LEFT(B17,4),"-",E17) -> MAŽE-LEADER-19.2-7.6 | B17: MAŽE | C17: 2 | D17: - veiklos sritis „Parama investicijoms į kaimo kultūros ir gamtos paveldą, kraštovaizdį „ | E17: LEADER-19.2-7.6 | F17: 191192 | G17: EŽŪFKP | H17: II | J17: 4
A18: =CONCATENATE(LEFT(B18,4),"-",E18) -> MAŽE-LEADER-19.2-SAVA-3 | B18: MAŽE | C18: 3 | D18: Priemonė „Vietos projektų pareiškėjų ir vykdytojų mokymas, įgūdžių įgijimas“ (kai mokymai susiję su VPS priemonėmis) | E18: LEADER-19.2-SAVA-3 | F18: 38870 | G18: EŽŪFKP | H18: II | J18: 4
A19: =CONCATENATE(LEFT(B19,4),"-",E19) -> MAŽE-LEADER-19.2-SAVA-4 | B19: MAŽE | C19: 3 | D19: Priemonė „Kultūros savitumo išsaugojimas, tradicijų tęstinumas” | E19: LEADER-19.2-SAVA-4 | F19: 48810 | G19: EŽŪFKP | H19: II | J19: 5
A20: =CONCATENATE(LEFT(B20,4),"-",E20) -> MAŽE-LEADER-19.2-SAVA-5 | B20: MAŽE | C20: 3 | D20: Priemonė „NVO socialinės veiklos skatinimas“ | E20: LEADER-19.2-SAVA-5 | F20: 59636 | G20: EŽŪFKP | H20: II | J20: 5
A21: =CONCATENATE(LEFT(B21,4),"-",E21) -> -
A22: =CONCATENATE(LEFT(B22,4),"-",E22) -> -
A23: =CONCATENATE(LEFT(B23,4),"-",E23) -> -
A24: =CONCATENATE(LEFT(B24,4),"-",E24) -> -
A25: =CONCATENATE(LEFT(B25,4),"-",E25) -> -
A26: =CONCATENATE(LEFT(B26,4),"-",E26) -> -
A27: =CONCATENATE(LEFT(B27,4),"-",E27) -> -
A28: =CONCATENATE(LEFT(B28,4),"-",E28) -> -
A29: =CONCATENATE(LEFT(B29,4),"-",E29) -> -
A30: =CONCATENATE(LEFT(B30,4),"-",E30) -> -
A31: =CONCATENATE(LEFT(B31,4),"-",E31) -> -
A32: =CONCATENATE(LEFT(B32,4),"-",E32) -> -
A33: =CONCATENATE(LEFT(B33,4),"-",E33) -> -

Sheet VPS2.1
A1: A3 | B1: VPS duomenys: Siekiama paremti vietos projektų EŽŪFKP prioritetų ir tikslinių sričių lygiu bei VPS priemonių/ veiklos sričių lygiu
A3: NMA vaidmuo: | B3: Užpildo lentelę. Eilutės nepildomos, jei priemonė turi veiklos sričių (C stulpelyje tipas 1).
A4: VVG vaidmuo: | B4: Patikrina lentelės duomenis.
H6: Paremtų vietos projektų skaičius (vnt.)
H7: EŽŪFKP prioritetai ir tikslinės sritys
A8: VVG ir priemonės/veiklos srities kodas | B8: VVG | C8: Tipas | D8: VPS priemonės/ veiklos srities pavadinimas | E8: VPS priemonės/ veiklos srities kodas | F8: Finansavimo šaltinis | G8: Siekiama paremti vietos projektų | H8: 1A | I8: 1C | J8: 2B | K8: 3A | L8: 4A | M8: 5C | N8: 6A | O8: 6B | P8: 6C
A9: Užsipildo automatiškai pagal lapą VPS1 | B9: Užsipildo automatiškai pagal lapą VPS1 | C9: Užsipildo automatiškai pagal lapą VPS1 | D9: Užsipildo automatiškai pagal lapą VPS1 | E9: Užsipildo automatiškai pagal lapą VPS1 | F9: Užsipildo automatiškai pagal lapą VPS1 | G9: Užsipildo automatiškai (formulė) | H9: Pateikiami duomenys iš VPS 12 dalies. Nurodomas bendras projektų skaičius, neskirstant pagal pareiškėjo tipą (NVO, fizinis asmuo ar pan.) ir mokymų pobūdį (susiję su kompiuterinio raštingumo, verslumo ar pan. mokymais).
B10: Iš viso | G10: =SUM(G11:G35) -> 46 | H10: =SUM(H11:H35) -> 0 | I10: =SUM(I11:I35) -> 4 | J10: =SUM(J11:J35) -> 0 | K10: =SUM(K11:K35) -> 5 | L10: =SUM(L11:L35) -> 0 | M10: =SUM(M11:M35) -> 0 | N10: =SUM(N11:N35) -> 22 | ... P10: =SUM(P11:P35) -> 0
A11: ='VPS1'!A9 -> MAŽE-LEADER-19.2-6 | B11: ='VPS1'!B9 -> MAŽE | C11: ='VPS1'!C9 -> 1 | D11: ='VPS1'!D9 -> Priemonė „Ūkio ir verslo plėtra“ | E11: ='VPS1'!E9 -> LEADER-19.2-6 | F11: ='VPS1'!G9 -> EŽŪFKP | G11: =SUM(H11:P11) -> 0
A12: ='VPS1'!A10 -> MAŽE-LEADER-19.2-6.2 | B12: ='VPS1'!B10 -> MAŽE | C12: ='VPS1'!C10 -> 2 | D12: ='VPS1'!D10 -> - veiklos sritis „Parama ne žemės ūkio verslui kaimo vietovėse pradėti “ | E12: ='VPS1'!E10 -> LEADER-19.2-6.2 | F12: ='VPS1'!G10 -> EŽŪFKP | G12: =SUM(H12:P12) -> 6 | N12: 6
A13: ='VPS1'!A11 -> MAŽE-LEADER-19.2-6.4 | B13: ='VPS1'!B11 -> MAŽE | C13: ='VPS1'!C11 -> 2 | D13: ='VPS1'!D11 -> - veiklos sritis „Parama ne žemės ūkio verslui kaimo vietovėse plėtoti “ | E13: ='VPS1'!E11 -> LEADER-19.2-6.4 | F13: ='VPS1'!G11 -> EŽŪFKP | G13: =SUM(H13:P13) -> 16 | N13: 16
A14: ='VPS1'!A12 -> MAŽE-LEADER-19.2-4 | B14: ='VPS1'!B12 -> MAŽE | C14: ='VPS1'!C12 -> 1 | D14: ='VPS1'!D12 -> Priemonė „Investicijos j materialųjį turtą“ | E14: ='VPS1'!E12 -> LEADER-19.2-4 | F14: ='VPS1'!G12 -> EŽŪFKP | G14: =SUM(H14:P14) -> 0
A15: ='VPS1'!A13 -> MAŽE-LEADER-19.2-4.2 | B15: ='VPS1'!B13 -> MAŽE | C15: ='VPS1'!C13 -> 2 | D15: ='VPS1'!D13 -> - veiklos sritis „Parama žemės ūkio produktų perdirbimui, rinkodarai ir (arba) plėtrai “ | E15: ='VPS1'!E13 -> LEADER-19.2-4.2 | F15: ='VPS1'!G13 -> EŽŪFKP | G15: =SUM(H15:P15) -> 0 | K15: 0
A16: ='VPS1'!A14 -> MAŽE-LEADER-19.2-SAVA-1 | B16: ='VPS1'!B14 -> MAŽE | C16: ='VPS1'!C14 -> 3 | D16: ='VPS1'!D14 -> Priemonė „NVO socialinio verslo kūrimas ir plėtra“ (kai socialinio verslo iniciatorius - NVO) | E16: ='VPS1'!E14 -> LEADER-19.2-SAVA-1 | F16: ='VPS1'!G14 -> EŽŪFKP | G16: =SUM(H16:P16) -> 3 | O16: 3
A17: ='VPS1'!A15 -> MAŽE-LEADER-19.2-7 | B17: ='VPS1'!B15 -> MAŽE | C17: ='VPS1'!C15 -> 1 | D17: ='VPS1'!D15 -> Priemonė „Pagrindinės paslaugos ir kaimų atnaujinimas kaimo vietovėse“ | E17: ='VPS1'!E15 -> LEADER-19.2-7 | F17: ='VPS1'!G15 -> EŽŪFKP | G17: =SUM(H17:P17) -> 0
A18: ='VPS1'!A16 -> MAŽE-LEADER-19.2-7.2 | B18: ='VPS1'!B16 -> MAŽE | C18: ='VPS1'!C16 -> 2 | D18: ='VPS1'!D16 -> - veiklos sritis „Parama investicijoms į visų rūšių mažos apimties infrastruktūrą “ | E18: ='VPS1'!E16 -> LEADER-19.2-7.2 | F18: ='VPS1'!G16 -> EŽŪFKP | G18: =SUM(H18:P18) -> 3 | O18: 3
A19: ='VPS1'!A17 -> MAŽE-LEADER-19.2-7.6 | B19: ='VPS1'!B17 -> MAŽE | C19: ='VPS1'!C17 -> 2 | D19: ='VPS1'!D17 -> - veiklos sritis „Parama investicijoms į kaimo kultūros ir gamtos paveldą, kraštovaizdį „ | E19: ='VPS1'!E17 -> LEADER-19.2-7.6 | F19: ='VPS1'!G17 -> EŽŪFKP | G19: =SUM(H19:P19) -> 4 | O19: 4
A20: ='VPS1'!A18 -> MAŽE-LEADER-19.2-SAVA-3 | B20: ='VPS1'!B18 -> MAŽE | C20: ='VPS1'!C18 -> 3 | D20: ='VPS1'!D18 -> Priemonė „Vietos projektų pareiškėjų ir vykdytojų mokymas, įgūdžių įgijimas“ (kai mokymai susiję su VPS priemonėmis) | E20: ='VPS1'!E18 -> LEADER-19.2-SAVA-3 | F20: ='VPS1'!G18 -> EŽŪFKP | G20: =SUM(H20:P20) -> 4 | I20: 4
A21: ='VPS1'!A19 -> MAŽE-LEADER-19.2-SAVA-4 | B21: ='VPS1'!B19 -> MAŽE | C21: ='VPS1'!C19 -> 3 | D21: ='VPS1'!D19 -> Priemonė „Kultūros savitumo išsaugojimas, tradicijų tęstinumas” | E21: ='VPS1'!E19 -> LEADER-19.2-SAVA-4 | F21: ='VPS1'!G19 -> EŽŪFKP | G21: =SUM(H21:P21) -> 5 | O21: 5
A22: ='VPS1'!A20 -> MAŽE-LEADER-19.2-SAVA-5 | B22: ='VPS1'!B20 -> MAŽE | C22: ='VPS1'!C20 -> 3 | D22: ='VPS1'!D20 -> Priemonė „NVO socialinės veiklos skatinimas“ | E22: ='VPS1'!E20 -> LEADER-19.2-SAVA-5 | F22: ='VPS1'!G20 -> EŽŪFKP | G22: =SUM(H22:P22) -> 5 | K22: 5
A23: ='VPS1'!A21 -> - | B23: ='VPS1'!B21 -> 0 | C23: ='VPS1'!C21 -> 0 | D23: ='VPS1'!D21 -> 0 | E23: ='VPS1'!E21 -> 0 | F23: ='VPS1'!G21 -> 0 | G23: =SUM(H23:P23) -> 0
A24: ='VPS1'!A22 -> - | B24: ='VPS1'!B22 -> 0 | C24: ='VPS1'!C22 -> 0 | D24: ='VPS1'!D22 -> 0 | E24: ='VPS1'!E22 -> 0 | F24: ='VPS1'!G22 -> 0 | G24: =SUM(H24:P24) -> 0
A25: ='VPS1'!A23 -> - | B25: ='VPS1'!B23 -> 0 | C25: ='VPS1'!C23 -> 0 | D25: ='VPS1'!D23 -> 0 | E25: ='VPS1'!E23 -> 0 | F25: ='VPS1'!G23 -> 0 | G25: =SUM(H25:P25) -> 0
A26: ='VPS1'!A24 -> - | B26: ='VPS1'!B24 -> 0 | C26: ='VPS1'!C24 -> 0 | D26: ='VPS1'!D24 -> 0 | E26: ='VPS1'!E24 -> 0 | F26: ='VPS1'!G24 -> 0 | G26: =SUM(H26:P26) -> 0
A27: ='VPS1'!A25 -> - | B27: ='VPS1'!B25 -> 0 | C27: ='VPS1'!C25 -> 0 | D27: ='VPS1'!D25 -> 0 | E27: ='VPS1'!E25 -> 0 | F27: ='VPS1'!G25 -> 0 | G27: =SUM(H27:P27) -> 0
A28: ='VPS1'!A26 -> - | B28: ='VPS1'!B26 -> 0 | C28: ='VPS1'!C26 -> 0 | D28: ='VPS1'!D26 -> 0 | E28: ='VPS1'!E26 -> 0 | F28: ='VPS1'!G26 -> 0 | G28: =SUM(H28:P28) -> 0
A29: ='VPS1'!A27 -> - | B29: ='VPS1'!B27 -> 0 | C29: ='VPS1'!C27 -> 0 | D29: ='VPS1'!D27 -> 0 | E29: ='VPS1'!E27 -> 0 | F29: ='VPS1'!G27 -> 0 | G29: =SUM(H29:P29) -> 0
A30: ='VPS1'!A28 -> - | B30: ='VPS1'!B28 -> 0 | C30: ='VPS1'!C28 -> 0 | D30: ='VPS1'!D28 -> 0 | E30: ='VPS1'!E28 -> 0 | F30: ='VPS1'!G28 -> 0 | G30: =SUM(H30:P30) -> 0
A31: ='VPS1'!A29 -> - | B31: ='VPS1'!B29 -> 0 | C31: ='VPS1'!C29 -> 0 | D31: ='VPS1'!D29 -> 0 | E31: ='VPS1'!E29 -> 0 | F31: ='VPS1'!G29 -> 0 | G31: =SUM(H31:P31) -> 0
A32: ='VPS1'!A30 -> - | B32: ='VPS1'!B30 -> 0 | C32: ='VPS1'!C30 -> 0 | D32: ='VPS1'!D30 -> 0 | E32: ='VPS1'!E30 -> 0 | F32: ='VPS1'!G30 -> 0 | G32: =SUM(H32:P32) -> 0
A33: ='VPS1'!A31 -> - | B33: ='VPS1'!B31 -> 0 | C33: ='VPS1'!C31 -> 0 | D33: ='VPS1'!D31 -> 0 | E33: ='VPS1'!E31 -> 0 | F33: ='VPS1'!G31 -> 0 | G33: =SUM(H33:P33) -> 0
A34: ='VPS1'!A32 -> - | B34: ='VPS1'!B32 -> 0 | C34: ='VPS1'!C32 -> 0 | D34: ='VPS1'!D32 -> 0 | E34: ='VPS1'!E32 -> 0 | F34: ='VPS1'!G32 -> 0 | G34: =SUM(H34:P34) -> 0
A35: ='VPS1'!A33 -> - | B35: ='VPS1'!B33 -> 0 | C35: ='VPS1'!C33 -> 0 | D35: ='VPS1'!D33 -> 0 | E35: ='VPS1'!E33 -> 0 | F35: ='VPS1'!G33 -> 0 | G35: =SUM(H35:P35) -> 0

Sheet VPS2.2
A1: A3 | B1: VPS duomenys: Siekiama paremti vietos projektų EJRŽF konkrečių tikslų ir uždavinių bei VPS priemonių/ veiklos sričių lygiu
A3: NMA vaidmuo: | B3: Užpildo lentelę. Eilutės nepildomos, jei priemonė turi veiklos sričių (C stulpelyje tipas 1).
A4: VVG vaidmuo: | B4: Patikrina lentelės duomenis.
H6: Paremtų vietos projektų skaičius (vnt.)
H7: EJRŽF konkretūs tikslai ir uždaviniai
A8: VVG ir priemonės/veiklos srities kodas | B8: VVG | C8: Tipas | D8: VPS priemonės/ veiklos srities pavadinimas | E8: VPS priemonės/ veiklos srities kodas | F8: Finansavimo šaltinis | G8: Siekiama paremti vietos projektų | H8: 8.1.1.Ž | I8: 8.1.2.Ž | J8: 8.1.3.Ž | K8: 8.2.1.Ž | L8: 8.2.2.Ž | M8: 8.2.3.Ž | N8: 8.3.1.Ž | O8: 8.3.2.Ž
A9: Užsipildo automatiškai pagal lapą VPS1 | B9: Užsipildo automatiškai pagal lapą VPS1 | C9: Užsipildo automatiškai pagal lapą VPS1 | D9: Užsipildo automatiškai pagal lapą VPS1 | E9: Užsipildo automatiškai pagal lapą VPS1 | F9: Užsipildo automatiškai pagal lapą VPS1 | G9: Užsipildo automatiškai | H9: Pateikiami duomenys iš VPS 12 dalies. Nurodomas bendras projektų skaičius, neskirstant pagal pareiškėjo tipą (NVO, fizinis asmuo ar pan.) ir mokymų pobūdį (susiję su kompiuterinio raštingumo, verslumo ar pan. mokymais)
B10: Iš viso | G10: =SUM(G11:G35) -> 0 | H10: =SUM(H11:H35) -> 0 | I10: =SUM(I11:I35) -> 0 | J10: =SUM(J11:J35) -> 0 | K10: =SUM(K11:K35) -> 0 | L10: =SUM(L11:L35) -> 0 | M10: =SUM(M11:M35) -> 0 | N10: =SUM(N11:N35) -> 0 | O10: =SUM(O11:O35) -> 0
A11: ='VPS1'!A9 -> MAŽE-LEADER-19.2-6 | B11: ='VPS1'!B9 -> MAŽE | C11: ='VPS1'!C9 -> 1 | D11: ='VPS1'!D9 -> Priemonė „Ūkio ir verslo plėtra“ | E11: ='VPS1'!E9 -> LEADER-19.2-6 | F11: ='VPS1'!G9 -> EŽŪFKP | G11: =SUM(H11:O11) -> 0
A12: ='VPS1'!A10 -> MAŽE-LEADER-19.2-6.2 | B12: ='VPS1'!B10 -> MAŽE | C12: ='VPS1'!C10 -> 2 | D12: ='VPS1'!D10 -> - veiklos sritis „Parama ne žemės ūkio verslui kaimo vietovėse pradėti “ | E12: ='VPS1'!E10 -> LEADER-19.2-6.2 | F12: ='VPS1'!G10 -> EŽŪFKP | G12: =SUM(H12:O12) -> 0
A13: ='VPS1'!A11 -> MAŽE-LEADER-19.2-6.4 | B13: ='VPS1'!B11 -> MAŽE | C13: ='VPS1'!C11 -> 2 | D13: ='VPS1'!D11 -> - veiklos sritis „Parama ne žemės ūkio verslui kaimo vietovėse plėtoti “ | E13: ='VPS1'!E11 -> LEADER-19.2-6.4 | F13: ='VPS1'!G11 -> EŽŪFKP | G13: =SUM(H13:O13) -> 0
A14: ='VPS1'!A12 -> MAŽE-LEADER-19.2-4 | B14: ='VPS1'!B12 -> MAŽE | C14: ='VPS1'!C12 -> 1 | D14: ='VPS1'!D12 -> Priemonė „Investicijos j materialųjį turtą“ | E14: ='VPS1'!E12 -> LEADER-19.2-4 | F14: ='VPS1'!G12 -> EŽŪFKP | G14: =SUM(H14:O14) -> 0
A15: ='VPS1'!A13 -> MAŽE-LEADER-19.2-4.2 | B15: ='VPS1'!B13 -> MAŽE | C15: ='VPS1'!C13 -> 2 | D15: ='VPS1'!D13 -> - veiklos sritis „Parama žemės ūkio produktų perdirbimui, rinkodarai ir (arba) plėtrai “ | E15: ='VPS1'!E13 -> LEADER-19.2-4.2 | F15: ='VPS1'!G13 -> EŽŪFKP | G15: =SUM(H15:O15) -> 0
A16: ='VPS1'!A14 -> MAŽE-LEADER-19.2-SAVA-1 | B16: ='VPS1'!B14 -> MAŽE | C16: ='VPS1'!C14 -> 3 | D16: ='VPS1'!D14 -> Priemonė „NVO socialinio verslo kūrimas ir plėtra“ (kai socialinio verslo iniciatorius - NVO) | E16: ='VPS1'!E14 -> LEADER-19.2-SAVA-1 | F16: ='VPS1'!G14 -> EŽŪFKP | G16: =SUM(H16:O16) -> 0
A17: ='VPS1'!A15 -> MAŽE-LEADER-19.2-7 | B17: ='VPS1'!B15 -> MAŽE | C17: ='VPS1'!C15 -> 1 | D17: ='VPS1'!D15 -> Priemonė „Pagrindinės paslaugos ir kaimų atnaujinimas kaimo vietovėse“ | E17: ='VPS1'!E15 -> LEADER-19.2-7 | F17: ='VPS1'!G15 -> EŽŪFKP | G17: =SUM(H17:O17) -> 0
A18: ='VPS1'!A16 -> MAŽE-LEADER-19.2-7.2 | B18: ='VPS1'!B16 -> MAŽE | C18: ='VPS1'!C16 -> 2 | D18: ='VPS1'!D16 -> - veiklos sritis „Parama investicijoms į visų rūšių mažos apimties infrastruktūrą “ | E18: ='VPS1'!E16 -> LEADER-19.2-7.2 | F18: ='VPS1'!G16 -> EŽŪFKP | G18: =SUM(H18:O18) -> 0
A19: ='VPS1'!A17 -> MAŽE-LEADER-19.2-7.6 | B19: ='VPS1'!B17 -> MAŽE | C19: ='VPS1'!C17 -> 2 | D19: ='VPS1'!D17 -> - veiklos sritis „Parama investicijoms į kaimo kultūros ir gamtos paveldą, kraštovaizdį „ | E19: ='VPS1'!E17 -> LEADER-19.2-7.6 | F19: ='VPS1'!G17 -> EŽŪFKP | G19: =SUM(H19:O19) -> 0
A20: ='VPS1'!A18 -> MAŽE-LEADER-19.2-SAVA-3 | B20: ='VPS1'!B18 -> MAŽE | C20: ='VPS1'!C18 -> 3 | D20: ='VPS1'!D18 -> Priemonė „Vietos projektų pareiškėjų ir vykdytojų mokymas, įgūdžių įgijimas“ (kai mokymai susiję su VPS priemonėmis) | E20: ='VPS1'!E18 -> LEADER-19.2-SAVA-3 | F20: ='VPS1'!G18 -> EŽŪFKP | G20: =SUM(H20:O20) -> 0
A21: ='VPS1'!A19 -> MAŽE-LEADER-19.2-SAVA-4 | B21: ='VPS1'!B19 -> MAŽE | C21: ='VPS1'!C19 -> 3 | D21: ='VPS1'!D19 -> Priemonė „Kultūros savitumo išsaugojimas, tradicijų tęstinumas” | E21: ='VPS1'!E19 -> LEADER-19.2-SAVA-4 | F21: ='VPS1'!G19 -> EŽŪFKP | G21: =SUM(H21:O21) -> 0
A22: ='VPS1'!A20 -> MAŽE-LEADER-19.2-SAVA-5 | B22: ='VPS1'!B20 -> MAŽE | C22: ='VPS1'!C20 -> 3 | D22: ='VPS1'!D20 -> Priemonė „NVO socialinės veiklos skatinimas“ | E22: ='VPS1'!E20 -> LEADER-19.2-SAVA-5 | F22: ='VPS1'!G20 -> EŽŪFKP | G22: =SUM(H22:O22) -> 0
... A35: ='VPS1'!A33 -> - | B35: ='VPS1'!B33 -> 0 | C35: ='VPS1'!C33 -> 0 | D35: ='VPS1'!D33 -> 0 | E35: ='VPS1'!E33 -> 0 | F35: ='VPS1'!G33 -> 0 | G35: =SUM(H35:O35) -> 0

Sheet VPS3.1
A1: A4 | B1: VPS duomenys: Siekiama sukurti naujų darbo vietų VPS lygiu (EŽŪFKP)
A3: NMA vaidmuo: | B3: Užpildo lentelę pagal VPS 12 dalį.
A4: VVG vaidmuo: | B4: Patikrina lentelės duomenis.
C6: Sukurtų naujų darbo vietų (naujų etatų) skaičius įgyvendinus vietos projektus (vnt.)
C7: EŽŪFKP prioritetai ir tikslinės sritys
A8: VVG | B8: Siekiama sukurti naujų darbo vietų | C8: 1A | D8: 1C | E8: 2B | F8: 3A | G8: 4A | H8: 5C | I8: 6A | J8: 6B | K8: 6C
A9: Užsipildo automatiškai pagal lapą VPS1 | B9: Užsipildo automatiškai | C9: Pateikiami duomenys VPS lygiu iš VPS 12 dalies (atskirai EŽŪFKP ir EJRŽF)
A10: Iš viso | B10: =SUM(B11:B11) -> 35 | C10: =SUM(C11:C11) -> 0 | D10: =SUM(D11:D11) -> 0 | E10: =SUM(E11:E11) -> 0 | F10: =SUM(F11:F11) -> 0 | G10: =SUM(G11:G11) -> 0 | H10: =SUM(H11:H11) -> 0 | I10: =SUM(I11:I11) -> 32 | ... K10: =SUM(K11:K11) -> 0
A11: ='VPS1'!B9 -> MAŽE | B11: =SUM(C11:K11) -> 35 | F11: 0 | I11: 32 | J11: 3

Sheet VPS3.2
A1: A4 | B1: VPS duomenys: Siekiama sukurti naujų darbo vietų VPS lygiu (EJRŽF)
A3: NMA vaidmuo: | B3: Užpildo lentelę pagal VPS 12 dalį.
A4: VVG vaidmuo: | B4: Patikrina lentelės duomenis.
C6: Sukurtų naujų darbo vietų (naujų etatų) skaičius įgyvendinus vietos projektus (vnt.)
C7: EJRŽF konkretūs tikslai ir uždaviniai
A8: VVG | B8: Siekiama sukurti naujų darbo vietų | C8: 8.1.1.Ž | D8: 8.1.2.Ž | E8: 8.1.3.Ž | F8: 8.2.1.Ž | G8: 8.2.2.Ž | H8: 8.2.3.Ž | I8: 8.3.1.Ž | J8: 8.3.2.Ž
A9: Užsipildo automatiškai pagal lapą VPS1 | B9: Užsipildo automatiškai | C9: Pateikiami duomenys VPS lygiu iš VPS 12 dalies (atskirai EŽŪFKP ir EJRŽF)
A10: Iš viso | B10: =SUM(B11:B11) -> 0 | C10: =SUM(C11:C11) -> 0 | D10: =SUM(D11:D11) -> 0 | E10: =SUM(E11:E11) -> 0 | F10: =SUM(F11:F11) -> 0 | G10: =SUM(G11:G11) -> 0 | H10: =SUM(H11:H11) -> 0 | I10: =SUM(I11:I11) -> 0 | J10: =SUM(J11:J11) -> 0
B11: =SUM(C11:J11) -> 0

Sheet D1
A1: A4 | B1: Duomenys: Informacija apie kvietimus
A3: NMA vaidmuo: | B3: Patikrina VVG pateiktus lentelės duomenis.
A4: VVG vaidmuo: | B4: Užpildo lentelę (C, D, E stulpeliai).
A7: VVG | B7: Kvietimo Nr. | C7: Kvietimo pradžia | D7: Kvietimo pabaiga | E7: Gautų paraiškų skaičius | F7: Kvietimo trukmė (d.) | G7: Kvietimo pradžios metai | H7: Kvietimo pabaigos metai
A8: Užsipildo automatiškai pagal lapą VPS1 | B8: Nurodomas kvietimo numeris pagal schemą KV01, kur "KV" reiškia žodį "kvietimas", o "01" - dviženklį kvietimo Nr. 1 numerį. Kiekvienas kvietimas nurodomas naujoje eilutėje. Jei kvietimų buvo mažiau, nereikalingos eilutės nepildomos. | C8: Nurodoma data pagal schemą MMM-MM-DD, pavyzdžiui, 2017-10-01 | D8: Nurodoma data pagal schemą MMM-MM-DD, pavyzdžiui, 2017-10-01 | E8: Nurodomas bendras užregistruotų paraiškų skaičius, nedetalizuojant pagal VPS priemones/ veiklos sritis | F8: Užsipildo aututomatiškai (formulė) | G8: Užsipildo aututomatiškai (formulė) | H8: Užsipildo aututomatiškai (formulė)
A9: Iš viso | E9: =SUM(E10:E43) -> 59
A10: ='VPS1'!B9 -> MAŽE | B10: KV01 | C10: 42835 | D10: 42864 | E10: 8 | F10: =D10-C10 -> 29 | G10: =YEAR(C10) -> 2017 | H10: =YEAR(D10) -> 2017
A11: =$A$10 -> MAŽE | B11: KV02 | C11: 43045 | D11: 43105 | E11: 0 | F11: =D11-C11 -> 60 | G11: =YEAR(C11) -> 2017 | H11: =YEAR(D11) -> 2018
A12: =$A$10 -> MAŽE | B12: KV03 | C12: 43067 | D12: 43126 | E12: 2 | F12: =D12-C12 -> 59 | G12: =YEAR(C12) -> 2017 | H12: =YEAR(D12) -> 2018
A13: =$A$10 -> MAŽE | B13: KV04 | C13: 43168 | D13: 43228 | E13: 2 | F13: =D13-C13 -> 60 | G13: =YEAR(C13) -> 2018 | H13: =YEAR(D13) -> 2018
A14: =$A$10 -> MAŽE | B14: KV05 | C14: 43168 | D14: 43228 | E14: 2 | F14: =D14-C14 -> 60 | G14: =YEAR(C14) -> 2018 | H14: =YEAR(D14) -> 2018
A15: =$A$10 -> MAŽE | B15: KV06 | C15: 43193 | D15: 43252 | E15: 3 | F15: =D15-C15 -> 59 | G15: =YEAR(C15) -> 2018 | H15: =YEAR(D15) -> 2018
A16: =$A$10 -> MAŽE | B16: KV07 | C16: 43206 | D16: 43266 | E16: 0 | F16: =D16-C16 -> 60 | G16: =YEAR(C16) -> 2018 | H16: =YEAR(D16) -> 2018
A17: =$A$10 -> MAŽE | B17: KV08 | C17: 43229 | D17: 43286 | E17: 2 | F17: =D17-C17 -> 57 | G17: =YEAR(C17) -> 2018 | H17: =YEAR(D17) -> 2018
A18: =$A$10 -> MAŽE | B18: KV09 | C18: 43229 | D18: 43286 | E18: 2 | F18: =D18-C18 -> 57 | G18: =YEAR(C18) -> 2018 | H18: =YEAR(D18) -> 2018
A19: =$A$10 -> MAŽE | B19: KV10 | C19: 43374 | D19: 43434 | E19: 0 | F19: =D19-C19 -> 60 | G19: =YEAR(C19) -> 2018 | H19: =YEAR(D19) -> 2018
A20: =$A$10 -> MAŽE | B20: KV11 | C20: 43374 | D20: 43434 | E20: 0 | F20: =D20-C20 -> 60 | G20: =YEAR(C20) -> 2018 | H20: =YEAR(D20) -> 2018
A21: =$A$10 -> MAŽE | B21: KV12 | C21: 43388 | D21: 43448 | E21: 1 | F21: =D21-C21 -> 60 | G21: =YEAR(C21) -> 2018 | H21: =YEAR(D21) -> 2018
A22: =$A$10 -> MAŽE | B22: KV13 | C22: 43487 | D22: 43544 | E22: 4 | F22: =D22-C22 -> 57 | G22: =YEAR(C22) -> 2019 | H22: =YEAR(D22) -> 2019
... A39: =$A$10 -> MAŽE | B39: KV30 | C39: 44047 | D39: 44106 | E39: 0 | F39: =D39-C39 -> 59 | G39: =YEAR(C39) -> 2020 | H39: =YEAR(D39) -> 2020
A40: MAŽE | B40: KV31 | C40: 44089 | D40: 44148 | E40: 1 | F40: =D40-C40 -> 59 | G40: 2020 | H40: 2020
A41: MAŽE | B41: KV32 | C41: 44096 | D41: 44153 | E41: 0 | F41: =D41-C41 -> 57 | G41: 2020 | H41: 2020
A42: MAŽE | B42: KV33 | C42: 44180 | D42: 44239 | E42: 1 | F42: =D42-C42 -> 59 | G42: 2020 | H42: 2021
A43: MAŽE | B43: KV34 | C43: 44180 | D43: 44239 | E43: 6 | F43: =D43-C43 -> 59 | G43: 2020 | H43: 2021
A44: MAŽE | B44: KV35 | C44: 44225 | D44: 44279 | E44: 2 | F44: =D44-C44 -> 54 | G44: 2021 | H44: 2021
A45: MAŽE | B45: KV36 | C45: 44253 | D45: 44281 | E45: 1 | F45: =D45-C45 -> 28 | G45: 2021 | H45: 2021
A46: MAŽE | B46: KV37 | C46: 44270 | D46: 44330 | E46: 1 | F46: =D46-C46 -> 60 | G46: 2021 | H46: 2021
A47: MAŽE | B47: KV38 | C47: 44270 | D47: 44308 | E47: 2 | F47: =D47-C47 -> 38 | G47: 2021 | H47: 2021
A48: MAŽE | B48: KV39 | C48: 44508 | D48: 44568 | E48: 4 | F48: =D48-C48 -> 60 | G48: 2021 | H48: 2021
A49: MAŽE | B49: KV40 | C49: 44508 | D49: 44568 | E49: 0 | F49: =D49-C49 -> 60 | G49: 2021 | H49: 2021
A50: MAŽE | B50: KV41 | C50: 44530 | D50: 44589 | E50: 1 | F50: =D50-C50 -> 59 | G50: 2021 | H50: 2021
A51: MAŽE | B51: KV42 | C51: 44530 | D51: 44589 | E51: 3 | F51: =D51-C51 -> 59 | G51: 2021 | H51: 2021

Sheet D2
A1: A3 | B1: Duomenys: Informacija apie kvietimus VPS priemonių/ veiklos sričių lygiu
A3: NMA vaidmuo: | B3: Patikrina VVG pateiktus lentelės duomenis. J-AM stulpelių eilutės nepildomos, jei priemonė turi veiklos sričių (C stulpelyje tipas 1).
A4: VVG vaidmuo: | B4: Užpildo lentelę nuo J stulpelio.
J6: Kvietimui numatyta lėšų suma (VPS priemonių/ veiklos sričių lygiu), Eur
A7: VVG ir priemonės/veiklos srities kodas | B7: VVG | C7: Tipas | D7: VPS priemonės/ veiklos srities pavadinimas | E7: VPS priemonės/ veiklos srities kodas | F7: Vietos projektams įgyvendinti numatyta lėšų suma, Eur | G7: Bendras kvietimų skaičius (vnt.) | H7: Bendra kvietimų teikti paraiškas suma, Eur | I7: Paskelbti kvietimai, proc. nuo vietos projektams numatytų lėšų (nuo VPS įgyvendinimo pradžios) | J7: KV01 | K7: KV02 | L7: KV03 | M7: KV04 | N7: KV05 | O7: KV06 | P7: KV07 | Q7: KV08 | R7: KV09 | S7: KV10 | T7: KV11 | U7: KV12 | V7: KV13 | W7: KV14 | X7: KV15 | Y7: KV16 | Z7: KV17 | AA7: KV18 | AB7: KV19 | AC7: KV20 | AD7: KV21 | AE7: KV22 | AF7: KV23 | AG7: KV24 | AH7: KV25 | AI7: KV26 | AJ7: KV27 | AK7: KV28 | AL7: KV29 | AM7: KV30 | AN7: KV31 | AO7: KV32 | AP7: KV33 | AQ7: KV34 | AR7: KV35 | AS7: KV36 | AT7: KV37 | AU7: KV38 | AV7: KV39 | AW7: KV40 | AX7: KV41 | AY7: KV42
A8: Užsipildo automatiškai pagal lapą VPS1 | B8: Užsipildo automatiškai pagal lapą VPS1 | C8: Užsipildo automatiškai pagal lapą VPS1 | D8: Užsipildo automatiškai pagal lapą VPS1 | E8: Užsipildo automatiškai pagal lapą VPS1 | F8: Užsipildo automatiškai pagal lapą VPS1 | G8: Užsipildo automatiškai (formulė) | H8: Užsipildo automatiškai (formulė) | I8: Užsipildo automatiškai (formulė) | J8: Suma nurodoma tame langelyje, kuriame susikerta aktualus kvietimo numeris ir VPS priemonė/ veiklos sritis. Kaip įvesti sumas žr. 4 eilutę lape "Instrukcija". Jei kvietimų daugiau nei 30, įterpti daugiau stulpelių.
A9: Iš viso | F9: =SUM(F10:F34) -> 2114412 | G9: =SUM(G10:G34) -> 24 | H9: =SUM(H10:H34) -> 3891527.3 | I9: =IF(F9>0,H9/F9,0) -> 1.8404773 | J9: =SUM(J10:J34) -> 449885.31 | K9: =SUM(K10:K34) -> 195119.56 | L9: =SUM(L10:L34) -> 97619 | M9: =SUM(M10:M34) -> 455318.46 | N9: =SUM(N10:N34) -> 48810 | O9: =SUM(O10:O34) -> 146428.5 | P9: =SUM(P10:P34) -> 195238 | Q9: =SUM(Q10:Q34) -> 38870 | ... AY9: =SUM(AY10:AY34) -> 184235.79
A10: ='VPS1'!A9 -> MAŽE-LEADER-19.2-6 | B10: ='VPS1'!B9 -> MAŽE | C10: ='VPS1'!C9 -> 1 | D10: ='VPS1'!D9 -> Priemonė „Ūkio ir verslo plėtra“ | E10: ='VPS1'!E9 -> LEADER-19.2-6 | F10: ='VPS1'!F9 -> 0 | G10: =COUNTIFS(J10:AM10,">0") -> 0 | H10: =SUM(J10:AM10) -> 0 | I10: =IF(F10>0,H10/F10,0) -> 0
A11: ='VPS1'!A10 -> MAŽE-LEADER-19.2-6.2 | B11: ='VPS1'!B10 -> MAŽE | C11: ='VPS1'!C10 -> 2 | D11: ='VPS1'!D10 -> - veiklos sritis „Parama ne žemės ūkio verslui kaimo vietovėse pradėti “ | E11: ='VPS1'!E10 -> LEADER-19.2-6.2 | F11: ='VPS1'!F10 -> 292679 | G11: 6 | H11: =SUM(J11:AM11) -> 1029687.6 | I11: =IF(F11>0,H11/F11,0) -> 3.5181464 | J11: 146339.67 | K11: 195119.56 | R11: 204875 | T11: 197554.37 | W11: 197 554,34 | AD11: 119 354,79 | AF11: 165699.79 | AL11: 120099.19 | AR11: 42369 | AV11: 70036.55
A12: ='VPS1'!A11 -> MAŽE-LEADER-19.2-6.4 | B12: ='VPS1'!B11 -> MAŽE | C12: ='VPS1'!C11 -> 2 | D12: ='VPS1'!D11 -> - veiklos sritis „Parama ne žemės ūkio verslui kaimo vietovėse plėtoti “ | E12: ='VPS1'!E11 -> LEADER-19.2-6.4 | F12: ='VPS1'!F11 -> 1164588 | G12: 5 | H12: =SUM(J12:AM12) -> 1397953.9 | I12: =IF(F12>0,H12/F12,0) -> 1.2003849 | J12: 303545.64 | M12: 455318.46 | S12: 455318.46 | X12: 466 106,21 | AC12: 227 659,23 | AG12: 183771.33 | AQ12: 293534 | AY12: 184235.79
A13: ='VPS1'!A12 -> MAŽE-LEADER-19.2-4 | B13: ='VPS1'!B12 -> MAŽE | C13: ='VPS1'!C12 -> 1 | D13: ='VPS1'!D12 -> Priemonė „Investicijos j materialųjį turtą“ | E13: ='VPS1'!E12 -> LEADER-19.2-4 | F13: ='VPS1'!F12 -> 0 | G13: =COUNTIFS(J13:AM13,">0") -> 0 | H13: =SUM(J13:AM13) -> 0 | I13: =IF(F13>0,H13/F13,0) -> 0
A14: ='VPS1'!A13 -> MAŽE-LEADER-19.2-4.2 | B14: ='VPS1'!B13 -> MAŽE | C14: ='VPS1'!C13 -> 2 | D14: ='VPS1'!D13 -> - veiklos sritis „Parama žemės ūkio produktų perdirbimui, rinkodarai ir (arba) plėtrai “ | E14: ='VPS1'!E13 -> LEADER-19.2-4.2 | F14: ='VPS1'!F13 -> 0 | G14: 2 | H14: =SUM(J14:AM14) -> 585714 | I14: =IF(F14>0,H14/F14,0) -> 0 | P14: 195238 | AB14: 195 238,00 | AH14: 195238 | AJ14: 195238 | AO14: 195238
A15: ='VPS1'!A14 -> MAŽE-LEADER-19.2-SAVA-1 | B15: ='VPS1'!B14 -> MAŽE | C15: ='VPS1'!C14 -> 3 | D15: ='VPS1'!D14 -> Priemonė „NVO socialinio verslo kūrimas ir plėtra“ (kai socialinio verslo iniciatorius - NVO) | E15: ='VPS1'!E14 -> LEADER-19.2-SAVA-1 | F15: ='VPS1'!F14 -> 163822 | G15: 2 | H15: =SUM(J15:AM15) -> 163821.99 | I15: =IF(F15>0,H15/F15,0) -> 0.99999994 | Y15: 163 821,99 | AM15: 163821.99 | AP15: 163821.99 | AU15: 109214.66 | AW15: 109214.66
A16: ='VPS1'!A15 -> MAŽE-LEADER-19.2-7 | B16: ='VPS1'!B15 -> MAŽE | C16: ='VPS1'!C15 -> 1 | D16: ='VPS1'!D15 -> Priemonė „Pagrindinės paslaugos ir kaimų atnaujinimas kaimo vietovėse“ | E16: ='VPS1'!E15 -> LEADER-19.2-7 | F16: ='VPS1'!F15 -> 0 | G16: =COUNTIFS(J16:AM16,">0") -> 0 | H16: =SUM(J16:AM16) -> 0 | I16: =IF(F16>0,H16/F16,0) -> 0
A17: ='VPS1'!A16 -> MAŽE-LEADER-19.2-7.2 | B17: ='VPS1'!B16 -> MAŽE | C17: ='VPS1'!C16 -> 2 | D17: ='VPS1'!D16 -> - veiklos sritis „Parama investicijoms į visų rūšių mažos apimties infrastruktūrą “ | E17: ='VPS1'!E16 -> LEADER-19.2-7.2 | F17: ='VPS1'!F16 -> 154815 | G17: 2 | H17: =SUM(J17:AM17) -> 244047.5 | I17: =IF(F17>0,H17/F17,0) -> 1.5763815 | L17: 97619 | O17: 146428.5 | AT17: 70819.74
A18: ='VPS1'!A17 -> MAŽE-LEADER-19.2-7.6 | B18: ='VPS1'!B17 -> MAŽE | C18: ='VPS1'!C17 -> 2 | D18: ='VPS1'!D17 -> - veiklos sritis „Parama investicijoms į kaimo kultūros ir gamtos paveldą, kraštovaizdį „ | E18: ='VPS1'!E17 -> LEADER-19.2-7.6 | F18: ='VPS1'!F17 -> 191192 | G18: 2 | H18: =SUM(J18:AM18) -> 343618.88 | I18: =IF(F18>0,H18/F18,0) -> 1.7972451 | U18: 146428.5 | Z18: 146428.5 | AI18: 50761.88 | AN18: 50761.88 | AS18: 50761.88 | AX18: 50761.88
A19: ='VPS1'!A18 -> MAŽE-LEADER-19.2-SAVA-3 | B19: ='VPS1'!B18 -> MAŽE | C19: ='VPS1'!C18 -> 3 | D19: ='VPS1'!D18 -> Priemonė „Vietos projektų pareiškėjų ir vykdytojų mokymas, įgūdžių įgijimas“ (kai mokymai susiję su VPS priemonėmis) | E19: ='VPS1'!E18 -> LEADER-19.2-SAVA-3 | F19: ='VPS1'!F18 -> 38870 | G19: 2 | H19: =SUM(J19:AM19) -> 48587.5 | I19: =IF(F19>0,H19/F19,0) -> 1.25 | Q19: 38870 | AE19: 29 152,50 | AK19: 9717.5
A20: ='VPS1'!A19 -> MAŽE-LEADER-19.2-SAVA-4 | B20: ='VPS1'!B19 -> MAŽE | C20: ='VPS1'!C19 -> 3 | D20: ='VPS1'!D19 -> Priemonė „Kultūros savitumo išsaugojimas, tradicijų tęstinumas” | E20: ='VPS1'!E19 -> LEADER-19.2-SAVA-4 | F20: ='VPS1'!F19 -> 48810 | G20: 2 | H20: =SUM(J20:AM20) -> 78096 | I20: =IF(F20>0,H20/F20,0) -> 1.6 | N20: 48810 | V20: 29286
A21: ='VPS1'!A20 -> MAŽE-LEADER-19.2-SAVA-5 | B21: ='VPS1'!B20 -> MAŽE | C21: ='VPS1'!C20 -> 3 | D21: ='VPS1'!D20 -> Priemonė „NVO socialinės veiklos skatinimas“ | E21: ='VPS1'!E20 -> LEADER-19.2-SAVA-5 | F21: ='VPS1'!F20 -> 59636 | G21: 1 | H21: =SUM(J21:AM21) -> 0 | I21: =IF(F21>0,H21/F21,0) -> 0 | AA21: 59 636,00
A22: ='VPS1'!A21 -> - | B22: ='VPS1'!B21 -> 0 | C22: ='VPS1'!C21 -> 0 | D22: ='VPS1'!D21 -> 0 | E22: ='VPS1'!E21 -> 0 | F22: ='VPS1'!F21 -> 0 | G22: =COUNTIFS(J22:AM22,">0") -> 0 | H22: =SUM(J22:AM22) -> 0 | I22: =IF(F22>0,H22/F22,0) -> 0
A23: ='VPS1'!A22 -> - | B23: ='VPS1'!B22 -> 0 | C23: ='VPS1'!C22 -> 0 | D23: ='VPS1'!D22 -> 0 | E23: ='VPS1'!E22 -> 0 | F23: ='VPS1'!F22 -> 0 | G23: =COUNTIFS(J23:AM23,">0") -> 0 | H23: =SUM(J23:AM23) -> 0 | I23: =IF(F23>0,H23/F23,0) -> 0
A24: ='VPS1'!A23 -> - | B24: ='VPS1'!B23 -> 0 | C24: ='VPS1'!C23 -> 0 | D24: ='VPS1'!D23 -> 0 | E24: ='VPS1'!E23 -> 0 | F24: ='VPS1'!F23 -> 0 | G24: =COUNTIFS(J24:AM24,">0") -> 0 | H24: =SUM(J24:AM24) -> 0 | I24: =IF(F24>0,H24/F24,0) -> 0
A25: ='VPS1'!A24 -> - | B25: ='VPS1'!B24 -> 0 | C25: ='VPS1'!C24 -> 0 | D25: ='VPS1'!D24 -> 0 | E25: ='VPS1'!E24 -> 0 | F25: ='VPS1'!F24 -> 0 | G25: =COUNTIFS(J25:AM25,">0") -> 0 | H25: =SUM(J25:AM25) -> 0 | I25: =IF(F25>0,H25/F25,0) -> 0
A26: ='VPS1'!A25 -> - | B26: ='VPS1'!B25 -> 0 | C26: ='VPS1'!C25 -> 0 | D26: ='VPS1'!D25 -> 0 | E26: ='VPS1'!E25 -> 0 | F26: ='VPS1'!F25 -> 0 | G26: =COUNTIFS(J26:AM26,">0") -> 0 | H26: =SUM(J26:AM26) -> 0 | I26: =IF(F26>0,H26/F26,0) -> 0
A27: ='VPS1'!A26 -> - | B27: ='VPS1'!B26 -> 0 | C27: ='VPS1'!C26 -> 0 | D27: ='VPS1'!D26 -> 0 | E27: ='VPS1'!E26 -> 0 | F27: ='VPS1'!F26 -> 0 | G27: =COUNTIFS(J27:AM27,">0") -> 0 | H27: =SUM(J27:AM27) -> 0 | I27: =IF(F27>0,H27/F27,0) -> 0
A28: ='VPS1'!A27 -> - | B28: ='VPS1'!B27 -> 0 | C28: ='VPS1'!C27 -> 0 | D28: ='VPS1'!D27 -> 0 | E28: ='VPS1'!E27 -> 0 | F28: ='VPS1'!F27 -> 0 | G28: =COUNTIFS(J28:AM28,">0") -> 0 | H28: =SUM(J28:AM28) -> 0 | I28: =IF(F28>0,H28/F28,0) -> 0
A29: ='VPS1'!A28 -> - | B29: ='VPS1'!B28 -> 0 | C29: ='VPS1'!C28 -> 0 | D29: ='VPS1'!D28 -> 0 | E29: ='VPS1'!E28 -> 0 | F29: ='VPS1'!F28 -> 0 | G29: =COUNTIFS(J29:AM29,">0") -> 0 | H29: =SUM(J29:AM29) -> 0 | I29: =IF(F29>0,H29/F29,0) -> 0
A30: ='VPS1'!A29 -> - | B30: ='VPS1'!B29 -> 0 | C30: ='VPS1'!C29 -> 0 | D30: ='VPS1'!D29 -> 0 | E30: ='VPS1'!E29 -> 0 | F30: ='VPS1'!F29 -> 0 | G30: =COUNTIFS(J30:AM30,">0") -> 0 | H30: =SUM(J30:AM30) -> 0 | I30: =IF(F30>0,H30/F30,0) -> 0
A31: ='VPS1'!A30 -> - | B31: ='VPS1'!B30 -> 0 | C31: ='VPS1'!C30 -> 0 | D31: ='VPS1'!D30 -> 0 | E31: ='VPS1'!E30 -> 0 | F31: ='VPS1'!F30 -> 0 | G31: =COUNTIFS(J31:AM31,">0") -> 0 | H31: =SUM(J31:AM31) -> 0 | I31: =IF(F31>0,H31/F31,0) -> 0
A32: ='VPS1'!A31 -> - | B32: ='VPS1'!B31 -> 0 | C32: ='VPS1'!C31 -> 0 | D32: ='VPS1'!D31 -> 0 | E32: ='VPS1'!E31 -> 0 | F32: ='VPS1'!F31 -> 0 | G32: =COUNTIFS(J32:AM32,">0") -> 0 | H32: =SUM(J32:AM32) -> 0 | I32: =IF(F32>0,H32/F32,0) -> 0
A33: ='VPS1'!A32 -> - | B33: ='VPS1'!B32 -> 0 | C33: ='VPS1'!C32 -> 0 | D33: ='VPS1'!D32 -> 0 | E33: ='VPS1'!E32 -> 0 | F33: ='VPS1'!F32 -> 0 | G33: =COUNTIFS(J33:AM33,">0") -> 0 | H33: =SUM(J33:AM33) -> 0 | I33: =IF(F33>0,H33/F33,0) -> 0
A34: ='VPS1'!A33 -> - | B34: ='VPS1'!B33 -> 0 | C34: ='VPS1'!C33 -> 0 | D34: ='VPS1'!D33 -> 0 | E34: ='VPS1'!E33 -> 0 | F34: ='VPS1'!F33 -> 0 | G34: =COUNTIFS(J34:AM34,">0") -> 0 | H34: =SUM(J34:AM34) -> 0 | I34: =IF(F34>0,H34/F34,0) -> 0

Sheet D3
A1: A3 | B1: Duomenys: Informacija apie gautas paraiškas VPS priemonių/ veiklos sričių lygiu
A3: NMA vaidmuo: | B3: Patikrina VVG pateiktus lentelės duomenis. G-AJ stulpelių eilutės nepildomos, jei priemonė turi veiklos sričių (C stulpelyje tipas 1).
A4: VVG vaidmuo: | B4: Užpildo lentelę nuo G stulpelio.
F5: =IF(F9='D1'!E9,"OK","Klaida. Nesutampa gautų paraiškų skaičius lape D1") -> Klaida. Nesutampa gautų paraiškų skaičius lape D1
A7: VVG ir priemonės/veiklos srities kodas | B7: VVG | C7: Tipas | D7: VPS priemonės/ veiklos srities pavadinimas | E7: VPS priemonės/ veiklos srities kodas | F7: Bendras gautų paraiškų skaičius | G7: KV01 | H7: KV02 | I7: KV03 | J7: KV04 | K7: KV05 | L7: KV06 | M7: KV07 | N7: KV08 | O7: KV09 | P7: KV10 | Q7: KV11 | R7: KV12 | S7: KV13 | T7: KV14 | U7: KV15 | V7: KV16 | W7: KV17 | X7: KV18 | Y7: KV19 | Z7: KV20 | AA7: KV21 | AB7: KV22 | AC7: KV23 | AD7: KV24 | AE7: KV25 | AF7: KV26 | AG7: KV27 | AH7: KV28 | AI7: KV29 | AJ7: KV30 | AK7: KV31 | AL7: KV32 | AM7: KV33 | AN7: KV34 | AO7: KV35 | AP7: KV36 | AQ7: KV37 | AR7: KV38 | AS7: KV39 | AT7: KV40 | AU7: KV41 | AV7: KV42 | AW7: KV43 | AX7: KV44 | AY7: KV45 | AZ7: KV46 | BA7: KV47 | BB7: KV48 | BC7: KV49 | BD7: KV50 | BE7: KV51 | BF7: KV52 | BG7: KV53 | BH7: KV54 | BI7: KV55 | BJ7: KV56 | BK7: KV57 | BL7: KV58 | BM7: KV59 | BN7: KV60
A8: Užsipildo automatiškai pagal lapą VPS1 | B8: Užsipildo automatiškai pagal lapą VPS1 | C8: Užsipildo automatiškai pagal lapą VPS1 | D8: Užsipildo automatiškai pagal lapą VPS1 | E8: Užsipildo automatiškai pagal lapą VPS1 | F8: Užsipildo automatiškai (formulė) | G8: Gautų paraiškų skaičius nurodomas tame langelyje, kuriame susikerta aktualus kvietimo numeris ir VPS priemonė/ veiklos sritis. Jei kvietimų daugiau nei 30, įterpti daugiau stulpelių. | AK8: Gautų paraiškų skaičius nurodomas tame langelyje, kuriame susikerta aktualus kvietimo numeris ir VPS priemonė/ veiklos sritis. Jei kvietimų daugiau nei 30, įterpti daugiau stulpelių.
A9: Iš viso | F9: =SUM(F10:F34) -> 72 | G9: =SUM(G10:G34) -> 8 | H9: =SUM(H10:H34) -> 0 | I9: =SUM(I10:I34) -> 2 | J9: =SUM(J10:J34) -> 2 | K9: =SUM(K10:K34) -> 2 | L9: =SUM(L10:L34) -> 3 | M9: =SUM(M10:M34) -> 0 | ... BN9: =SUM(BN10:BN34) -> 0
A10: ='VPS1'!A9 -> MAŽE-LEADER-19.2-6 | B10: ='VPS1'!B9 -> MAŽE | C10: ='VPS1'!C9 -> 1 | D10: ='VPS1'!D9 -> Priemonė „Ūkio ir verslo plėtra“ | E10: ='VPS1'!E9 -> LEADER-19.2-6 | F10: =SUM(AK10:BN10) -> 0
A11: ='VPS1'!A10 -> MAŽE-LEADER-19.2-6.2 | B11: ='VPS1'!B10 -> MAŽE | C11: ='VPS1'!C10 -> 2 | D11: ='VPS1'!D10 -> - veiklos sritis „Parama ne žemės ūkio verslui kaimo vietovėse pradėti “ | E11: ='VPS1'!E10 -> LEADER-19.2-6.2 | F11: =SUM(G11:BN11) -> 15 | G11: 1 | H11: 0 | O11: 2 | Q11: 0 | T11: 2 | AA11: 0 | AC11: 1 | AI11: 3 | AO11: 2 | AS11: 4
A12: ='VPS1'!A11 -> MAŽE-LEADER-19.2-6.4 | B12: ='VPS1'!B11 -> MAŽE | C12: ='VPS1'!C11 -> 2 | D12: ='VPS1'!D11 -> - veiklos sritis „Parama ne žemės ūkio verslui kaimo vietovėse plėtoti “ | E12: ='VPS1'!E11 -> LEADER-19.2-6.4 | F12: =SUM(G12:BN12) -> 26 | G12: 7 | J12: 2 | P12: 0 | U12: 3 | Z12: 1 | AD12: 4 | AN12: 6 | AV12: 3
A13: ='VPS1'!A12 -> MAŽE-LEADER-19.2-4 | B13: ='VPS1'!B12 -> MAŽE | C13: ='VPS1'!C12 -> 1 | D13: ='VPS1'!D12 -> Priemonė „Investicijos j materialųjį turtą“ | E13: ='VPS1'!E12 -> LEADER-19.2-4 | F13: =SUM(G13:BN13) -> 0
A14: ='VPS1'!A13 -> MAŽE-LEADER-19.2-4.2 | B14: ='VPS1'!B13 -> MAŽE | C14: ='VPS1'!C13 -> 2 | D14: ='VPS1'!D13 -> - veiklos sritis „Parama žemės ūkio produktų perdirbimui, rinkodarai ir (arba) plėtrai “ | E14: ='VPS1'!E13 -> LEADER-19.2-4.2 | F14: =SUM(G14:BN14) -> 0 | M14: 0 | Y14: 0 | AE14: 0 | AG14: 0 | AL14: 0
A15: ='VPS1'!A14 -> MAŽE-LEADER-19.2-SAVA-1 | B15: ='VPS1'!B14 -> MAŽE | C15: ='VPS1'!C14 -> 3 | D15: ='VPS1'!D14 -> Priemonė „NVO socialinio verslo kūrimas ir plėtra“ (kai socialinio verslo iniciatorius - NVO) | E15: ='VPS1'!E14 -> LEADER-19.2-SAVA-1 | F15: =SUM(G15:BN15) -> 3 | V15: 0 | AJ15: 0 | AM15: 1 | AR15: 2 | AT15: 0
A16: ='VPS1'!A15 -> MAŽE-LEADER-19.2-7 | B16: ='VPS1'!B15 -> MAŽE | C16: ='VPS1'!C15 -> 1 | D16: ='VPS1'!D15 -> Priemonė „Pagrindinės paslaugos ir kaimų atnaujinimas kaimo vietovėse“ | E16: ='VPS1'!E15 -> LEADER-19.2-7 | F16: =SUM(G16:BN16) -> 0
A17: ='VPS1'!A16 -> MAŽE-LEADER-19.2-7.2 | B17: ='VPS1'!B16 -> MAŽE | C17: ='VPS1'!C16 -> 2 | D17: ='VPS1'!D16 -> - veiklos sritis „Parama investicijoms į visų rūšių mažos apimties infrastruktūrą “ | E17: ='VPS1'!E16 -> LEADER-19.2-7.2 | F17: =SUM(G17:BN17) -> 6 | I17: 2 | L17: 3 | AQ17: 1
A18: ='VPS1'!A17 -> MAŽE-LEADER-19.2-7.6 | B18: ='VPS1'!B17 -> MAŽE | C18: ='VPS1'!C17 -> 2 | D18: ='VPS1'!D17 -> - veiklos sritis „Parama investicijoms į kaimo kultūros ir gamtos paveldą, kraštovaizdį „ | E18: ='VPS1'!E17 -> LEADER-19.2-7.6 | F18: =SUM(G18:BN18) -> 6 | R18: 1 | W18: 2 | AF18: 0 | AK18: 1 | AP18: 1 | AU18: 1
A19: ='VPS1'!A18 -> MAŽE-LEADER-19.2-SAVA-3 | B19: ='VPS1'!B18 -> MAŽE | C19: ='VPS1'!C18 -> 3 | D19: ='VPS1'!D18 -> Priemonė „Vietos projektų pareiškėjų ir vykdytojų mokymas, įgūdžių įgijimas“ (kai mokymai susiję su VPS priemonėmis) | E19: ='VPS1'!E18 -> LEADER-19.2-SAVA-3 | F19: =SUM(G19:BN19) -> 5 | N19: 1 | AB19: 3 | AH19: 1
A20: ='VPS1'!A19 -> MAŽE-LEADER-19.2-SAVA-4 | B20: ='VPS1'!B19 -> MAŽE | C20: ='VPS1'!C19 -> 3 | D20: ='VPS1'!D19 -> Priemonė „Kultūros savitumo išsaugojimas, tradicijų tęstinumas” | E20: ='VPS1'!E19 -> LEADER-19.2-SAVA-4 | F20: =SUM(G20:BN20) -> 6 | K20: 2 | S20: 4
A21: ='VPS1'!A20 -> MAŽE-LEADER-19.2-SAVA-5 | B21: ='VPS1'!B20 -> MAŽE | C21: ='VPS1'!C20 -> 3 | D21: ='VPS1'!D20 -> Priemonė „NVO socialinės veiklos skatinimas“ | E21: ='VPS1'!E20 -> LEADER-19.2-SAVA-5 | F21: =SUM(G21:BN21) -> 5 | X21: 5
A22: ='VPS1'!A21 -> - | B22: ='VPS1'!B21 -> 0 | C22: ='VPS1'!C21 -> 0 | D22: ='VPS1'!D21 -> 0 | E22: ='VPS1'!E21 -> 0 | F22: =SUM(G22:BN22) -> 0
A23: ='VPS1'!A22 -> - | B23: ='VPS1'!B22 -> 0 | C23: ='VPS1'!C22 -> 0 | D23: ='VPS1'!D22 -> 0 | E23: ='VPS1'!E22 -> 0 | F23: =SUM(G23:BN23) -> 0
A24: ='VPS1'!A23 -> - | B24: ='VPS1'!B23 -> 0 | C24: ='VPS1'!C23 -> 0 | D24: ='VPS1'!D23 -> 0 | E24: ='VPS1'!E23 -> 0 | F24: =SUM(G24:BN24) -> 0
A25: ='VPS1'!A24 -> - | B25: ='VPS1'!B24 -> 0 | C25: ='VPS1'!C24 -> 0 | D25: ='VPS1'!D24 -> 0 | E25: ='VPS1'!E24 -> 0 | F25: =SUM(G25:BN25) -> 0
A26: ='VPS1'!A25 -> - | B26: ='VPS1'!B25 -> 0 | C26: ='VPS1'!C25 -> 0 | D26: ='VPS1'!D25 -> 0 | E26: ='VPS1'!E25 -> 0 | F26: =SUM(G26:BN26) -> 0
A27: ='VPS1'!A26 -> - | B27: ='VPS1'!B26 -> 0 | C27: ='VPS1'!C26 -> 0 | D27: ='VPS1'!D26 -> 0 | E27: ='VPS1'!E26 -> 0 | F27: =SUM(G27:BN27) -> 0
A28: ='VPS1'!A27 -> - | B28: ='VPS1'!B27 -> 0 | C28: ='VPS1'!C27 -> 0 | D28: ='VPS1'!D27 -> 0 | E28: ='VPS1'!E27 -> 0 | F28: =SUM(G28:BN28) -> 0
A29: ='VPS1'!A28 -> - | B29: ='VPS1'!B28 -> 0 | C29: ='VPS1'!C28 -> 0 | D29: ='VPS1'!D28 -> 0 | E29: ='VPS1'!E28 -> 0 | F29: =SUM(G29:BN29) -> 0
A30: ='VPS1'!A29 -> - | B30: ='VPS1'!B29 -> 0 | C30: ='VPS1'!C29 -> 0 | D30: ='VPS1'!D29 -> 0 | E30: ='VPS1'!E29 -> 0 | F30: =SUM(G30:BN30) -> 0
A31: ='VPS1'!A30 -> - | B31: ='VPS1'!B30 -> 0 | C31: ='VPS1'!C30 -> 0 | D31: ='VPS1'!D30 -> 0 | E31: ='VPS1'!E30 -> 0 | F31: =SUM(G31:BN31) -> 0
A32: ='VPS1'!A31 -> - | B32: ='VPS1'!B31 -> 0 | C32: ='VPS1'!C31 -> 0 | D32: ='VPS1'!D31 -> 0 | E32: ='VPS1'!E31 -> 0 | F32: =SUM(G32:BN32) -> 0
A33: ='VPS1'!A32 -> - | B33: ='VPS1'!B32 -> 0 | C33: ='VPS1'!C32 -> 0 | D33: ='VPS1'!D32 -> 0 | E33: ='VPS1'!E32 -> 0 | F33: =SUM(G33:BN33) -> 0
A34: ='VPS1'!A33 -> - | B34: ='VPS1'!B33 -> 0 | C34: ='VPS1'!C33 -> 0 | D34: ='VPS1'!D33 -> 0 | E34: ='VPS1'!E33 -> 0 | F34: =SUM(G34:BN34) -> 0

Sheet D4
A1: A3 | B1: Duomenys: Informacija apie gautų paraiškų vertę VPS priemonių/ veiklos sričių lygiu | AL1: =X:AL -> 0
A3: NMA vaidmuo: | B3: Patikrina VVG pateiktus lentelės duomenis. I-AL stulpelių eilutės nepildomos, jei priemonė turi veiklos sričių (C stulpelyje tipas 1).
A4: VVG vaidmuo: | B4: Užpildo lentelę nuo I stulpelio.
I6: Gautų paraiškų vertė (prašoma paramos suma), Eur
A7: VVG ir priemonės/veiklos srities kodas | B7: VVG | C7: Tipas | D7: VPS priemonės/ veiklos srities pavadinimas | E7: VPS priemonės/ veiklos srities kodas | F7: Vietos projektams įgyvendinti numatyta lėšų suma, Eur | G7: Bendra gautų paraiškų vertė, Eur | H7: Gautų paraiškų vertė, proc. nuo vietos projektams numatytų lėšų (nuo VPS įgyvendinimo pradžios) | I7: KV01 | J7: KV02 | K7: KV03 | L7: KV04 | M7: KV05 | N7: KV06 | O7: KV07 | P7: KV08 | Q7: KV09 | R7: KV10 | S7: KV11 | T7: KV12 | U7: KV13 | V7: KV14 | W7: KV15 | X7: KV16 | Y7: KV17 | Z7: KV18 | AA7: KV19 | AB7: KV20 | AC7: KV21 | AD7: KV22 | AE7: KV23 | AF7: KV24 | AG7: KV25 | AH7: KV26 | AI7: KV27 | AJ7: KV28 | AK7: KV29 | AL7: KV30 | AM7: KV 31 | AN7: KV32 | AO7: KV 33 | AP7: KV 34 | AQ7: KV35 | AR7: KV36 | AS7: KV37 | AT7: KV38 | AU7: KV39 | AV7: KV40 | AW7: KV41 | AX7: KV42 | AY7: KV43 | AZ7: KV44
A8: Užsipildo automatiškai pagal lapą VPS1 | B8: Užsipildo automatiškai pagal lapą VPS1 | C8: Užsipildo automatiškai pagal lapą VPS1 | D8: Užsipildo automatiškai pagal lapą VPS1 | E8: Užsipildo automatiškai pagal lapą VPS1 | F8: Užsipildo automatiškai pagal lapą VPS1 | G8: Užsipildo automatiškai (formulė) | H8: Užsipildo automatiškai (formulė) | I8: Suma nurodoma tame langelyje, kuriame susikerta aktualus kvietimo numeris ir VPS priemonė/ veiklos sritis. Kaip įvesti sumas žr. 4 eilutę lape "Instrukcija". Jei kvietimų daugiau nei 30, įterpti daugiau stulpelių.
A9: Iš viso | F9: =SUM(F10:F34) -> 2114412 | G9: =SUM(G10:G34) -> 1730036.1 | H9: =IF(G9>0,G9/F9,0) -> 0.81821146 | I9: =SUM(I10:I34) -> 347793.04 | J9: =SUM(J10:J34) -> 0 | K9: =SUM(K10:K34) -> 97619 | L9: =SUM(L10:L34) -> 109006 | M9: =SUM(M10:M34) -> 19524 | N9: =SUM(N10:N34) -> 146428.5 | O9: =SUM(O10:O34) -> 0 | P9: =SUM(P10:P34) -> 9573.89 | ... AZ9: =SUM(AZ10:AZ34) -> 0
A10: ='VPS1'!A9 -> MAŽE-LEADER-19.2-6 | B10: ='VPS1'!B9 -> MAŽE | C10: ='VPS1'!C9 -> 1 | D10: ='VPS1'!D9 -> Priemonė „Ūkio ir verslo plėtra“ | E10: ='VPS1'!E9 -> LEADER-19.2-6 | F10: ='VPS1'!F9 -> 0 | G10: =SUM(I10:AL10) -> 0 | H10: =IF(G10>0,G10/F10,0) -> 0
A11: ='VPS1'!A10 -> MAŽE-LEADER-19.2-6.2 | B11: ='VPS1'!B10 -> MAŽE | C11: ='VPS1'!C10 -> 2 | D11: ='VPS1'!D10 -> - veiklos sritis „Parama ne žemės ūkio verslui kaimo vietovėse pradėti “ | E11: ='VPS1'!E10 -> LEADER-19.2-6.2 | F11: ='VPS1'!F10 -> 292679 | G11: =SUM(I11:AL11) -> 347044.28 | H11: =IF(G11>0,G11/F11,0) -> 1.1857505 | I11: 48300 | J11: 0 | Q11: 95124.89 | S11: 0 | V11: 78199.55 | AC11: 0 | AE11: 45113.6 | AK11: 80306.24 | AQ11: 55529 | AU11: 141014.28
A12: ='VPS1'!A11 -> MAŽE-LEADER-19.2-6.4 | B12: ='VPS1'!B11 -> MAŽE | C12: ='VPS1'!C11 -> 2 | D12: ='VPS1'!D11 -> - veiklos sritis „Parama ne žemės ūkio verslui kaimo vietovėse plėtoti “ | E12: ='VPS1'!E11 -> LEADER-19.2-6.4 | F12: ='VPS1'!F11 -> 1164588 | G12: =SUM(I12:AL12) -> 827807.38 | H12: =IF(G12>0,G12/F12,0) -> 0.71081565 | I12: 299493.04 | L12: 109006 | R12: 0 | W12: 191162.23 | AB12: 43887.9 | AF12: 184258.21 | AP12: 451959.54 | AX12: 238776.26
A13: ='VPS1'!A12 -> MAŽE-LEADER-19.2-4 | B13: ='VPS1'!B12 -> MAŽE | C13: ='VPS1'!C12 -> 1 | D13: ='VPS1'!D12 -> Priemonė „Investicijos j materialųjį turtą“ | E13: ='VPS1'!E12 -> LEADER-19.2-4 | F13: ='VPS1'!F12 -> 0 | G13: =SUM(I13:AL13) -> 0 | H13: =IF(G13>0,G13/F13,0) -> 0
A14: ='VPS1'!A13 -> MAŽE-LEADER-19.2-4.2 | B14: ='VPS1'!B13 -> MAŽE | C14: ='VPS1'!C13 -> 2 | D14: ='VPS1'!D13 -> - veiklos sritis „Parama žemės ūkio produktų perdirbimui, rinkodarai ir (arba) plėtrai “ | E14: ='VPS1'!E13 -> LEADER-19.2-4.2 | F14: ='VPS1'!F13 -> 0 | G14: =SUM(I14:AL14) -> 0 | H14: =IF(G14>0,G14/F14,0) -> 0 | O14: 0 | AA14: 0 | AG14: 0 | AI14: 0 | AN14: 0
A15: ='VPS1'!A14 -> MAŽE-LEADER-19.2-SAVA-1 | B15: ='VPS1'!B14 -> MAŽE | C15: ='VPS1'!C14 -> 3 | D15: ='VPS1'!D14 -> Priemonė „NVO socialinio verslo kūrimas ir plėtra“ (kai socialinio verslo iniciatorius - NVO) | E15: ='VPS1'!E14 -> LEADER-19.2-SAVA-1 | F15: ='VPS1'!F14 -> 163822 | G15: =SUM(I15:AL15) -> 0 | H15: =IF(G15>0,G15/F15,0) -> 0 | X15: 0 | AL15: 0 | AO15: 54607.33 | AT15: 109161.13 | AV15: 0 | AX15: 0 | AZ15: 0
A16: ='VPS1'!A15 -> MAŽE-LEADER-19.2-7 | B16: ='VPS1'!B15 -> MAŽE | C16: ='VPS1'!C15 -> 1 | D16: ='VPS1'!D15 -> Priemonė „Pagrindinės paslaugos ir kaimų atnaujinimas kaimo vietovėse“ | E16: ='VPS1'!E15 -> LEADER-19.2-7 | F16: ='VPS1'!F15 -> 0 | G16: =SUM(I16:AL16) -> 0 | H16: =IF(G16>0,G16/F16,0) -> 0
A17: ='VPS1'!A16 -> MAŽE-LEADER-19.2-7.2 | B17: ='VPS1'!B16 -> MAŽE | C17: ='VPS1'!C16 -> 2 | D17: ='VPS1'!D16 -> - veiklos sritis „Parama investicijoms į visų rūšių mažos apimties infrastruktūrą “ | E17: ='VPS1'!E16 -> LEADER-19.2-7.2 | F17: ='VPS1'!F16 -> 154815 | G17: =SUM(I17:AL17) -> 244047.5 | H17: =IF(G17>0,G17/F17,0) -> 1.5763815 | K17: 97619 | N17: 146428.5 | AS17: 70819.74
A18: ='VPS1'!A17 -> MAŽE-LEADER-19.2-7.6 | B18: ='VPS1'!B17 -> MAŽE | C18: ='VPS1'!C17 -> 2 | D18: ='VPS1'!D17 -> - veiklos sritis „Parama investicijoms į kaimo kultūros ir gamtos paveldą, kraštovaizdį „ | E18: ='VPS1'!E17 -> LEADER-19.2-7.6 | F18: ='VPS1'!F17 -> 191192 | G18: =SUM(I18:AL18) -> 144476.12 | H18: =IF(G18>0,G18/F18,0) -> 0.75565986 | T18: 48809.5 | Y18: 95666.62 | AH18: 0 | AM18: 50761.88 | AR18: 48749.57 | AW18: 48706.12
A19: ='VPS1'!A18 -> MAŽE-LEADER-19.2-SAVA-3 | B19: ='VPS1'!B18 -> MAŽE | C19: ='VPS1'!C18 -> 3 | D19: ='VPS1'!D18 -> Priemonė „Vietos projektų pareiškėjų ir vykdytojų mokymas, įgūdžių įgijimas“ (kai mokymai susiję su VPS priemonėmis) | E19: ='VPS1'!E18 -> LEADER-19.2-SAVA-3 | F19: ='VPS1'!F18 -> 38870 | G19: =SUM(I19:AL19) -> 48418.71 | H19: =IF(G19>0,G19/F19,0) -> 1.2456576 | P19: 9573.89 | AD19: 29139.58 | AJ19: 9705.24
A20: ='VPS1'!A19 -> MAŽE-LEADER-19.2-SAVA-4 | B20: ='VPS1'!B19 -> MAŽE | C20: ='VPS1'!C19 -> 3 | D20: ='VPS1'!D19 -> Priemonė „Kultūros savitumo išsaugojimas, tradicijų tęstinumas” | E20: ='VPS1'!E19 -> LEADER-19.2-SAVA-4 | F20: ='VPS1'!F19 -> 48810 | G20: =SUM(I20:AL20) -> 58572 | H20: =IF(G20>0,G20/F20,0) -> 1.2 | M20: 19524 | U20: 39048
A21: ='VPS1'!A20 -> MAŽE-LEADER-19.2-SAVA-5 | B21: ='VPS1'!B20 -> MAŽE | C21: ='VPS1'!C20 -> 3 | D21: ='VPS1'!D20 -> Priemonė „NVO socialinės veiklos skatinimas“ | E21: ='VPS1'!E20 -> LEADER-19.2-SAVA-5 | F21: ='VPS1'!F20 -> 59636 | G21: =SUM(I21:AL21) -> 59670.15 | H21: =IF(G21>0,G21/F21,0) -> 1.0005726 | Z21: 59670.15
A22: ='VPS1'!A21 -> - | B22: ='VPS1'!B21 -> 0 | C22: ='VPS1'!C21 -> 0 | D22: ='VPS1'!D21 -> 0 | E22: ='VPS1'!E21 -> 0 | F22: ='VPS1'!F21 -> 0 | G22: =SUM(I22:AL22) -> 0 | H22: =IF(G22>0,G22/F22,0) -> 0
A23: ='VPS1'!A22 -> - | B23: ='VPS1'!B22 -> 0 | C23: ='VPS1'!C22 -> 0 | D23: ='VPS1'!D22 -> 0 | E23: ='VPS1'!E22 -> 0 | F23: ='VPS1'!F22 -> 0 | G23: =SUM(I23:AL23) -> 0 | H23: =IF(G23>0,G23/F23,0) -> 0
A24: ='VPS1'!A23 -> - | B24: ='VPS1'!B23 -> 0 | C24: ='VPS1'!C23 -> 0 | D24: ='VPS1'!D23 -> 0 | E24: ='VPS1'!E23 -> 0 | F24: ='VPS1'!F23 -> 0 | G24: =SUM(I24:AL24) -> 0 | H24: =IF(G24>0,G24/F24,0) -> 0
A25: ='VPS1'!A24 -> - | B25: ='VPS1'!B24 -> 0 | C25: ='VPS1'!C24 -> 0 | D25: ='VPS1'!D24 -> 0 | E25: ='VPS1'!E24 -> 0 | F25: ='VPS1'!F24 -> 0 | G25: =SUM(I25:AL25) -> 0 | H25: =IF(G25>0,G25/F25,0) -> 0
A26: ='VPS1'!A25 -> - | B26: ='VPS1'!B25 -> 0 | C26: ='VPS1'!C25 -> 0 | D26: ='VPS1'!D25 -> 0 | E26: ='VPS1'!E25 -> 0 | F26: ='VPS1'!F25 -> 0 | G26: =SUM(I26:AL26) -> 0 | H26: =IF(G26>0,G26/F26,0) -> 0
A27: ='VPS1'!A26 -> - | B27: ='VPS1'!B26 -> 0 | C27: ='VPS1'!C26 -> 0 | D27: ='VPS1'!D26 -> 0 | E27: ='VPS1'!E26 -> 0 | F27: ='VPS1'!F26 -> 0 | G27: =SUM(I27:AL27) -> 0 | H27: =IF(G27>0,G27/F27,0) -> 0
A28: ='VPS1'!A27 -> - | B28: ='VPS1'!B27 -> 0 | C28: ='VPS1'!C27 -> 0 | D28: ='VPS1'!D27 -> 0 | E28: ='VPS1'!E27 -> 0 | F28: ='VPS1'!F27 -> 0 | G28: =SUM(I28:AL28) -> 0 | H28: =IF(G28>0,G28/F28,0) -> 0
A29: ='VPS1'!A28 -> - | B29: ='VPS1'!B28 -> 0 | C29: ='VPS1'!C28 -> 0 | D29: ='VPS1'!D28 -> 0 | E29: ='VPS1'!E28 -> 0 | F29: ='VPS1'!F28 -> 0 | G29: =SUM(I29:AL29) -> 0 | H29: =IF(G29>0,G29/F29,0) -> 0
A30: ='VPS1'!A29 -> - | B30: ='VPS1'!B29 -> 0 | C30: ='VPS1'!C29 -> 0 | D30: ='VPS1'!D29 -> 0 | E30: ='VPS1'!E29 -> 0 | F30: ='VPS1'!F29 -> 0 | G30: =SUM(I30:AL30) -> 0 | H30: =IF(G30>0,G30/F30,0) -> 0
A31: ='VPS1'!A30 -> - | B31: ='VPS1'!B30 -> 0 | C31: ='VPS1'!C30 -> 0 | D31: ='VPS1'!D30 -> 0 | E31: ='VPS1'!E30 -> 0 | F31: ='VPS1'!F30 -> 0 | G31: =SUM(I31:AL31) -> 0 | H31: =IF(G31>0,G31/F31,0) -> 0
A32: ='VPS1'!A31 -> - | B32: ='VPS1'!B31 -> 0 | C32: ='VPS1'!C31 -> 0 | D32: ='VPS1'!D31 -> 0 | E32: ='VPS1'!E31 -> 0 | F32: ='VPS1'!F31 -> 0 | G32: =SUM(I32:AL32) -> 0 | H32: =IF(G32>0,G32/F32,0) -> 0
A33: ='VPS1'!A32 -> - | B33: ='VPS1'!B32 -> 0 | C33: ='VPS1'!C32 -> 0 | D33: ='VPS1'!D32 -> 0 | E33: ='VPS1'!E32 -> 0 | F33: ='VPS1'!F32 -> 0 | G33: =SUM(I33:AL33) -> 0 | H33: =IF(G33>0,G33/F33,0) -> 0
A34: ='VPS1'!A33 -> - | B34: ='VPS1'!B33 -> 0 | C34: ='VPS1'!C33 -> 0 | D34: ='VPS1'!D33 -> 0 | E34: ='VPS1'!E33 -> 0 | F34: ='VPS1'!F33 -> 0 | G34: =SUM(I34:AL34) -> 0 | H34: =IF(G34>0,G34/F34,0) -> 0

Sheet D5
B1: A3 | C1: Duomenys: Informacija apie paraiškų vertinimo rezultatus (NMA PAK)
B3: NMA vaidmuo: | C3: Užpildo lentelę pagal pagal pateiktą instrukciją.
B4: VVG vaidmuo: | C4: Patikrina lentelės duomenis.
B7: VVG ir priemonės/veiklos srities kodas | C7: VVG kodas (4 raidės) | D7: VVG kodas (4 raidės) - IŠ SĄRAŠO | E7: VVG ir priemonės/veiklos srities kodas - IŠ SĄRAŠO | F7: VVG pavadinimas (pilnas) | G7: VPS priemonės/ veiklos srities kodas | H7: Paraiškos gavimo data | I7: Pareiškėjo pavadinimas / Vardas, pavardė | J7: Pareiškėjo registracijos kodas (pagal VĮ Registrų centro Juridinių asmenų registro duomenis) / asmens kodas ir ūkio registracijos Nr. | K7: Paraiškos atpažinties (registracijos) kodas (suteiktas VVG) | L7: Paraiškos atpažinties (registracijos) kodas (suteiktas NMA) | M7: Vietos projekto pavadinimas | N7: Prašoma paramos suma vietos projektui įgyvendinti, Eur | O7: Finansavimo šaltinis | P7: EŽŪFKP prioritetai ir tikslinės sritys/ EJRŽF konkretūs tikslai ir uždaviniai | Q7: Pareiškėjo tipas (juridinis ar fizinis) | R7: Pareiškėjo tipas (detaliau) | S7: Jei pareiškėjas fizinis asmuo, ar vyras? | T7: Jei pareiškėjas fizinis asmuo, ar jaunas (iki 40 m.)? | U7: Paraiškos etapas | V7: Pridėtinės vertės (kokybės) vertinimas, balai | W7: Patvirtinta paramos suma vietos projektui įgyvendinti, Eur (po NMA PAK) | X7: Paraiškos patvirtinimo data (po NMA PAK) | Y7: Vietos projekto sutarties data | Z7: Projekto pabaigos (galutinio MP) data (jei data yra, projektas baigtas) | AA7: PLANUOJAMA: Sukurtų naujų darbo vietų (etatų) skaičius (vnt.) | AB7: PLANUOJAMA: Išlaikytų darbo vietų (etatų) skaičius (vnt.) | AC7: PASIEKTA: Sukurtų naujų darbo vietų (etatų) skaičius (vnt.) | AD7: PASIEKTA: Išlaikytų darbo vietų (etatų) skaičius (vnt.) | AE7: Paraiškos gavimo metai | AF7: Paraiškos patvirtinimo metai | AG7: Vietos projekto sutarties metai | AH7: Projekto pabaigos metai | AI7: Ar paraiška patvirtinta? | AJ7: Ar sudaryta sutartis? | AK7: Ar projektas baigtas?
B8: Užsipildo automatiškai, kai nurodytas VVG kodas ir VPS priemonės/ veiklos srities kodas | C8: Užsipildo automatiškai iš paraiškos kodo | D8: Jei #N/A - neteisingas VVG kodas (tikslinti K stulpelį) | E8: Jei #N/A - neteisingas priemonės/ veiklos srities kodas (tikslinti G stulpelį) | F8: Pildo NMA | G8: Pildo NMA. Reikšmės turi sutapti su nurodytomis lapo VPS1 E stulpelyje. | H8: Pildo NMA. Nurodoma paraiškos gavimo/ užregistravimo data pagal schemą MMM-MM-DD, pavyzdžiui, 2017-10-01 | I8: Pildo NMA | J8: Pildo NMA | K8: Pildo NMA | L8: Pildo NMA | M8: Pildo NMA | N8: Pildo NMA | O8: Pildo NMA. Lauko reikšmė įvedama arba pasirenkama iš sąrašo (galimos reikšmės: EŽŪFKP arba EJRŽF) | P8: Pildo NMA. Lauko reikšmė įvedama arba pasirenkama iš sąrašo. Galimų reikšmių sąrašas pateiktas lape "Instrukcija". | Q8: Pildo NMA. Lauko reikšmė įvedama arba pasirenkama iš sąrašo (galimos reikšmės: juridinis asmuo arba fizinis asmuo) | R8: Pildo NMA. Lauko reikšmė įvedama arba pasirenkama iš sąrašo. Galimų reikšmių sąrašas pateiktas lape "Instrukcija". | S8: Pildo NMA pagal pareiškėjo kodą arba pavadinimą. Lauko reikšmės: taip arba ne. | T8: Pildo NMA pagal pareiškėjo kodą. Lauko reikšmės: taip arba ne. | U8: Pildo NMA. Įtraukiamos tik paraiškos, kurių etapas - "Sutarties rengimas" ir "Paramos administravimas" | V8: Pildo NMA. Pateikiama informacija iš VVG PAK protokolo. | W8: Pildo NMA. Pateikiama informacija iš NMA PAK protokolo. | X8: Pildo NMA. Nurodoma NMA direktoriaus įsakymo data pagal schemą MMM-MM-DD, pavyzdžiui, 2017-10-01 | Y8: Pildo NMA. Nurodoma sutarties data pagal schemą MMM-MM-DD, pavyzdžiui, 2017-10-01 | Z8: Pildo NMA. Nurodoma galutinio MP data pagal schemą MMM-MM-DD, pavyzdžiui, 2017-10-01 | AA8: Pildo NMA (iš paraiškų/ sutarčių) - pildoma visiems patvirtintiems projektams. | AB8: Pildo NMA (iš paraiškų/ sutarčių) - pildoma visiems patvirtintiems projektams. | AC8: Pildo NMA (iš galutinių projektų įgyvendinimo ataskaitų) - pildoma tik baigtiems projektams | AD8: Pildo NMA (iš galutinių projektų įgyvendinimo ataskaitų) - pildoma tik baigtiems projektams | AE8: Užsipildo automatiškai pagal F stulpelį | AF8: Užsipildo automatiškai pagal V stulpelį | AG8: Užsipildo automatiškai pagal W stulpelį | AH8: Užsipildo automatiškai pagal X stilpelį | AI8: Užsipildo automatiškai | AJ8: Užsipildo automatiškai | AK8: Užsipildo automatiškai
B9: 1 | C9: 2 | D9: 3 | E9: 4 | F9: 5 | G9: 6 | H9: 7 | I9: 8 | J9: 9 | K9: 10 | L9: 11 | M9: 12 | N9: 13 | O9: 14 | P9: 15 | Q9: 16 | R9: 17 | S9: 18 | T9: 19 | U9: 20 | V9: 21 | W9: 22 | X9: 23 | Y9: 24 | Z9: 25 | AA9: 26 | AB9: 27 | AC9: 28 | AD9: 29 | AE9: 30 | AF9: 31 | AG9: 32 | AH9: 33 | AI9: 34 | AJ9: 35 | AK9: 36
A10: Kas pildo | B10: automatiškai | C10: automatiškai | D10: automatiškai | E10: automatiškai | F10: NMA | G10: NMA | H10: NMA | I10: NMA | J10: NMA | K10: NMA | L10: NMA | M10: NMA | N10: NMA | O10: NMA | P10: NMA | Q10: NMA | R10: NMA | S10: NMA | T10: NMA | U10: NMA | V10: NMA | W10: NMA | X10: NMA | Y10: NMA | Z10: NMA | AA10: NMA | AB10: NMA | AC10: NMA | AD10: NMA | AE10: automatiškai | AF10: automatiškai | AG10: automatiškai | AH10: automatiškai | AI10: automatiškai | AJ10: automatiškai | AK10: automatiškai
A11: Iš kur duomenys | B11: formulė | C11: formulė | D11: formulė | E11: formulė | F11: iš sistemos | G11: iš sistemos | H11: iš sistemos | I11: iš sistemos | J11: iš sistemos | K11: iš sistemos | L11: iš sistemos | M11: iš sistemos | N11: iš sistemos | O11: iš sistemos | P11: ranka | Q11: iš sistemos | R11: ranka | S11: ranka | T11: ranka | U11: iš sistemos | V11: iš sistemos | W11: iš sistemos | X11: iš sistemos | Y11: iš sistemos | Z11: iš sistemos | AA11: iš sistemos | AB11: iš sistemos | AC11: iš sistemos | AD11: iš sistemos | AE11: formulė | AF11: formulė | AG11: formulė | AH11: formulė | AI11: formulė | AJ11: formulė | AK11: formulė
B12: =CONCATENATE(C12,"-",G12) -> MAŽE-LEADER-19.2-6.4 | C12: =LEFT(K12,4) -> MAŽE | D12: =VLOOKUP(C12,Kodai_VVG!$C$4:$C$52,1,FALSE) -> MAŽE | E12: =VLOOKUP(B12,Kodai_priem!$D$4:$D$564,1,FALSE) -> Maže-LEADER-19.2-6.4 | F12: ŠIAURĖS VAKARŲ LIETUVOS VIETOS VEIKLOS GRUPĖ, A | G12: LEADER-19.2-6.4 | H12: 42864 | I12: UAB "MALORIJA", UAB | J12: 166778750 | K12: MAŽE-LEADER-6A-D-1-4 | L12: 42VS-PV-17-1-04263 | M12: Pramogų ir poilsio plėtra | N12: 32557.48 | O12: EŽŪFKP | P12: 6A | Q12: Juridinis asmuo | R12: MVĮ | S12: =IF($R12="fizinis asmuo","užpildykite","nepildyti") -> nepildyti | T12: =IF($R12="fizinis asmuo","užpildykite","nepildyti") -> nepildyti | U12: Paramos administravimas | V12: 73 | W12: 32557.48 | X12: 43117 | Y12: 43160 | Z12: 43375 | AA12: 1 | AB12: 22 | AC12: 1 | AD12: 21 | AE12: =IF($H12>0,YEAR($H12),) -> 2017 | AF12: =IF($X12>0,YEAR($X12),) -> 2018 | AG12: =IF($Y12>0,YEAR($Y12),) -> 2018 | AH12: =IF($Z12>0,YEAR($Z12),) -> 2018 | AI12: =IF(AF12>0,"taip","ne") -> taip | AJ12: =IF(AG12>0,"taip","ne") -> taip | AK12: =IF(AH12>0,"taip","ne") -> taip
B13: =CONCATENATE(C13,"-",G13) -> MAŽE-LEADER-19.2-6.4 | C13: =LEFT(K13,4) -> MAŽE | D13: =VLOOKUP(C13,Kodai_VVG!$C$4:$C$52,1,FALSE) -> MAŽE | E13: =VLOOKUP(B13,Kodai_priem!$D$4:$D$564,1,FALSE) -> Maže-LEADER-19.2-6.4 | F13: ŠIAURĖS VAKARŲ LIETUVOS VIETOS VEIKLOS GRUPĖ, A | G13: LEADER-19.2-6.4 | H13: 42864 | I13: UAB "VINITAS", UAB | J13: 303388881 | K13: MAŽE-LEADER-6A-D-1-3 | L13: 42VS-PV-17-1-04024 | M13: VInių gamybos pajėgumų išplėtimas | N13: 75308 | O13: EŽŪFKP | P13: 6A | Q13: Juridinis asmuo | R13: MVĮ | S13: =IF($R13="fizinis asmuo","užpildykite","nepildyti") -> nepildyti | T13: =IF($R13="fizinis asmuo","užpildykite","nepildyti") -> nepildyti | U13: Paramos administravimas | V13: 90 | W13: 75308 | X13: 43117 | Y13: 43162 | Z13: 43644 | AA13: 2 | AB13: 8 | AC13: 2 | AD13: 6 | AE13: =IF($H13>0,YEAR($H13),) -> 2017 | AF13: =IF($X13>0,YEAR($X13),) -> 2018 | AG13: =IF($Y13>0,YEAR($Y13),) -> 2018 | AH13: =IF($Z13>0,YEAR($Z13),) -> 2019 | AI13: =IF(AF13>0,"taip","ne") -> taip | AJ13: =IF(AG13>0,"taip","ne") -> taip | AK13: =IF(AH13>0,"taip","ne") -> taip
B14: =CONCATENATE(C14,"-",G14) -> MAŽE-LEADER-19.2-7.2 | C14: =LEFT(K14,4) -> MAŽE | D14: =VLOOKUP(C14,Kodai_VVG!$C$4:$C$52,1,FALSE) -> MAŽE | E14: =VLOOKUP(B14,Kodai_priem!$D$4:$D$564,1,FALSE) -> Maže-LEADER-19.2-7.2 | F14: ŠIAURĖS VAKARŲ LIETUVOS VIETOS VEIKLOS GRUPĖ, A | G14: LEADER-19.2-7.2 | H14: 43244 | I14: MAŽEIKIŲ R. TIRKŠLIŲ JUOZO VITKAUS-KAZIMIERAIČIO PAGRINDINĖ MOKYKLA, BĮ | J14: 190176839 | K14: MAŽE-LEADER-6B-I-6-2 | L14: 42VS-PV-18-1-06456 | M14: Mažeikių r. Tirkšlių Juozo Vitkaus-Kazimieraičio pagrindinės mokyklos sporto aikštyno statyba | N14: 48809.5 | O14: EŽŪFKP | P14: 6B | Q14: Juridinis asmuo | R14: Kita | S14: =IF($R14="fizinis asmuo","užpildykite","nepildyti") -> nepildyti | T14: =IF($R14="fizinis asmuo","užpildykite","nepildyti") -> nepildyti | U14: Paramos administravimas | V14: 90 | W14: 48810 | X14: 43517 | Y14: 43644 | Z14: 43819 | AE14: =IF($H14>0,YEAR($H14),) -> 2018 | AF14: =IF($X14>0,YEAR($X14),) -> 2019 | AG14: =IF($Y14>0,YEAR($Y14),) -> 2019 | AH14: =IF($Z14>0,YEAR($Z14),) -> 2019 | AI14: =IF(AF14>0,"taip","ne") -> taip | AJ14: =IF(AG14>0,"taip","ne") -> taip | AK14: =IF(AH14>0,"taip","ne") -> taip
