Workbook

Sheet VPS1
A1: A3 | B1: VPS duomenys: Informacija apie VPS priemones/ veiklos sritis
G2: Vietos plėtros strategijų, įgyvendinamų bendruomenių inicijuotos vietos plėtros būdu, administravimo taisyklių 2 priedo ir 3 priedo priedas
A3: NMA vaidmuo: | B3: Užpildo lentelę. I-J stulpelių eilutės nepildomos, jei priemonė turi veiklos sričių (C stulpelyje tipas 1).
A4: VVG vaidmuo: | B4: Patikrina lentelės duomenis.
A6: VVG ir priemonės/veiklos srities kodas | B6: VVG | C6: Tipas | D6: VPS priemonės/ veiklos srities pavadinimas | E6: VPS priemonės/ veiklos srities kodas | F6: Vietos projektams įgyvendinti numatyta lėšų suma, Eur | G6: Finansavimo šaltinis | H6: VPS prioritetas | I6: Siekama sukurti naujų darbo vietų | J6: Siekiama paremti vietos projektų
A7: Užsipildo automatiškai | B7: Nurodomas VVG pavadinimo trumpinys (4 raidės) | C7: Nurodomas skaičius nuo 1 iki 3, kur: 1 - priemonė, turinti veiklos sričių; 2 - veiklos sritis; 3 - priemonė, neturinti veiklos sričių | D7: Pateikiamas VPS priemonių ir jų veiklos sričių sąrašas iš VPS 5 dalies "VPS prioritetai, priemonės ir veiklos sritys". Nereikalingos eilutės paliekamos tuščios. | E7: Nurodomas priemonės/ VPS veiklos srities kodas (taip, kaip nurodyta lape "Kodai_priem" E stulpelyje). Be tarpelių prieš ir po kodo bei tarp kodo simbolių | F7: Pateikiama informacija iš VPS 11 dalies "VPS finansinis planas". Kaip įvesti sumas žr. 4 eilutę lape "Instrukcija". Priemonės eilutė nepildoma, jei priemonė turi veiklos sričių | G7: Nurodomas vienas iš dviejų fondų: EŽŪFKP arba EJRŽF | H7: Nurodomas skaičius romėniškais skaitmenimis iš VPS 5 dalies | I7: Pateikiama informacija iš VPS 9 dalies (VPS priemonių/ veiklos sričių lygiu) | J7: Pateikiama informacija iš VPS 12 dalies (VPS priemonių/ veiklos sričių lygiu, mokymų projektų neskirstant pagal temą)
B8: Iš viso | F8: =SUM(F9:F33) -> 2114412 | I8: =SUM(I9:I33) -> 35 | J8: =SUM(J9:J33) -> 46
A9: =CONCATENATE(LEFT(B9,4),"-",E9) -> MAŽE-LEADER-19.2-6 | B9: MAŽE | C9: 1 | D9: Priemonė „Ūkio ir verslo plėtra“ | E9: LEADER-19.2-6 | G9: EŽŪFKP
A10: =CONCATENATE(LEFT(B10,4),"-",E10) -> MAŽE-LEADER-19.2-6.2 | B10: MAŽE | C10: 2 | D10: - veiklos sritis „Parama ne žemės ūkio verslui kaimo vietovėse pradėti “ | E10: LEADER-19.2-6.2 | F10: 292679 | G10: EŽŪFKP | H10: I | I10: 6 | J10: 6
A11: =CONCATENATE(LEFT(B11,4),"-",E11) -> MAŽE-LEADER-19.2-6.4 | B11: MAŽE | C11: 2 | D11: - veiklos sritis „Parama ne žemės ūkio verslui kaimo vietovėse plėtoti “ | E11: LEADER-19.2-6.4 | F11: 1164588 | G11: EŽŪFKP | H11: I | I11: 26 | J11: 16
A12: =CONCATENATE(LEFT(B12,4),"-",E12) -> MAŽE-LEADER-19.2-4 | B12: MAŽE | C12: 1 | D12: Priemonė „Investicijos j materialųjį turtą“ | E12: LEADER-19.2-4 | G12: EŽŪFKP
A13: =CONCATENATE(LEFT(B13,4),"-",E13) -> MAŽE-LEADER-19.2-4.2 | B13: MAŽE | C13: 2 | D13: - veiklos sritis „Parama žemės ūkio produktų perdirbimui, rinkodarai ir (arba) plėtrai “ | E13: LEADER-19.2-4.2 | F13: 0 | G13: EŽŪFKP | H13: I | I13: 0 | J13: 0
A14: =CONCATENATE(LEFT(B14,4),"-",E14) -> MAŽE-LEADER-19.2-SAVA-1 | B14: MAŽE | C14: 3 | D14: Priemonė „NVO socialinio verslo kūrimas ir plėtra“ (kai socialinio verslo iniciatorius - NVO) | E14: LEADER-19.2-SAVA-1 | F14: 163822 | G14: EŽŪFKP | H14: I | I14: 3 | J14: 3
A15: =CONCATENATE(LEFT(B15,4),"-",E15) -> MAŽE-LEADER-19.2-7 | B15: MAŽE | C15: 1 | D15: Priemonė „Pagrindinės paslaugos ir kaimų atnaujinimas kaimo vietovėse“ | E15: LEADER-19.2-7 | G15: EŽŪFKP
A16: =CONCATENATE(LEFT(B16,4),"-",E16) -> MAŽE-LEADER-19.2-7.2 | B16: MAŽE | C16: 2 | D16: - veiklos sritis „Parama investicijoms į visų rūšių mažos apimties infrastruktūrą “ | E16: LEADER-19.2-7.2 | F16: 154815 | G16: EŽŪFKP | H16: II | J16: 3
A17: =CONCATENATE(LEFT(B17,4),"-",E17) -> MAŽE-LEADER-19.2-7.6 | B17: MAŽE | C17: 2 | D17: - veiklos sritis „Parama investicijoms į kaimo kultūros ir gamtos paveldą, kraštovaizdį „ | E17: LEADER-19.2-7.6 | F17: 191192 | G17: EŽŪFKP | H17: II | J17: 4
A18: =CONCATENATE(LEFT(B18,4),"-",E18) -> MAŽE-LEADER-19.2-SAVA-3 | B18: MAŽE | C18: 3 | D18: Priemonė „Vietos projektų pareiškėjų ir vykdytojų mokymas, įgūdžių įgijimas“ (kai mokymai susiję su VPS priemonėmis) | E18: LEADER-19.2-SAVA-3 | F18: 38870 | G18: EŽŪFKP | H18: II | J18: 4
A19: =CONCATENATE(LEFT(B19,4),"-",E19) -> MAŽE-LEADER-19.2-SAVA-4 | B19: MAŽE | C19: 3 | D19: Priemonė „Kultūros savitumo išsaugojimas, tradicijų tęstinumas” | E19: LEADER-19.2-SAVA-4 | F19: 48810 | G19: EŽŪFKP | H19: II | J19: 5
A20: =CONCATENATE(LEFT(B20,4),"-",E20) -> MAŽE-LEADER-19.2-SAVA-5 | B20: MAŽE | C20: 3 | D20: Priemonė „NVO socialinės veiklos skatinimas“ | E20: LEADER-19.2-SAVA-5 | F20: 59636 | G20: EŽŪFKP | H20: II | J20: 5
A21: =CONCATENATE(LEFT(B21,4),"-",E21) -> -
A22: =CONCATENATE(LEFT(B22,4),"-",E22) -> -
A23: =CONCATENATE(LEFT(B23,4),"-",E23) -> -
A24: =CONCATENATE(LEFT(B24,4),"-",E24) -> -
A25: =CONCATENATE(LEFT(B25,4),"-",E25) -> -
A26: =CONCATENATE(LEFT(B26,4),"-",E26) -> -
A27: =CONCATENATE(LEFT(B27,4),"-",E27) -> -
A28: =CONCATENATE(LEFT(B28,4),"-",E28) -> -
A29: =CONCATENATE(LEFT(B29,4),"-",E29) -> -
A30: =CONCATENATE(LEFT(B30,4),"-",E30) -> -
A31: =CONCATENATE(LEFT(B31,4),"-",E31) -> -
A32: =CONCATENATE(LEFT(B32,4),"-",E32) -> -
A33: =CONCATENATE(LEFT(B33,4),"-",E33) -> -

Sheet VPS2.1
A1: A3 | B1: VPS duomenys: Siekiama paremti vietos projektų EŽŪFKP prioritetų ir tikslinių sričių lygiu bei VPS priemonių/ veiklos sričių lygiu
A3: NMA vaidmuo: | B3: Užpildo lentelę. Eilutės nepildomos, jei priemonė turi veiklos sričių (C stulpelyje tipas 1).
A4: VVG vaidmuo: | B4: Patikrina lentelės duomenis.
H6: Paremtų vietos projektų skaičius (vnt.)
H7: EŽŪFKP prioritetai ir tikslinės sritys
A8: VVG ir priemonės/veiklos srities kodas | B8: VVG | C8: Tipas | D8: VPS priemonės/ veiklos srities pavadinimas | E8: VPS priemonės/ veiklos srities kodas | F8: Finansavimo šaltinis | G8: Siekiama paremti vietos projektų | H8: 1A | I8: 1C | J8: 2B | K8: 3A | L8: 4A | M8: 5C | N8: 6A | O8: 6B | P8: 6C
A9: Užsipildo automatiškai pagal lapą VPS1 | B9: Užsipildo automatiškai pagal lapą VPS1 | C9: Užsipildo automatiškai pagal lapą VPS1 | D9: Užsipildo automatiškai pagal lapą VPS1 | E9: Užsipildo automatiškai pagal lapą VPS1 | F9: Užsipildo automatiškai pagal lapą VPS1 | G9: Užsipildo automatiškai (formulė) | H9: Pateikiami duomenys iš VPS 12 dalies. Nurodomas bendras projektų skaičius, neskirstant pagal pareiškėjo tipą (NVO, fizinis asmuo ar pan.) ir mokymų pobūdį (susiję su kompiuterinio raštingumo, verslumo ar pan. mokymais).
B10: Iš viso | G10: =SUM(G11:G35) -> 46 | H10: =SUM(H11:H35) -> 0 | I10: =SUM(I11:I35) -> 4 | J10: =SUM(J11:J35) -> 0 | K10: =SUM(K11:K35) -> 5 | L10: =SUM(L11:L35) -> 0 | M10: =SUM(M11:M35) -> 0 | N10: =SUM(N11:N35) -> 22 | ... P10: =SUM(P11:P35) -> 0
A11: ='VPS1'!A9 -> MAŽE-LEADER-19.2-6 | B11: ='VPS1'!B9 -> MAŽE | C11: ='VPS1'!C9 -> 1 | D11: ='VPS1'!D9 -> Priemonė „Ūkio ir verslo plėtra“ | E11: ='VPS1'!E9 -> LEADER-19.2-6 | F11: ='VPS1'!G9 -> EŽŪFKP | G11: =SUM(H11:P11) -> 0
A12: ='VPS1'!A10 -> MAŽE-LEADER-19.2-6.2 | B12: ='VPS1'!B10 -> MAŽE | C12: ='VPS1'!C10 -> 2 | D12: ='VPS1'!D10 -> - veiklos sritis „Parama ne žemės ūkio verslui kaimo vietovėse pradėti “ | E12: ='VPS1'!E10 -> LEADER-19.2-6.2 | F12: ='VPS1'!G10 -> EŽŪFKP | G12: =SUM(H12:P12) -> 6 | N12: 6
A13: ='VPS1'!A11 -> MAŽE-LEADER-19.2-6.4 | B13: ='VPS1'!B11 -> MAŽE | C13: ='VPS1'!C11 -> 2 | D13: ='VPS1'!D11 -> - veiklos sritis „Parama ne žemės ūkio verslui kaimo vietovėse plėtoti “ | E13: ='VPS1'!E11 -> LEADER-19.2-6.4 | F13: ='VPS1'!G11 -> EŽŪFKP | G13: =SUM(H13:P13) -> 16 | N13: 16
A14: ='VPS1'!A12 -> MAŽE-LEADER-19.2-4 | B14: ='VPS1'!B12 -> MAŽE | C14: ='VPS1'!C12 -> 1 | D14: ='VPS1'!D12 -> Priemonė „Investicijos j materialųjį turtą“ | E14: ='VPS1'!E12 -> LEADER-19.2-4 | F14: ='VPS1'!G12 -> EŽŪFKP | G14: =SUM(H14:P14) -> 0
A15: ='VPS1'!A13 -> MAŽE-LEADER-19.2-4.2 | B15: ='VPS1'!B13 -> MAŽE | C15: ='VPS1'!C13 -> 2 | D15: ='VPS1'!D13 -> - veiklos sritis „Parama žemės ūkio produktų perdirbimui, rinkodarai ir (arba) plėtrai “ | E15: ='VPS1'!E13 -> LEADER-19.2-4.2 | F15: ='VPS1'!G13 -> EŽŪFKP | G15: =SUM(H15:P15) -> 0 | K15: 0
A16: ='VPS1'!A14 -> MAŽE-LEADER-19.2-SAVA-1 | B16: ='VPS1'!B14 -> MAŽE | C16: ='VPS1'!C14 -> 3 | D16: ='VPS1'!D14 -> Priemonė „NVO socialinio verslo kūrimas ir plėtra“ (kai socialinio verslo iniciatorius - NVO) | E16: ='VPS1'!E14 -> LEADER-19.2-SAVA-1 | F16: ='VPS1'!G14 -> EŽŪFKP | G16: =SUM(H16:P16) -> 3 | O16: 3
A17: ='VPS1'!A15 -> MAŽE-LEADER-19.2-7 | B17: ='VPS1'!B15 -> MAŽE | C17: ='VPS1'!C15 -> 1 | D17: ='VPS1'!D15 -> Priemonė „Pagrindinės paslaugos ir kaimų atnaujinimas kaimo vietovėse“ | E17: ='VPS1'!E15 -> LEADER-19.2-7 | F17: ='VPS1'!G15 -> EŽŪFKP | G17: =SUM(H17:P17) -> 0
A18: ='VPS1'!A16 -> MAŽE-LEADER-19.2-7.2 | B18: ='VPS1'!B16 -> MAŽE | C18: ='VPS1'!C16 -> 2 | D18: ='VPS1'!D16 -> - veiklos sritis „Parama investicijoms į visų rūšių mažos apimties infrastruktūrą “ | E18: ='VPS1'!E16 -> LEADER-19.2-7.2 | F18: ='VPS1'!G16 -> EŽŪFKP | G18: =SUM(H18:P18) -> 3 | O18: 3
A19: ='VPS1'!A17 -> MAŽE-LEADER-19.2-7.6 | B19: ='VPS1'!B17 -> MAŽE | C19: ='VPS1'!C17 -> 2 | D19: ='VPS1'!D17 -> - veiklos sritis „Parama investicijoms į kaimo kultūros ir gamtos paveldą, kraštovaizdį „ | E19: ='VPS1'!E17 -> LEADER-19.2-7.6 | F19: ='VPS1'!G17 -> EŽŪFKP | G19: =SUM(H19:P19) -> 4 | O19: 4
A20: ='VPS1'!A18 -> MAŽE-LEADER-19.2-SAVA-3 | B20: ='VPS1'!B18 -> MAŽE | C20: ='VPS1'!C18 -> 3 | D20: ='VPS1'!D18 -> Priemonė „Vietos projektų pareiškėjų ir vykdytojų mokymas, įgūdžių įgijimas“ (kai mokymai susiję su VPS priemonėmis) | E20: ='VPS1'!E18 -> LEADER-19.2-SAVA-3 | F20: ='VPS1'!G18 -> EŽŪFKP | G20: =SUM(H20:P20) -> 4 | I20: 4
A21: ='VPS1'!A19 -> MAŽE-LEADER-19.2-SAVA-4 | B21: ='VPS1'!B19 -> MAŽE | C21: ='VPS1'!C19 -> 3 | D21: ='VPS1'!D19 -> Priemonė „Kultūros savitumo išsaugojimas, tradicijų tęstinumas” | E21: ='VPS1'!E19 -> LEADER-19.2-SAVA-4 | F21: ='VPS1'!G19 -> EŽŪFKP | G21: =SUM(H21:P21) -> 5 | O21: 5
A22: ='VPS1'!A20 -> MAŽE-LEADER-19.2-SAVA-5 | B22: ='VPS1'!B20 -> MAŽE | C22: ='VPS1'!C20 -> 3 | D22: ='VPS1'!D20 -> Priemonė „NVO socialinės veiklos skatinimas“ | E22: ='VPS1'!E20 -> LEADER-19.2-SAVA-5 | F22: ='VPS1'!G20 -> EŽŪFKP | G22: =SUM(H22:P22) -> 5 | K22: 5
A23: ='VPS1'!A21 -> - | B23: ='VPS1'!B21 -> 0 | C23: ='VPS1'!C21 -> 0 | D23: ='VPS1'!D21 -> 0 | E23: ='VPS1'!E21 -> 0 | F23: ='VPS1'!G21 -> 0 | G23: =SUM(H23:P23) -> 0
A24: ='VPS1'!A22 -> - | B24: ='VPS1'!B22 -> 0 | C24: ='VPS1'!C22 -> 0 | D24: ='VPS1'!D22 -> 0 | E24: ='VPS1'!E22 -> 0 | F24: ='VPS1'!G22 -> 0 | G24: =SUM(H24:P24) -> 0
A25: ='VPS1'!A23 -> - | B25: ='VPS1'!B23 -> 0 | C25: ='VPS1'!C23 -> 0 | D25: ='VPS1'!D23 -> 0 | E25: ='VPS1'!E23 -> 0 | F25: ='VPS1'!G23 -> 0 | G25: =SUM(H25:P25) -> 0
A26: ='VPS1'!A24 -> - | B26: ='VPS1'!B24 -> 0 | C26: ='VPS1'!C24 -> 0 | D26: ='VPS1'!D24 -> 0 | E26: ='VPS1'!E24 -> 0 | F26: ='VPS1'!G24 -> 0 | G26: =SUM(H26:P26) -> 0
A27: ='VPS1'!A25 -> - | B27: ='VPS1'!B25 -> 0 | C27: ='VPS1'!C25 -> 0 | D27: ='VPS1'!D25 -> 0 | E27: ='VPS1'!E25 -> 0 | F27: ='VPS1'!G25 -> 0 | G27: =SUM(H27:P27) -> 0
A28: ='VPS1'!A26 -> - | B28: ='VPS1'!B26 -> 0 | C28: ='VPS1'!C26 -> 0 | D28: ='VPS1'!D26 -> 0 | E28: ='VPS1'!E26 -> 0 | F28: ='VPS1'!G26 -> 0 | G28: =SUM(H28:P28) -> 0
A29: ='VPS1'!A27 -> - | B29: ='VPS1'!B27 -> 0 | C29: ='VPS1'!C27 -> 0 | D29: ='VPS1'!D27 -> 0 | E29: ='VPS1'!E27 -> 0 | F29: ='VPS1'!G27 -> 0 | G29: =SUM(H29:P29) -> 0
A30: ='VPS1'!A28 -> - | B30: ='VPS1'!B28 -> 0 | C30: ='VPS1'!C28 -> 0 | D30: ='VPS1'!D28 -> 0 | E30: ='VPS1'!E28 -> 0 | F30: ='VPS1'!G28 -> 0 | G30: =SUM(H30:P30) -> 0
A31: ='VPS1'!A29 -> - | B31: ='VPS1'!B29 -> 0 | C31: ='VPS1'!C29 -> 0 | D31: ='VPS1'!D29 -> 0 | E31: ='VPS1'!E29 -> 0 | F31: ='VPS1'!G29 -> 0 | G31: =SUM(H31:P31) -> 0
A32: ='VPS1'!A30 -> - | B32: ='VPS1'!B30 -> 0 | C32: ='VPS1'!C30 -> 0 | D32: ='VPS1'!D30 -> 0 | E32: ='VPS1'!E30 -> 0 | F32: ='VPS1'!G30 -> 0 | G32: =SUM(H32:P32) -> 0
A33: ='VPS1'!A31 -> - | B33: ='VPS1'!B31 -> 0 | C33: ='VPS1'!C31 -> 0 | D33: ='VPS1'!D31 -> 0 | E33: ='VPS1'!E31 -> 0 | F33: ='VPS1'!G31 -> 0 | G33: =SUM(H33:P33) -> 0
A34: ='VPS1'!A32 -> - | B34: ='VPS1'!B32 -> 0 | C34: ='VPS1'!C32 -> 0 | D34: ='VPS1'!D32 -> 0 | E34: ='VPS1'!E32 -> 0 | F34: ='VPS1'!G32 -> 0 | G34: =SUM(H34:P34) -> 0
A35: ='VPS1'!A33 -> - | B35: ='VPS1'!B33 -> 0 | C35: ='VPS1'!C33 -> 0 | D35: ='VPS1'!D33 -> 0 | E35: ='VPS1'!E33 -> 0 | F35: ='VPS1'!G33 -> 0 | G35: =SUM(H35:P35) -> 0

Sheet VPS2.2
A1: A3 | B1: VPS duomenys: Siekiama paremti vietos projektų EJRŽF konkrečių tikslų ir uždavinių bei VPS priemonių/ veiklos sričių lygiu
A3: NMA vaidmuo: | B3: Užpildo lentelę. Eilutės nepildomos, jei priemonė turi veiklos sričių (C stulpelyje tipas 1).
A4: VVG vaidmuo: | B4: Patikrina lentelės duomenis.
H6: Paremtų vietos projektų skaičius (vnt.)
H7: EJRŽF konkretūs tikslai ir uždaviniai
A8: VVG ir priemonės/veiklos srities kodas | B8: VVG | C8: Tipas | D8: VPS priemonės/ veiklos srities pavadinimas | E8: VPS priemonės/ veiklos srities kodas | F8: Finansavimo šaltinis | G8: Siekiama paremti vietos projektų | H8: 8.1.1.Ž | I8: 8.1.2.Ž | J8: 8.1.3.Ž | K8: 8.2.1.Ž | L8: 8.2.2.Ž | M8: 8.2.3.Ž | N8: 8.3.1.Ž | O8: 8.3.2.Ž
A9: Užsipildo automatiškai pagal lapą VPS1 | B9: Užsipildo automatiškai pagal lapą VPS1 | C9: Užsipildo automatiškai pagal lapą VPS1 | D9: Užsipildo automatiškai pagal lapą VPS1 | E9: Užsipildo automatiškai pagal lapą VPS1 | F9: Užsipildo automatiškai pagal lapą VPS1 | G9: Užsipildo automatiškai | H9: Pateikiami duomenys iš VPS 12 dalies. Nurodomas bendras projektų skaičius, neskirstant pagal pareiškėjo tipą (NVO, fizinis asmuo ar pan.) ir mokymų pobūdį (susiję su kompiuterinio raštingumo, verslumo ar pan. mokymais)
B10: Iš viso | G10: =SUM(G11:G35) -> 0 | H10: =SUM(H11:H35) -> 0 | I10: =SUM(I11:I35) -> 0 | J10: =SUM(J11:J35) -> 0 | K10: =SUM(K11:K35) -> 0 | L10: =SUM(L11:L35) -> 0 | M10: =SUM(M11:M35) -> 0 | N10: =SUM(N11:N35) -> 0 | O10: =SUM(O11:O35) -> 0
A11: ='VPS1'!A9 -> MAŽE-LEADER-19.2-6 | B11: ='VPS1'!B9 -> MAŽE | C11: ='VPS1'!C9 -> 1 | D11: ='VPS1'!D9 -> Priemonė „Ūkio ir verslo plėtra“ | E11: ='VPS1'!E9 -> LEADER-19.2-6 | F11: ='VPS1'!G9 -> EŽŪFKP | G11: =SUM(H11:O11) -> 0
A12: ='VPS1'!A10 -> MAŽE-LEADER-19.2-6.2 | B12: ='VPS1'!B10 -> MAŽE | C12: ='VPS1'!C10 -> 2 | D12: ='VPS1'!D10 -> - veiklos sritis „Parama ne žemės ūkio verslui kaimo vietovėse pradėti “ | E12: ='VPS1'!E10 -> LEADER-19.2-6.2 | F12: ='VPS1'!G10 -> EŽŪFKP | G12: =SUM(H12:O12) -> 0
A13: ='VPS1'!A11 -> MAŽE-LEADER-19.2-6.4 | B13: ='VPS1'!B11 -> MAŽE | C13: ='VPS1'!C11 -> 2 | D13: ='VPS1'!D11 -> - veiklos sritis „Parama ne žemės ūkio verslui kaimo vietovėse plėtoti “ | E13: ='VPS1'!E11 -> LEADER-19.2-6.4 | F13: ='VPS1'!G11 -> EŽŪFKP | G13: =SUM(H13:O13) -> 0
A14: ='VPS1'!A12 -> MAŽE-LEADER-19.2-4 | B14: ='VPS1'!B12 -> MAŽE | C14: ='VPS1'!C12 -> 1 | D14: ='VPS1'!D12 -> Priemonė „Investicijos j materialųjį turtą“ | E14: ='VPS1'!E12 -> LEADER-19.2-4 | F14: ='VPS1'!G12 -> EŽŪFKP | G14: =SUM(H14:O14) -> 0
A15: ='VPS1'!A13 -> MAŽE-LEADER-19.2-4.2 | B15: ='VPS1'!B13 -> MAŽE | C15: ='VPS1'!C13 -> 2 | D15: ='VPS1'!D13 -> - veiklos sritis „Parama žemės ūkio produktų perdirbimui, rinkodarai ir (arba) plėtrai “ | E15: ='VPS1'!E13 -> LEADER-19.2-4.2 | F15: ='VPS1'!G13 -> EŽŪFKP | G15: =SUM(H15:O15) -> 0
A16: ='VPS1'!A14 -> MAŽE-LEADER-19.2-SAVA-1 | B16: ='VPS1'!B14 -> MAŽE | C16: ='VPS1'!C14 -> 3 | D16: ='VPS1'!D14 -> Priemonė „NVO socialinio verslo kūrimas ir plėtra“ (kai socialinio verslo iniciatorius - NVO) | E16: ='VPS1'!E14 -> LEADER-19.2-SAVA-1 | F16: ='VPS1'!G14 -> EŽŪFKP | G16: =SUM(H16:O16) -> 0
A17: ='VPS1'!A15 -> MAŽE-LEADER-19.2-7 | B17: ='VPS1'!B15 -> MAŽE | C17: ='VPS1'!C15 -> 1 | D17: ='VPS1'!D15 -> Priemonė „Pagrindinės paslaugos ir kaimų atnaujinimas kaimo vietovėse“ | E17: ='VPS1'!E15 -> LEADER-19.2-7 | F17: ='VPS1'!G15 -> EŽŪFKP | G17: =SUM(H17:O17) -> 0
A18: ='VPS1'!A16 -> MAŽE-LEADER-19.2-7.2 | B18: ='VPS1'!B16 -> MAŽE | C18: ='VPS1'!C16 -> 2 | D18: ='VPS1'!D16 -> - veiklos sritis „Parama investicijoms į visų rūšių mažos apimties infrastruktūrą “ | E18: ='VPS1'!E16 -> LEADER-19.2-7.2 | F18: ='VPS1'!G16 -> EŽŪFKP | G18: =SUM(H18:O18) -> 0
A19: ='VPS1'!A17 -> MAŽE-LEADER-19.2-7.6 | B19: ='VPS1'!B17 -> MAŽE | C19: ='VPS1'!C17 -> 2 | D19: ='VPS1'!D17 -> - veiklos sritis „Parama investicijoms į kaimo kultūros ir gamtos paveldą, kraštovaizdį „ | E19: ='VPS1'!E17 -> LEADER-19.2-7.6 | F19: ='VPS1'!G17 -> EŽŪFKP | G19: =SUM(H19:O19) -> 0
A20: ='VPS1'!A18 -> MAŽE-LEADER-19.2-SAVA-3 | B20: ='VPS1'!B18 -> MAŽE | C20: ='VPS1'!C18 -> 3 | D20: ='VPS1'!D18 -> Priemonė „Vietos projektų pareiškėjų ir vykdytojų mokymas, įgūdžių įgijimas“ (kai mokymai susiję su VPS priemonėmis) | E20: ='VPS1'!E18 -> LEADER-19.2-SAVA-3 | F20: ='VPS1'!G18 -> EŽŪFKP | G20: =SUM(H20:O20) -> 0
A21: ='VPS1'!A19 -> MAŽE-LEADER-19.2-SAVA-4 | B21: ='VPS1'!B19 -> MAŽE | C21: ='VPS1'!C19 -> 3 | D21: ='VPS1'!D19 -> Priemonė „Kultūros savitumo išsaugojimas, tradicijų tęstinumas” | E21: ='VPS1'!E19 -> LEADER-19.2-SAVA-4 | F21: ='VPS1'!G19 -> EŽŪFKP | G21: =SUM(H21:O21) -> 0
A22: ='VPS1'!A20 -> MAŽE-LEADER-19.2-SAVA-5 | B22: ='VPS1'!B20 -> MAŽE | C22: ='VPS1'!C20 -> 3 | D22: ='VPS1'!D20 -> Priemonė „NVO socialinės veiklos skatinimas“ | E22: ='VPS1'!E20 -> LEADER-19.2-SAVA-5 | F22: ='VPS1'!G20 -> EŽŪFKP | G22: =SUM(H22:O22) -> 0
... A35: ='VPS1'!A33 -> - | B35: ='VPS1'!B33 -> 0 | C35: ='VPS1'!C33 -> 0 | D35: ='VPS1'!D33 -> 0 | E35: ='VPS1'!E33 -> 0 | F35: ='VPS1'!G33 -> 0 | G35: =SUM(H35:O35) -> 0

Sheet VPS3.1
A1: A4 | B1: VPS duomenys: Siekiama sukurti naujų darbo vietų VPS lygiu (EŽŪFKP)
A3: NMA vaidmuo: | B3: Užpildo lentelę pagal VPS 12 dalį.
A4: VVG vaidmuo: | B4: Patikrina lentelės duomenis.
C6: Sukurtų naujų darbo vietų (naujų etatų) skaičius įgyvendinus vietos projektus (vnt.)
C7: EŽŪFKP prioritetai ir tikslinės sritys
A8: VVG | B8: Siekiama sukurti naujų darbo vietų | C8: 1A | D8: 1C | E8: 2B | F8: 3A | G8: 4A | H8: 5C | I8: 6A | J8: 6B | K8: 6C
A9: Užsipildo automatiškai pagal lapą VPS1 | B9: Užsipildo automatiškai | C9: Pateikiami duomenys VPS lygiu iš VPS 12 dalies (atskirai EŽŪFKP ir EJRŽF)
A10: Iš viso | B10: =SUM(B11:B11) -> 35 | C10: =SUM(C11:C11) -> 0 | D10: =SUM(D11:D11) -> 0 | E10: =SUM(E11:E11) -> 0 | F10: =SUM(F11:F11) -> 0 | G10: =SUM(G11:G11) -> 0 | H10: =SUM(H11:H11) -> 0 | I10: =SUM(I11:I11) -> 32 | ... K10: =SUM(K11:K11) -> 0
A11: ='VPS1'!B9 -> MAŽE | B11: =SUM(C11:K11) -> 35 | F11: 0 | I11: 32 | J11: 3

Sheet VPS3.2
A1: A4 | B1: VPS duomenys: Siekiama sukurti naujų darbo vietų VPS lygiu (EJRŽF)
A3: NMA vaidmuo: | B3: Užpildo lentelę pagal VPS 12 dalį.
A4: VVG vaidmuo: | B4: Patikrina lentelės duomenis.
C6: Sukurtų naujų darbo vietų (naujų etatų) skaičius įgyvendinus vietos projektus (vnt.)
C7: EJRŽF konkretūs tikslai ir uždaviniai
A8: VVG | B8: Siekiama sukurti naujų darbo vietų | C8: 8.1.1.Ž | D8: 8.1.2.Ž | E8: 8.1.3.Ž | F8: 8.2.1.Ž | G8: 8.2.2.Ž | H8: 8.2.3.Ž | I8: 8.3.1.Ž | J8: 8.3.2.Ž
A9: Užsipildo automatiškai pagal lapą VPS1 | B9: Užsipildo automatiškai | C9: Pateikiami duomenys VPS lygiu iš VPS 12 dalies (atskirai EŽŪFKP ir EJRŽF)
A10: Iš viso | B10: =SUM(B11:B11) -> 0 | C10: =SUM(C11:C11) -> 0 | D10: =SUM(D11:D11) -> 0 | E10: =SUM(E11:E11) -> 0 | F10: =SUM(F11:F11) -> 0 | G10: =SUM(G11:G11) -> 0 | H10: =SUM(H11:H11) -> 0 | I10: =SUM(I11:I11) -> 0 | J10: =SUM(J11:J11) -> 0
B11: =SUM(C11:J11) -> 0

Sheet D1
A1: A4 | B1: Duomenys: Informacija apie kvietimus
A3: NMA vaidmuo: | B3: Patikrina VVG pateiktus lentelės duomenis.
A4: VVG vaidmuo: | B4: Užpildo lentelę (C, D, E stulpeliai).
A7: VVG | B7: Kvietimo Nr. | C7: Kvietimo pradžia | D7: Kvietimo pabaiga | E7: Gautų paraiškų skaičius | F7: Kvietimo trukmė (d.) | G7: Kvietimo pradžios metai | H7: Kvietimo pabaigos metai
A8: Užsipildo automatiškai pagal lapą VPS1 | B8: Nurodomas kvietimo numeris pagal schemą KV01, kur "KV" reiškia žodį "kvietimas", o "01" - dviženklį kvietimo Nr. 1 numerį. Kiekvienas kvietimas nurodomas naujoje eilutėje. Jei kvietimų buvo mažiau, nereikalingos eilutės nepildomos. | C8: Nurodoma data pagal schemą MMM-MM-DD, pavyzdžiui, 2017-10-01 | D8: Nurodoma data pagal schemą MMM-MM-DD, pavyzdžiui, 2017-10-01 | E8: Nurodomas bendras užregistruotų paraiškų skaičius, nedetalizuojant pagal VPS priemones/ veiklos sritis | F8: Užsipildo aututomatiškai (formulė) | G8: Užsipildo aututomatiškai (formulė) | H8: Užsipildo aututomatiškai (formulė)
A9: Iš viso | E9: =SUM(E10:E43) -> 59
A10: ='VPS1'!B9 -> MAŽE | B10: KV01 | C10: 42835 | D10: 42864 | E10: 8 | F10: =D10-C10 -> 29 | G10: =YEAR(C10) -> 2017 | H10: =YEAR(D10) -> 2017
A11: =$A$10 -> MAŽE | B11: KV02 | C11: 43045 | D11: 43105 | E11: 0 | F11: =D11-C11 -> 60 | G11: =YEAR(C11) -> 2017 | H11: =YEAR(D11) -> 2018
A12: =$A$10 -> MAŽE | B12: KV03 | C12: 43067 | D12: 43126 | E12: 2 | F12: =D12-C12 -> 59 | G12: =YEAR(C12) -> 2017 | H12: =YEAR(D12) -> 2018
A13: =$A$10 -> MAŽE | B13: KV04 | C13: 43168 | D13: 43228 | E13: 2 | F13: =D13-C13 -> 60 | G13: =YEAR(C13) -> 2018 | H13: =YEAR(D13) -> 2018
A14: =$A$10 -> MAŽE | B14: KV05 | C14: 43168 | D14: 43228 | E14: 2 | F14: =D14-C14 -> 60 | G14: =YEAR(C14) -> 2018 | H14: =YEAR(D14) -> 2018
A15: =$A$10 -> MAŽE | B15: KV06 | C15: 43193 | D15: 43252 | E15: 3 | F15: =D15-C15 -> 59 | G15: =YEAR(C15) -> 2018 | H15: =YEAR(D15) -> 2018
A16: =$A$10 -> MAŽE | B16: KV07 | C16: 43206 | D16: 43266 | E16: 0 | F16: =D16-C16 -> 60 | G16: =YEAR(C16) -> 2018 | H16: =YEAR(D16) -> 2018
A17: =$A$10 -> MAŽE | B17: KV08 | C17: 43229 | D17: 43286 | E17: 2 | F17: =D17-C17 -> 57 | G17: =YEAR(C17) -> 2018 | H17: =YEAR(D17) -> 2018
A18: =$A$10 -> MAŽE | B18: KV09 | C18: 43229 | D18: 43286 | E18: 2 | F18: =D18-C18 -> 57 | G18: =YEAR(C18) -> 2018 | H18: =YEAR(D18) -> 2018
A19: =$A$10 -> MAŽE | B19: KV10 | C19: 43374 | D19: 43434 | E19: 0 | F19: =D19-C19 -> 60 | G19: =YEAR(C19) -> 2018 | H19: =YEAR(D19) -> 2018
A20: =$A$10 -> MAŽE | B20: KV11 | C20: 43374 | D20: 43434 | E20: 0 | F20: =D20-C20 -> 60 | G20: =YEAR(C20) -> 2018 | H20: =YEAR(D20) -> 2018
A21: =$A$10 -> MAŽE | B21: KV12 | C21: 43388 | D21: 43448 | E21: 1 | F21: =D21-C21 -> 60 | G21: =YEAR(C21) -> 2018 | H21: =YEAR(D21) -> 2018
A22: =$A$10 -> MAŽE | B22: KV13 | C22: 43487 | D22: 43544 | E22: 4 | F22: =D22-C22 -> 57 | G22: =YEAR(C22) -> 2019 | H22: =YEAR(D22) -> 2019
... A39: =$A$10 -> MAŽE | B39: KV30 | C39: 44047 | D39: 44106 | E39: 0 | F39: =D39-C39 -> 59 | G39: =YEAR(C39) -> 2020 | H39: =YEAR(D39) -> 2020
A40: MAŽE | B40: KV31 | C40: 44089 | D40: 44148 | E40: 1 | F40: =D40-C40 -> 59 | G40: 2020 | H40: 2020
A41: MAŽE | B41: KV32 | C41: 44096 | D41: 44153 | E41: 0 | F41: =D41-C41 -> 57 | G41: 2020 | H41: 2020
A42: MAŽE | B42: KV33 | C42: 44180 | D42: 44239 | E42: 1 | F42: =D42-C42 -> 59 | G42: 2020 | H42: 2021
A43: MAŽE | B43: KV34 | C43: 44180 | D43: 44239 | E43: 6 | F43: =D43-C43 -> 59 | G43: 2020 | H43: 2021
A44: MAŽE | B44: KV35 | C44: 44225 | D44: 44279 | E44: 2 | F44: =D44-C44 -> 54 | G44: 2021 | H44: 2021
A45: MAŽE | B45: KV36 | C45: 44253 | D45: 44281 | E45: 1 | F45: =D45-C45 -> 28 | G45: 2021 | H45: 2021
A46: MAŽE | B46: KV37 | C46: 44270 | D46: 44330 | E46: 1 | F46: =D46-C46 -> 60 | G46: 2021 | H46: 2021
A47: MAŽE | B47: KV38 | C47: 44270 | D47: 44308 | E47: 2 | F47: =D47-C47 -> 38 | G47: 2021 | H47: 2021
A48: MAŽE | B48: KV39 | C48: 44508 | D48: 44568 | E48: 4 | F48: =D48-C48 -> 60 | G48: 2021 | H48: 2021
A49: MAŽE | B49: KV40 | C49: 44508 | D49: 44568 | E49: 0 | F49: =D49-C49 -> 60 | G49: 2021 | H49: 2021
A50: MAŽE | B50: KV41 | C50: 44530 | D50: 44589 | E50: 1 | F50: =D50-C50 -> 59 | G50: 2021 | H50: 2021
A51: MAŽE | B51: KV42 | C51: 44530 | D51: 44589 | E51: 3 | F51: =D51-C51 -> 59 | G51: 2021 | H51: 2021

Sheet D2
A1: A3 | B1: Duomenys: Informacija apie kvietimus VPS priemonių/ veiklos sričių lygiu
A3: NMA vaidmuo: | B3: Patikrina VVG pateiktus lentelės duomenis. J-AM stulpelių eilutės nepildomos, jei priemonė turi veiklos sričių (C stulpelyje tipas 1).
A4: VVG vaidmuo: | B4: Užpildo lentelę nuo J stulpelio.
J6: Kvietimui numatyta lėšų suma (VPS priemonių/ veiklos sričių lygiu), Eur
A7: VVG ir priemonės/veiklos srities kodas | B7: VVG | C7: Tipas | D7: VPS priemonės/ veiklos srities pavadinimas | E7: VPS priemonės/ veiklos srities kodas | F7: Vietos projektams įgyvendinti numatyta lėšų suma, Eur | G7: Bendras kvietimų skaičius (vnt.) | H7: Bendra kvietimų teikti paraiškas suma, Eur | I7: Paskelbti kvietimai, proc. nuo vietos projektams numatytų lėšų (nuo VPS įgyvendinimo pradžios) | J7: KV01 | K7: KV02 | L7: KV03 | M7: KV04 | N7: KV05 | O7: KV06 | P7: KV07 | Q7: KV08 | R7: KV09 | S7: KV10 | T7: KV11 | U7: KV12 | V7: KV13 | W7: KV14 | X7: KV15 | Y7: KV16 | Z7: KV17 | AA7: KV18 | AB7: KV19 | AC7: KV20 | AD7: KV21 | AE7: KV22 | AF7: KV23 | AG7: KV24 | AH7: KV25 | AI7: KV26 | AJ7: KV27 | AK7: KV28 | AL7: KV29 | AM7: KV30 | AN7: KV31 | AO7: KV32 | AP7: KV33 | AQ7: KV34 | AR7: KV35 | AS7: KV36 | AT7: KV37 | AU7: KV38 | AV7: KV39 | AW7: KV40 | AX7: KV41 | AY7: KV42
A8: Užsipildo automatiškai pagal lapą VPS1 | B8: Užsipildo automatiškai pagal lapą VPS1 | C8: Užsipildo automatiškai pagal lapą VPS1 | D8: Užsipildo automatiškai pagal lapą VPS1 | E8: Užsipildo automatiškai pagal lapą VPS1 | F8: Užsipildo automatiškai pagal lapą VPS1 | G8: Užsipildo automatiškai (formulė) | H8: Užsipildo automatiškai (formulė) | I8: Užsipildo automatiškai (formulė) | J8: Suma nurodoma tame langelyje, kuriame susikerta aktualus kvietimo numeris ir VPS priemonė/ veiklos sritis. Kaip įvesti sumas žr. 4 eilutę lape "Instrukcija". Jei kvietimų daugiau nei 30, įterpti daugiau stulpelių.
A9: Iš viso | F9: =SUM(F10:F34) -> 2114412 | G9: =SUM(G10:G34) -> 24 | H9: =SUM(H10:H34) -> 3891527.3 | I9: =IF(F9>0,H9/F9,0) -> 1.8404773 | J9: =SUM(J10:J34) -> 449885.31 | K9: =SUM(K10:K34) -> 195119.56 | L9: =SUM(L10:L34) -> 97619 | M9: =SUM(M10:M34) -> 455318.46 | N9: =SUM(N10:N34) -> 48810 | O9: =SUM(O10:O34) -> 146428.5 | P9: =SUM(P10:P34) -> 195238 | Q9: =SUM(Q10:Q34) -> 38870 | ... AY9: =SUM(AY10:AY34) -> 184235.79
A10: ='VPS1'!A9 -> MAŽE-LEADER-19.2-6 | B10: ='VPS1'!B9 -> MAŽE | C10: ='VPS1'!C9 -> 1 | D10: ='VPS1'!D9 -> Priemonė „Ūkio ir verslo plėtra“ | E10: ='VPS1'!E9 -> LEADER-19.2-6 | F10: ='VPS1'!F9 -> 0 | G10: =COUNTIFS(J10:AM10,">0") -> 0 | H10: =SUM(J10:AM10) -> 0 | I10: =IF(F10>0,H10/F10,0) -> 0
A11: ='VPS1'!A10 -> MAŽE-LEADER-19.2-6.2 | B11: ='VPS1'!B10 -> MAŽE | C11: ='VPS1'!C10 -> 2 | D11: ='VPS1'!D10 -> - veiklos sritis „Parama ne žemės ūkio verslui kaimo vietovėse pradėti “ | E11: ='VPS1'!E10 -> LEADER-19.2-6.2 | F11: ='VPS1'!F10 -> 292679 | G11: 6 | H11: =SUM(J11:AM11) -> 1029687.6 | I11: =IF(F11>0,H11/F11,0) -> 3.5181464 | J11: 146339.67 | K11: 195119.56 | R11: 204875 | T11: 197554.37 | W11: 197 554,34 | AD11: 119 354,79 | AF11: 165699.79 | AL11: 120099.19 | AR11: 42369 | AV11: 70036.55
A12: ='VPS1'!A11 -> MAŽE-LEADER-19.2-6.4 | B12: ='VPS1'!B11 -> MAŽE | C12: ='VPS1'!C11 -> 2 | D12: ='VPS1'!D11 -> - veiklos sritis „Parama ne žemės ūkio verslui kaimo vietovėse plėtoti “ | E12: ='VPS1'!E11 -> LEADER-19.2-6.4 | F12: ='VPS1'!F11 -> 1164588 | G12: 5 | H12: =SUM(J12:AM12) -> 1397953.9 | I12: =IF(F12>0,H12/F12,0) -> 1.2003849 | J12: 303545.64 | M12: 455318.46 | S12: 455318.46 | X12: 466 106,21 | AC12: 227 659,23 | AG12: 183771.33 | AQ12: 293534 | AY12: 184235.79
A13: ='VPS1'!A12 -> MAŽE-LEADER-19.2-4 | B13: ='VPS1'!B12 -> MAŽE | C13: ='VPS1'!C12 -> 1 | D13: ='VPS1'!D12 -> Priemonė „Investicijos j materialųjį turtą“ | E13: ='VPS1'!E12 -> LEADER-19.2-4 | F13: ='VPS1'!F12 -> 0 | G13: =COUNTIFS(J13:AM13,">0") -> 0 | H13: =SUM(J13:AM13) -> 0 | I13: =IF(F13>0,H13/F13,0) -> 0
A14: ='VPS1'!A13 -> MAŽE-LEADER-19.2-4.2 | B14: ='VPS1'!B13 -> MAŽE | C14: ='VPS1'!C13 -> 2 | D14: ='VPS1'!D13 -> - veiklos sritis „Parama žemės ūkio produktų perdirbimui, rinkodarai ir (arba) plėtrai “ | E14: ='VPS1'!E13 -> LEADER-19.2-4.2 | F14: ='VPS1'!F13 -> 0 | G14: 2 | H14: =SUM(J14:AM14) -> 585714 | I14: =IF(F14>0,H14/F14,0) -> 0 | P14: 195238 | AB14: 195 238,00 | AH14: 195238 | AJ14: 195238 | AO14: 195238
A15: ='VPS1'!A14 -> MAŽE-LEADER-19.2-SAVA-1 | B15: ='VPS1'!B14 -> MAŽE | C15: ='VPS1'!C14 -> 3 | D15: ='VPS1'!D14 -> Priemonė „NVO socialinio verslo kūrimas ir plėtra“ (kai socialinio verslo iniciatorius - NVO) | E15: ='VPS1'!E14 -> LEADER-19.2-SAVA-1 | F15: ='VPS1'!F14 -> 163822 | G15: 2 | H15: =SUM(J15:AM15) -> 163821.99 | I15: =IF(F15>0,H15/F15,0) -> 0.99999994 | Y15: 163 821,99 | AM15: 163821.99 | AP15: 163821.99 | AU15: 109214.66 | AW15: 109214.66
A16: ='VPS1'!A15 -> MAŽE-LEADER-19.2-7 | B16: ='VPS1'!B15 -> MAŽE | C16: ='VPS1'!C15 -> 1 | D16: ='VPS1'!D15 -> Priemonė „Pagrindinės paslaugos ir kaimų atnaujinimas kaimo vietovėse“ | E16: ='VPS1'!E15 -> LEADER-19.2-7 | F16: ='VPS1'!F15 -> 0 | G16: =COUNTIFS(J16:AM16,">0") -> 0 | H16: =SUM(J16:AM16) -> 0 | I16: =IF(F16>0,H16/F16,0) -> 0
A17: ='VPS1'!A16 -> MAŽE-LEADER-19.2-7.2 | B17: ='VPS1'!B16 -> MAŽE | C17: ='VPS1'!C16 -> 2 | D17: ='VPS1'!D16 -> - veiklos sritis „Parama investicijoms į visų rūšių mažos apimties infrastruktūrą “ | E17: ='VPS1'!E16 -> LEADER-19.2-7.2 | F17: ='VPS1'!F16 -> 154815 | G17: 2 | H17: =SUM(J17:AM17) -> 244047.5 | I17: =IF(F17>0,H17/F17,0) -> 1.5763815 | L17: 97619 | O17: 146428.5 | AT17: 70819.74
A18: ='VPS1'!A17 -> MAŽE-LEADER-19.2-7.6 | B18: ='VPS1'!B17 -> MAŽE | C18: ='VPS1'!C17 -> 2 | D18: ='VPS1'!D17 -> - veiklos sritis „Parama investicijoms į kaimo kultūros ir gamtos paveldą, kraštovaizdį „ | E18: ='VPS1'!E17 -> LEADER-19.2-7.6 | F18: ='VPS1'!F17 -> 191192 | G18: 2 | H18: =SUM(J18:AM18) -> 343618.88 | I18: =IF(F18>0,H18/F18,0) -> 1.7972451 | U18: 146428.5 | Z18: 146428.5 | AI18: 50761.88 | AN18: 50761.88 | AS18: 50761.88 | AX18: 50761.88
A19: ='VPS1'!A18 -> MAŽE-LEADER-19.2-SAVA-3 | B19: ='VPS1'!B18 -> MAŽE | C19: ='VPS1'!C18 -> 3 | D19: ='VPS1'!D18 -> Priemonė „Vietos projektų pareiškėjų ir vykdytojų mokymas, įgūdžių įgijimas“ (kai mokymai susiję su VPS priemonėmis) | E19: ='VPS1'!E18 -> LEADER-19.2-SAVA-3 | F19: ='VPS1'!F18 -> 38870 | G19: 2 | H19: =SUM(J19:AM19) -> 48587.5 | I19: =IF(F19>0,H19/F19,0) -> 1.25 | Q19: 38870 | AE19: 29 152,50 | AK19: 9717.5
A20: ='VPS1'!A19 -> MAŽE-LEADER-19.2-SAVA-4 | B20: ='VPS1'!B19 -> MAŽE | C20: ='VPS1'!C19 -> 3 | D20: ='VPS1'!D19 -> Priemonė „Kultūros savitumo išsaugojimas, tradicijų tęstinumas” | E20: ='VPS1'!E19 -> LEADER-19.2-SAVA-4 | F20: ='VPS1'!F19 -> 48810 | G20: 2 | H20: =SUM(J20:AM20) -> 78096 | I20: =IF(F20>0,H20/F20,0) -> 1.6 | N20: 48810 | V20: 29286
A21: ='VPS1'!A20 -> MAŽE-LEADER-19.2-SAVA-5 | B21: ='VPS1'!B20 -> MAŽE | C21: ='VPS1'!C20 -> 3 | D21: ='VPS1'!D20 -> Priemonė „NVO socialinės veiklos skatinimas“ | E21: ='VPS1'!E20 -> LEADER-19.2-SAVA-5 | F21: ='VPS1'!F20 -> 59636 | G21: 1 | H21: =SUM(J21:AM21) -> 0 | I21: =IF(F21>0,H21/F21,0) -> 0 | AA21: 59 636,00
A22: ='VPS1'!A21 -> - | B22: ='VPS1'!B21 -> 0 | C22: ='VPS1'!C21 -> 0 | D22: ='VPS1'!D21 -> 0 | E22: ='VPS1'!E21 -> 0 | F22: ='VPS1'!F21 -> 0 | G22: =COUNTIFS(J22:AM22,">0") -> 0 | H22: =SUM(J22:AM22) -> 0 | I22: =IF(F22>0,H22/F22,0) -> 0
A23: ='VPS1'!A22 -> - | B23: ='VPS1'!B22 -> 0 | C23: ='VPS1'!C22 -> 0 | D23: ='VPS1'!D22 -> 0 | E23: ='VPS1'!E22 -> 0 | F23: ='VPS1'!F22 -> 0 | G23: =COUNTIFS(J23:AM23,">0") -> 0 | H23: =SUM(J23:AM23) -> 0 | I23: =IF(F23>0,H23/F23,0) -> 0
A24: ='VPS1'!A23 -> - | B24: ='VPS1'!B23 -> 0 | C24: ='VPS1'!C23 -> 0 | D24: ='VPS1'!D23 -> 0 | E24: ='VPS1'!E23 -> 0 | F24: ='VPS1'!F23 -> 0 | G24: =COUNTIFS(J24:AM24,">0") -> 0 | H24: =SUM(J24:AM24) -> 0 | I24: =IF(F24>0,H24/F24,0) -> 0
A25: ='VPS1'!A24 -> - | B25: ='VPS1'!B24 -> 0 | C25: ='VPS1'!C24 -> 0 | D25: ='VPS1'!D24 -> 0 | E25: ='VPS1'!E24 -> 0 | F25: ='VPS1'!F24 -> 0 | G25: =COUNTIFS(J25:AM25,">0") -> 0 | H25: =SUM(J25:AM25) -> 0 | I25: =IF(F25>0,H25/F25,0) -> 0
A26: ='VPS1'!A25 -> - | B26: ='VPS1'!B25 -> 0 | C26: ='VPS1'!C25 -> 0 | D26: ='VPS1'!D25 -> 0 | E26: ='VPS1'!E25 -> 0 | F26: ='VPS1'!F25 -> 0 | G26: =COUNTIFS(J26:AM26,">0") -> 0 | H26: =SUM(J26:AM26) -> 0 | I26: =IF(F26>0,H26/F26,0) -> 0
A27: ='VPS1'!A26 -> - | B27: ='VPS1'!B26 -> 0 | C27: ='VPS1'!C26 -> 0 | D27: ='VPS1'!D26 -> 0 | E27: ='VPS1'!E26 -> 0 | F27: ='VPS1'!F26 -> 0 | G27: =COUNTIFS(J27:AM27,">0") -> 0 | H27: =SUM(J27:AM27) -> 0 | I27: =IF(F27>0,H27/F27,0) -> 0
A28: ='VPS1'!A27 -> - | B28: ='VPS1'!B27 -> 0 | C28: ='VPS1'!C27 -> 0 | D28: ='VPS1'!D27 -> 0 | E28: ='VPS1'!E27 -> 0 | F28: ='VPS1'!F27 -> 0 | G28: =COUNTIFS(J28:AM28,">0") -> 0 | H28: =SUM(J28:AM28) -> 0 | I28: =IF(F28>0,H28/F28,0) -> 0
A29: ='VPS1'!A28 -> - | B29: ='VPS1'!B28 -> 0 | C29: ='VPS1'!C28 -> 0 | D29: ='VPS1'!D28 -> 0 | E29: ='VPS1'!E28 -> 0 | F29: ='VPS1'!F28 -> 0 | G29: =COUNTIFS(J29:AM29,">0") -> 0 | H29: =SUM(J29:AM29) -> 0 | I29: =IF(F29>0,H29/F29,0) -> 0
A30: ='VPS1'!A29 -> - | B30: ='VPS1'!B29 -> 0 | C30: ='VPS1'!C29 -> 0 | D30: ='VPS1'!D29 -> 0 | E30: ='VPS1'!E29 -> 0 | F30: ='VPS1'!F29 -> 0 | G30: =COUNTIFS(J30:AM30,">0") -> 0 | H30: =SUM(J30:AM30) -> 0 | I30: =IF(F30>0,H30/F30,0) -> 0
A31: ='VPS1'!A30 -> - | B31: ='VPS1'!B30 -> 0 | C31: ='VPS1'!C30 -> 0 | D31: ='VPS1'!D30 -> 0 | E31: ='VPS1'!E30 -> 0 | F31: ='VPS1'!F30 -> 0 | G31: =COUNTIFS(J31:AM31,">0") -> 0 | H31: =SUM(J31:AM31) -> 0 | I31: =IF(F31>0,H31/F31,0) -> 0
A32: ='VPS1'!A31 -> - | B32: ='VPS1'!B31 -> 0 | C32: ='VPS1'!C31 -> 0 | D32: ='VPS1'!D31 -> 0 | E32: ='VPS1'!E31 -> 0 | F32: ='VPS1'!F31 -> 0 | G32: =COUNTIFS(J32:AM32,">0") -> 0 | H32: =SUM(J32:AM32) -> 0 | I32: =IF(F32>0,H32/F32,0) -> 0
A33: ='VPS1'!A32 -> - | B33: ='VPS1'!B32 -> 0 | C33: ='VPS1'!C32 -> 0 | D33: ='VPS1'!D32 -> 0 | E33: ='VPS1'!E32 -> 0 | F33: ='VPS1'!F32 -> 0 | G33: =COUNTIFS(J33:AM33,">0") -> 0 | H33: =SUM(J33:AM33) -> 0 | I33: =IF(F33>0,H33/F33,0) -> 0
A34: ='VPS1'!A33 -> - | B34: ='VPS1'!B33 -> 0 | C34: ='VPS1'!C33 -> 0 | D34: ='VPS1'!D33 -> 0 | E34: ='VPS1'!E33 -> 0 | F34: ='VPS1'!F33 -> 0 | G34: =COUNTIFS(J34:AM34,">0") -> 0 | H34: =SUM(J34:AM34) -> 0 | I34: =IF(F34>0,H34/F34,0) -> 0

Sheet D3
A1: A3 | B1: Duomenys: Informacija apie gautas paraiškas VPS priemonių/ veiklos sričių lygiu
A3: NMA vaidmuo: | B3: Patikrina VVG pateiktus lentelės duomenis. G-AJ stulpelių eilutės nepildomos, jei priemonė turi veiklos sričių (C stulpelyje tipas 1).
A4: VVG vaidmuo: | B4: Užpildo lentelę nuo G stulpelio.
F5: =IF(F9='D1'!E9,"OK","Klaida. Nesutampa gautų paraiškų skaičius lape D1") -> Klaida. Nesutampa gautų paraiškų skaičius lape D1
A7: VVG ir priemonės/veiklos srities kodas | B7: VVG | C7: Tipas | D7: VPS priemonės/ veiklos srities pavadinimas | E7: VPS priemonės/ veiklos srities kodas | F7: Bendras gautų paraiškų skaičius | G7: KV01 | H7: KV02 | I7: KV03 | J7: KV04 | K7: KV05 | L7: KV06 | M7: KV07 | N7: KV08 | O7: KV09 | P7: KV10 | Q7: KV11 | R7: KV12 | S7: KV13 | T7: KV14 | U7: KV15 | V7: KV16 | W7: KV17 | X7: KV18 | Y7: KV19 | Z7: KV20 | AA7: KV21 | AB7: KV22 | AC7: KV23 | AD7: KV24 | AE7: KV25 | AF7: KV26 | AG7: KV27 | AH7: KV28 | AI7: KV29 | AJ7: KV30 | AK7: KV31 | AL7: KV32 | AM7: KV33 | AN7: KV34 | AO7: KV35 | AP7: KV36 | AQ7: KV37 | AR7: KV38 | AS7: KV39 | AT7: KV40 | AU7: KV41 | AV7: KV42 | AW7: KV43 | AX7: KV44 | AY7: KV45 | AZ7: KV46 | BA7: KV47 | BB7: KV48 | BC7: KV49 | BD7: KV50 | BE7: KV51 | BF7: KV52 | BG7: KV53 | BH7: KV54 | BI7: KV55 | BJ7: KV56 | BK7: KV57 | BL7: KV58 | BM7: KV59 | BN7: KV60
A8: Užsipildo automatiškai pagal lapą VPS1 | B8: Užsipildo automatiškai pagal lapą VPS1 | C8: Užsipildo automatiškai pagal lapą VPS1 | D8: Užsipildo automatiškai pagal lapą VPS1 | E8: Užsipildo automatiškai pagal lapą VPS1 | F8: Užsipildo automatiškai (formulė) | G8: Gautų paraiškų skaičius nurodomas tame langelyje, kuriame susikerta aktualus kvietimo numeris ir VPS priemonė/ veiklos sritis. Jei kvietimų daugiau nei 30, įterpti daugiau stulpelių. | AK8: Gautų paraiškų skaičius nurodomas tame langelyje, kuriame susikerta aktualus kvietimo numeris ir VPS priemonė/ veiklos sritis. Jei kvietimų daugiau nei 30, įterpti daugiau stulpelių.
A9: Iš viso | F9: =SUM(F10:F34) -> 72 | G9: =SUM(G10:G34) -> 8 | H9: =SUM(H10:H34) -> 0 | I9: =SUM(I10:I34) -> 2 | J9: =SUM(J10:J34) -> 2 | K9: =SUM(K10:K34) -> 2 | L9: =SUM(L10:L34) -> 3 | M9: =SUM(M10:M34) -> 0 | ... BN9: =SUM(BN10:BN34) -> 0
A10: ='VPS1'!A9 -> MAŽE-LEADER-19.2-6 | B10: ='VPS1'!B9 -> MAŽE | C10: ='VPS1'!C9 -> 1 | D10: ='VPS1'!D9 -> Priemonė „Ūkio ir verslo plėtra“ | E10: ='VPS1'!E9 -> LEADER-19.2-6 | F10: =SUM(AK10:BN10) -> 0
A11: ='VPS1'!A10 -> MAŽE-LEADER-19.2-6.2 | B11: ='VPS1'!B10 -> MAŽE | C11: ='VPS1'!C10 -> 2 | D11: ='VPS1'!D10 -> - veiklos sritis „Parama ne žemės ūkio verslui kaimo vietovėse pradėti “ | E11: ='VPS1'!E10 -> LEADER-19.2-6.2 | F11: =SUM(G11:BN11) -> 15 | G11: 1 | H11: 0 | O11: 2 | Q11: 0 | T11: 2 | AA11: 0 | AC11: 1 | AI11: 3 | AO11: 2 | AS11: 4
A12: ='VPS1'!A11 -> MAŽE-LEADER-19.2-6.4 | B12: ='VPS1'!B11 -> MAŽE | C12: ='VPS1'!C11 -> 2 | D12: ='VPS1'!D11 -> - veiklos sritis „Parama ne žemės ūkio verslui kaimo vietovėse plėtoti “ | E12: ='VPS1'!E11 -> LEADER-19.2-6.4 | F12: =SUM(G12:BN12) -> 26 | G12: 7 | J12: 2 | P12: 0 | U12: 3 | Z12: 1 | AD12: 4 | AN12: 6 | AV12: 3
A13: ='VPS1'!A12 -> MAŽE-LEADER-19.2-4 | B13: ='VPS1'!B12 -> MAŽE | C13: ='VPS1'!C12 -> 1 | D13: ='VPS1'!D12 -> Priemonė „Investicijos j materialųjį turtą“ | E13: ='VPS1'!E12 -> LEADER-19.2-4 | F13: =SUM(G13:BN13) -> 0
A14: ='VPS1'!A13 -> MAŽE-LEADER-19.2-4.2 | B14: ='VPS1'!B13 -> MAŽE | C14: ='VPS1'!C13 -> 2 | D14: ='VPS1'!D13 -> - veiklos sritis „Parama žemės ūkio produktų perdirbimui, rinkodarai ir (arba) plėtrai “ | E14: ='VPS1'!E13 -> LEADER-19.2-4.2 | F14: =SUM(G14:BN14) -> 0 | M14: 0 | Y14: 0 | AE14: 0 | AG14: 0 | AL14: 0
A15: ='VPS1'!A14 -> MAŽE-LEADER-19.2-SAVA-1 | B15: ='VPS1'!B14 -> MAŽE | C15: ='VPS1'!C14 -> 3 | D15: ='VPS1'!D14 -> Priemonė „NVO socialinio verslo kūrimas ir plėtra“ (kai socialinio verslo iniciatorius - NVO) | E15: ='VPS1'!E14 -> LEADER-19.2-SAVA-1 | F15: =SUM(G15:BN15) -> 3 | V15: 0 | AJ15: 0 | AM15: 1 | AR15: 2 | AT15: 0
A16: ='VPS1'!A15 -> MAŽE-LEADER-19.2-7 | B16: ='VPS1'!B15 -> MAŽE | C16: ='VPS1'!C15 -> 1 | D16: ='VPS1'!D15 -> Priemonė „Pagrindinės paslaugos ir kaimų atnaujinimas kaimo vietovėse“ | E16: ='VPS1'!E15 -> LEADER-19.2-7 | F16: =SUM(G16:BN16) -> 0
A17: ='VPS1'!A16 -> MAŽE-LEADER-19.2-7.2 | B17: ='VPS1'!B16 -> MAŽE | C17: ='VPS1'!C16 -> 2 | D17: ='VPS1'!D16 -> - veiklos sritis „Parama investicijoms į visų rūšių mažos apimties infrastruktūrą “ | E17: ='VPS1'!E16 -> LEADER-19.2-7.2 | F17: =SUM(G17:BN17) -> 6 | I17: 2 | L17: 3 | AQ17: 1
A18: ='VPS1'!A17 -> MAŽE-LEADER-19.2-7.6 | B18: ='VPS1'!B17 -> MAŽE | C18: ='VPS1'!C17 -> 2 | D18: ='VPS1'!D17 -> - veiklos sritis „Parama investicijoms į kaimo kultūros ir gamtos paveldą, kraštovaizdį „ | E18: ='VPS1'!E17 -> LEADER-19.2-7.6 | F18: =SUM(G18:BN18) -> 6 | R18: 1 | W18: 2 | AF18: 0 | AK18: 1 | AP18: 1 | AU18: 1
A19: ='VPS1'!A18 -> MAŽE-LEADER-19.2-SAVA-3 | B19: ='VPS1'!B18 -> MAŽE | C19: ='VPS1'!C18 -> 3 | D19: ='VPS1'!D18 -> Priemonė „Vietos projektų pareiškėjų ir vykdytojų mokymas, įgūdžių įgijimas“ (kai mokymai susiję su VPS priemonėmis) | E19: ='VPS1'!E18 -> LEADER-19.2-SAVA-3 | F19: =SUM(G19:BN19) -> 5 | N19: 1 | AB19: 3 | AH19: 1
A20: ='VPS1'!A19 -> MAŽE-LEADER-19.2-SAVA-4 | B20: ='VPS1'!B19 -> MAŽE | C20: ='VPS1'!C19 -> 3 | D20: ='VPS1'!D19 -> Priemonė „Kultūros savitumo išsaugojimas, tradicijų tęstinumas” | E20: ='VPS1'!E19 -> LEADER-19.2-SAVA-4 | F20: =SUM(G20:BN20) -> 6 | K20: 2 | S20: 4
A21: ='VPS1'!A20 -> MAŽE-LEADER-19.2-SAVA-5 | B21: ='VPS1'!B20 -> MAŽE | C21: ='VPS1'!C20 -> 3 | D21: ='VPS1'!D20 -> Priemonė „NVO socialinės veiklos skatinimas“ | E21: ='VPS1'!E20 -> LEADER-19.2-SAVA-5 | F21: =SUM(G21:BN21) -> 5 | X21: 5
A22: ='VPS1'!A21 -> - | B22: ='VPS1'!B21 -> 0 | C22: ='VPS1'!C21 -> 0 | D22: ='VPS1'!D21 -> 0 | E22: ='VPS1'!E21 -> 0 | F22: =SUM(G22:BN22) -> 0
A23: ='VPS1'!A22 -> - | B23: ='VPS1'!B22 -> 0 | C23: ='VPS1'!C22 -> 0 | D23: ='VPS1'!D22 -> 0 | E23: ='VPS1'!E22 -> 0 | F23: =SUM(G23:BN23) -> 0
A24: ='VPS1'!A23 -> - | B24: ='VPS1'!B23 -> 0 | C24: ='VPS1'!C23 -> 0 | D24: ='VPS1'!D23 -> 0 | E24: ='VPS1'!E23 -> 0 | F24: =SUM(G24:BN24) -> 0
A25: ='VPS1'!A24 -> - | B25: ='VPS1'!B24 -> 0 | C25: ='VPS1'!C24 -> 0 | D25: ='VPS1'!D24 -> 0 | E25: ='VPS1'!E24 -> 0 | F25: =SUM(G25:BN25) -> 0
A26: ='VPS1'!A25 -> - | B26: ='VPS1'!B25 -> 0 | C26: ='VPS1'!C25 -> 0 | D26: ='VPS1'!D25 -> 0 | E26: ='VPS1'!E25 -> 0 | F26: =SUM(G26:BN26) -> 0
A27: ='VPS1'!A26 -> - | B27: ='VPS1'!B26 -> 0 | C27: ='VPS1'!C26 -> 0 | D27: ='VPS1'!D26 -> 0 | E27: ='VPS1'!E26 -> 0 | F27: =SUM(G27:BN27) -> 0
A28: ='VPS1'!A27 -> - | B28: ='VPS1'!B27 -> 0 | C28: ='VPS1'!C27 -> 0 | D28: ='VPS1'!D27 -> 0 | E28: ='VPS1'!E27 -> 0 | F28: =SUM(G28:BN28) -> 0
A29: ='VPS1'!A28 -> - | B29: ='VPS1'!B28 -> 0 | C29: ='VPS1'!C28 -> 0 | D29: ='VPS1'!D28 -> 0 | E29: ='VPS1'!E28 -> 0 | F29: =SUM(G29:BN29) -> 0
A30: ='VPS1'!A29 -> - | B30: ='VPS1'!B29 -> 0 | C30: ='VPS1'!C29 -> 0 | D30: ='VPS1'!D29 -> 0 | E30: ='VPS1'!E29 -> 0 | F30: =SUM(G30:BN30) -> 0
A31: ='VPS1'!A30 -> - | B31: ='VPS1'!B30 -> 0 | C31: ='VPS1'!C30 -> 0 | D31: ='VPS1'!D30 -> 0 | E31: ='VPS1'!E30 -> 0 | F31: =SUM(G31:BN31) -> 0
A32: ='VPS1'!A31 -> - | B32: ='VPS1'!B31 -> 0 | C32: ='VPS1'!C31 -> 0 | D32: ='VPS1'!D31 -> 0 | E32: ='VPS1'!E31 -> 0 | F32: =SUM(G32:BN32) -> 0
A33: ='VPS1'!A32 -> - | B33: ='VPS1'!B32 -> 0 | C33: ='VPS1'!C32 -> 0 | D33: ='VPS1'!D32 -> 0 | E33: ='VPS1'!E32 -> 0 | F33: =SUM(G33:BN33) -> 0
A34: ='VPS1'!A33 -> - | B34: ='VPS1'!B33 -> 0 | C34: ='VPS1'!C33 -> 0 | D34: ='VPS1'!D33 -> 0 | E34: ='VPS1'!E33 -> 0 | F34: =SUM(G34:BN34) -> 0

Sheet D4
A1: A3 | B1: Duomenys: Informacija apie gautų paraiškų vertę VPS priemonių/ veiklos sričių lygiu | AL1: =X:AL -> 0
A3: NMA vaidmuo: | B3: Patikrina VVG pateiktus lentelės duomenis. I-AL stulpelių eilutės nepildomos, jei priemonė turi veiklos sričių (C stulpelyje tipas 1).
A4: VVG vaidmuo: | B4: Užpildo lentelę nuo I stulpelio.
I6: Gautų paraiškų vertė (prašoma paramos suma), Eur
A7: VVG ir priemonės/veiklos srities kodas | B7: VVG | C7: Tipas | D7: VPS priemonės/ veiklos srities pavadinimas | E7: VPS priemonės/ veiklos srities kodas | F7: Vietos projektams įgyvendinti numatyta lėšų suma, Eur | G7: Bendra gautų paraiškų vertė, Eur | H7: Gautų paraiškų vertė, proc. nuo vietos projektams numatytų lėšų (nuo VPS įgyvendinimo pradžios) | I7: KV01 | J7: KV02 | K7: KV03 | L7: KV04 | M7: KV05 | N7: KV06 | O7: KV07 | P7: KV08 | Q7: KV09 | R7: KV10 | S7: KV11 | T7: KV12 | U7: KV13 | V7: KV14 | W7: KV15 | X7: KV16 | Y7: KV17 | Z7: KV18 | AA7: KV19 | AB7: KV20 | AC7: KV21 | AD7: KV22 | AE7: KV23 | AF7: KV24 | AG7: KV25 | AH7: KV26 | AI7: KV27 | AJ7: KV28 | AK7: KV29 | AL7: KV30 | AM7: KV 31 | AN7: KV32 | AO7: KV 33 | AP7: KV 34 | AQ7: KV35 | AR7: KV36 | AS7: KV37 | AT7: KV38 | AU7: KV39 | AV7: KV40 | AW7: KV41 | AX7: KV42 | AY7: KV43 | AZ7: KV44
A8: Užsipildo automatiškai pagal lapą VPS1 | B8: Užsipildo automatiškai pagal lapą VPS1 | C8: Užsipildo automatiškai pagal lapą VPS1 | D8: Užsipildo automatiškai pagal lapą VPS1 | E8: Užsipildo automatiškai pagal lapą VPS1 | F8: Užsipildo automatiškai pagal lapą VPS1 | G8: Užsipildo automatiškai (formulė) | H8: Užsipildo automatiškai (formulė) | I8: Suma nurodoma tame langelyje, kuriame susikerta aktualus kvietimo numeris ir VPS priemonė/ veiklos sritis. Kaip įvesti sumas žr. 4 eilutę lape "Instrukcija". Jei kvietimų daugiau nei 30, įterpti daugiau stulpelių.
A9: Iš viso | F9: =SUM(F10:F34) -> 2114412 | G9: =SUM(G10:G34) -> 1730036.1 | H9: =IF(G9>0,G9/F9,0) -> 0.81821146 | I9: =SUM(I10:I34) -> 347793.04 | J9: =SUM(J10:J34) -> 0 | K9: =SUM(K10:K34) -> 97619 | L9: =SUM(L10:L34) -> 109006 | M9: =SUM(M10:M34) -> 19524 | N9: =SUM(N10:N34) -> 146428.5 | O9: =SUM(O10:O34) -> 0 | P9: =SUM(P10:P34) -> 9573.89 | ... AZ9: =SUM(AZ10:AZ34) -> 0
A10: ='VPS1'!A9 -> MAŽE-LEADER-19.2-6 | B10: ='VPS1'!B9 -> MAŽE | C10: ='VPS1'!C9 -> 1 | D10: ='VPS1'!D9 -> Priemonė „Ūkio ir verslo plėtra“ | E10: ='VPS1'!E9 -> LEADER-19.2-6 | F10: ='VPS1'!F9 -> 0 | G10: =SUM(I10:AL10) -> 0 | H10: =IF(G10>0,G10/F10,0) -> 0
A11: ='VPS1'!A10 -> MAŽE-LEADER-19.2-6.2 | B11: ='VPS1'!B10 -> MAŽE | C11: ='VPS1'!C10 -> 2 | D11: ='VPS1'!D10 -> - veiklos sritis „Parama ne žemės ūkio verslui kaimo vietovėse pradėti “ | E11: ='VPS1'!E10 -> LEADER-19.2-6.2 | F11: ='VPS1'!F10 -> 292679 | G11: =SUM(I11:AL11) -> 347044.28 | H11: =IF(G11>0,G11/F11,0) -> 1.1857505 | I11: 48300 | J11: 0 | Q11: 95124.89 | S11: 0 | V11: 78199.55 | AC11: 0 | AE11: 45113.6 | AK11: 80306.24 | AQ11: 55529 | AU11: 141014.28
A12: ='VPS1'!A11 -> MAŽE-LEADER-19.2-6.4 | B12: ='VPS1'!B11 -> MAŽE | C12: ='VPS1'!C11 -> 2 | D12: ='VPS1'!D11 -> - veiklos sritis „Parama ne žemės ūkio verslui kaimo vietovėse plėtoti “ | E12: ='VPS1'!E11 -> LEADER-19.2-6.4 | F12: ='VPS1'!F11 -> 1164588 | G12: =SUM(I12:AL12) -> 827807.38 | H12: =IF(G12>0,G12/F12,0) -> 0.71081565 | I12: 299493.04 | L12: 109006 | R12: 0 | W12: 191162.23 | AB12: 43887.9 | AF12: 184258.21 | AP12: 451959.54 | AX12: 238776.26
A13: ='VPS1'!A12 -> MAŽE-LEADER-19.2-4 | B13: ='VPS1'!B12 -> MAŽE | C13: ='VPS1'!C12 -> 1 | D13: ='VPS1'!D12 -> Priemonė „Investicijos j materialųjį turtą“ | E13: ='VPS1'!E12 -> LEADER-19.2-4 | F13: ='VPS1'!F12 -> 0 | G13: =SUM(I13:AL13) -> 0 | H13: =IF(G13>0,G13/F13,0) -> 0
A14: ='VPS1'!A13 -> MAŽE-LEADER-19.2-4.2 | B14: ='VPS1'!B13 -> MAŽE | C14: ='VPS1'!C13 -> 2 | D14: ='VPS1'!D13 -> - veiklos sritis „Parama žemės ūkio produktų perdirbimui, rinkodarai ir (arba) plėtrai “ | E14: ='VPS1'!E13 -> LEADER-19.2-4.2 | F14: ='VPS1'!F13 -> 0 | G14: =SUM(I14:AL14) -> 0 | H14: =IF(G14>0,G14/F14,0) -> 0 | O14: 0 | AA14: 0 | AG14: 0 | AI14: 0 | AN14: 0
A15: ='VPS1'!A14 -> MAŽE-LEADER-19.2-SAVA-1 | B15: ='VPS1'!B14 -> MAŽE | C15: ='VPS1'!C14 -> 3 | D15: ='VPS1'!D14 -> Priemonė „NVO socialinio verslo kūrimas ir plėtra“ (kai socialinio verslo iniciatorius - NVO) | E15: ='VPS1'!E14 -> LEADER-19.2-SAVA-1 | F15: ='VPS1'!F14 -> 163822 | G15: =SUM(I15:AL15) -> 0 | H15: =IF(G15>0,G15/F15,0) -> 0 | X15: 0 | AL15: 0 | AO15: 54607.33 | AT15: 109161.13 | AV15: 0 | AX15: 0 | AZ15: 0
A16: ='VPS1'!A15 -> MAŽE-LEADER-19.2-7 | B16: ='VPS1'!B15 -> MAŽE | C16: ='VPS1'!C15 -> 1 | D16: ='VPS1'!D15 -> Priemonė „Pagrindinės paslaugos ir kaimų atnaujinimas kaimo vietovėse“ | E16: ='VPS1'!E15 -> LEADER-19.2-7 | F16: ='VPS1'!F15 -> 0 | G16: =SUM(I16:AL16) -> 0 | H16: =IF(G16>0,G16/F16,0) -> 0
A17: ='VPS1'!A16 -> MAŽE-LEADER-19.2-7.2 | B17: ='VPS1'!B16 -> MAŽE | C17: ='VPS1'!C16 -> 2 | D17: ='VPS1'!D16 -> - veiklos sritis „Parama investicijoms į visų rūšių mažos apimties infrastruktūrą “ | E17: ='VPS1'!E16 -> LEADER-19.2-7.2 | F17: ='VPS1'!F16 -> 154815 | G17: =SUM(I17:AL17) -> 244047.5 | H17: =IF(G17>0,G17/F17,0) -> 1.5763815 | K17: 97619 | N17: 146428.5 | AS17: 70819.74
A18: ='VPS1'!A17 -> MAŽE-LEADER-19.2-7.6 | B18: ='VPS1'!B17 -> MAŽE | C18: ='VPS1'!C17 -> 2 | D18: ='VPS1'!D17 -> - veiklos sritis „Parama investicijoms į kaimo kultūros ir gamtos paveldą, kraštovaizdį „ | E18: ='VPS1'!E17 -> LEADER-19.2-7.6 | F18: ='VPS1'!F17 -> 191192 | G18: =SUM(I18:AL18) -> 144476.12 | H18: =IF(G18>0,G18/F18,0) -> 0.75565986 | T18: 48809.5 | Y18: 95666.62 | AH18: 0 | AM18: 50761.88 | AR18: 48749.57 | AW18: 48706.12
A19: ='VPS1'!A18 -> MAŽE-LEADER-19.2-SAVA-3 | B19: ='VPS1'!B18 -> MAŽE | C19: ='VPS1'!C18 -> 3 | D19: ='VPS1'!D18 -> Priemonė „Vietos projektų pareiškėjų ir vykdytojų mokymas, įgūdžių įgijimas“ (kai mokymai susiję su VPS priemonėmis) | E19: ='VPS1'!E18 -> LEADER-19.2-SAVA-3 | F19: ='VPS1'!F18 -> 38870 | G19: =SUM(I19:AL19) -> 48418.71 | H19: =IF(G19>0,G19/F19,0) -> 1.2456576 | P19: 9573.89 | AD19: 29139.58 | AJ19: 9705.24
A20: ='VPS1'!A19 -> MAŽE-LEADER-19.2-SAVA-4 | B20: ='VPS1'!B19 -> MAŽE | C20: ='VPS1'!C19 -> 3 | D20: ='VPS1'!D19 -> Priemonė „Kultūros savitumo išsaugojimas, tradicijų tęstinumas” | E20: ='VPS1'!E19 -> LEADER-19.2-SAVA-4 | F20: ='VPS1'!F19 -> 48810 | G20: =SUM(I20:AL20) -> 58572 | H20: =IF(G20>0,G20/F20,0) -> 1.2 | M20: 19524 | U20: 39048
A21: ='VPS1'!A20 -> MAŽE-LEADER-19.2-SAVA-5 | B21: ='VPS1'!B20 -> MAŽE | C21: ='VPS1'!C20 -> 3 | D21: ='VPS1'!D20 -> Priemonė „NVO socialinės veiklos skatinimas“ | E21: ='VPS1'!E20 -> LEADER-19.2-SAVA-5 | F21: ='VPS1'!F20 -> 59636 | G21: =SUM(I21:AL21) -> 59670.15 | H21: =IF(G21>0,G21/F21,0) -> 1.0005726 | Z21: 59670.15
A22: ='VPS1'!A21 -> - | B22: ='VPS1'!B21 -> 0 | C22: ='VPS1'!C21 -> 0 | D22: ='VPS1'!D21 -> 0 | E22: ='VPS1'!E21 -> 0 | F22: ='VPS1'!F21 -> 0 | G22: =SUM(I22:AL22) -> 0 | H22: =IF(G22>0,G22/F22,0) -> 0
A23: ='VPS1'!A22 -> - | B23: ='VPS1'!B22 -> 0 | C23: ='VPS1'!C22 -> 0 | D23: ='VPS1'!D22 -> 0 | E23: ='VPS1'!E22 -> 0 | F23: ='VPS1'!F22 -> 0 | G23: =SUM(I23:AL23) -> 0 | H23: =IF(G23>0,G23/F23,0) -> 0
A24: ='VPS1'!A23 -> - | B24: ='VPS1'!B23 -> 0 | C24: ='VPS1'!C23 -> 0 | D24: ='VPS1'!D23 -> 0 | E24: ='VPS1'!E23 -> 0 | F24: ='VPS1'!F23 -> 0 | G24: =SUM(I24:AL24) -> 0 | H24: =IF(G24>0,G24/F24,0) -> 0
A25: ='VPS1'!A24 -> - | B25: ='VPS1'!B24 -> 0 | C25: ='VPS1'!C24 -> 0 | D25: ='VPS1'!D24 -> 0 | E25: ='VPS1'!E24 -> 0 | F25: ='VPS1'!F24 -> 0 | G25: =SUM(I25:AL25) -> 0 | H25: =IF(G25>0,G25/F25,0) -> 0
A26: ='VPS1'!A25 -> - | B26: ='VPS1'!B25 -> 0 | C26: ='VPS1'!C25 -> 0 | D26: ='VPS1'!D25 -> 0 | E26: ='VPS1'!E25 -> 0 | F26: ='VPS1'!F25 -> 0 | G26: =SUM(I26:AL26) -> 0 | H26: =IF(G26>0,G26/F26,0) -> 0
A27: ='VPS1'!A26 -> - | B27: ='VPS1'!B26 -> 0 | C27: ='VPS1'!C26 -> 0 | D27: ='VPS1'!D26 -> 0 | E27: ='VPS1'!E26 -> 0 | F27: ='VPS1'!F26 -> 0 | G27: =SUM(I27:AL27) -> 0 | H27: =IF(G27>0,G27/F27,0) -> 0
A28: ='VPS1'!A27 -> - | B28: ='VPS1'!B27 -> 0 | C28: ='VPS1'!C27 -> 0 | D28: ='VPS1'!D27 -> 0 | E28: ='VPS1'!E27 -> 0 | F28: ='VPS1'!F27 -> 0 | G28: =SUM(I28:AL28) -> 0 | H28: =IF(G28>0,G28/F28,0) -> 0
A29: ='VPS1'!A28 -> - | B29: ='VPS1'!B28 -> 0 | C29: ='VPS1'!C28 -> 0 | D29: ='VPS1'!D28 -> 0 | E29: ='VPS1'!E28 -> 0 | F29: ='VPS1'!F28 -> 0 | G29: =SUM(I29:AL29) -> 0 | H29: =IF(G29>0,G29/F29,0) -> 0
A30: ='VPS1'!A29 -> - | B30: ='VPS1'!B29 -> 0 | C30: ='VPS1'!C29 -> 0 | D30: ='VPS1'!D29 -> 0 | E30: ='VPS1'!E29 -> 0 | F30: ='VPS1'!F29 -> 0 | G30: =SUM(I30:AL30) -> 0 | H30: =IF(G30>0,G30/F30,0) -> 0
A31: ='VPS1'!A30 -> - | B31: ='VPS1'!B30 -> 0 | C31: ='VPS1'!C30 -> 0 | D31: ='VPS1'!D30 -> 0 | E31: ='VPS1'!E30 -> 0 | F31: ='VPS1'!F30 -> 0 | G31: =SUM(I31:AL31) -> 0 | H31: =IF(G31>0,G31/F31,0) -> 0
A32: ='VPS1'!A31 -> - | B32: ='VPS1'!B31 -> 0 | C32: ='VPS1'!C31 -> 0 | D32: ='VPS1'!D31 -> 0 | E32: ='VPS1'!E31 -> 0 | F32: ='VPS1'!F31 -> 0 | G32: =SUM(I32:AL32) -> 0 | H32: =IF(G32>0,G32/F32,0) -> 0
A33: ='VPS1'!A32 -> - | B33: ='VPS1'!B32 -> 0 | C33: ='VPS1'!C32 -> 0 | D33: ='VPS1'!D32 -> 0 | E33: ='VPS1'!E32 -> 0 | F33: ='VPS1'!F32 -> 0 | G33: =SUM(I33:AL33) -> 0 | H33: =IF(G33>0,G33/F33,0) -> 0
A34: ='VPS1'!A33 -> - | B34: ='VPS1'!B33 -> 0 | C34: ='VPS1'!C33 -> 0 | D34: ='VPS1'!D33 -> 0 | E34: ='VPS1'!E33 -> 0 | F34: ='VPS1'!F33 -> 0 | G34: =SUM(I34:AL34) -> 0 | H34: =IF(G34>0,G34/F34,0) -> 0

Sheet D5
B1: A3 | C1: Duomenys: Informacija apie paraiškų vertinimo rezultatus (NMA PAK)
B3: NMA vaidmuo: | C3: Užpildo lentelę pagal pagal pateiktą instrukciją.
B4: VVG vaidmuo: | C4: Patikrina lentelės duomenis.
B7: VVG ir priemonės/veiklos srities kodas | C7: VVG kodas (4 raidės) | D7: VVG kodas (4 raidės) - IŠ SĄRAŠO | E7: VVG ir priemonės/veiklos srities kodas - IŠ SĄRAŠO | F7: VVG pavadinimas (pilnas) | G7: VPS priemonės/ veiklos srities kodas | H7: Paraiškos gavimo data | I7: Pareiškėjo pavadinimas / Vardas, pavardė | J7: Pareiškėjo registracijos kodas (pagal VĮ Registrų centro Juridinių asmenų registro duomenis) / asmens kodas ir ūkio registracijos Nr. | K7: Paraiškos atpažinties (registracijos) kodas (suteiktas VVG) | L7: Paraiškos atpažinties (registracijos) kodas (suteiktas NMA) | M7: Vietos projekto pavadinimas | N7: Prašoma paramos suma vietos projektui įgyvendinti, Eur | O7: Finansavimo šaltinis | P7: EŽŪFKP prioritetai ir tikslinės sritys/ EJRŽF konkretūs tikslai ir uždaviniai | Q7: Pareiškėjo tipas (juridinis ar fizinis) | R7: Pareiškėjo tipas (detaliau) | S7: Jei pareiškėjas fizinis asmuo, ar vyras? | T7: Jei pareiškėjas fizinis asmuo, ar jaunas (iki 40 m.)? | U7: Paraiškos etapas | V7: Pridėtinės vertės (kokybės) vertinimas, balai | W7: Patvirtinta paramos suma vietos projektui įgyvendinti, Eur (po NMA PAK) | X7: Paraiškos patvirtinimo data (po NMA PAK) | Y7: Vietos projekto sutarties data | Z7: Projekto pabaigos (galutinio MP) data (jei data yra, projektas baigtas) | AA7: PLANUOJAMA: Sukurtų naujų darbo vietų (etatų) skaičius (vnt.) | AB7: PLANUOJAMA: Išlaikytų darbo vietų (etatų) skaičius (vnt.) | AC7: PASIEKTA: Sukurtų naujų darbo vietų (etatų) skaičius (vnt.) | AD7: PASIEKTA: Išlaikytų darbo vietų (etatų) skaičius (vnt.) | AE7: Paraiškos gavimo metai | AF7: Paraiškos patvirtinimo metai | AG7: Vietos projekto sutarties metai | AH7: Projekto pabaigos metai | AI7: Ar paraiška patvirtinta? | AJ7: Ar sudaryta sutartis? | AK7: Ar projektas baigtas?
B8: Užsipildo automatiškai, kai nurodytas VVG kodas ir VPS priemonės/ veiklos srities kodas | C8: Užsipildo automatiškai iš paraiškos kodo | D8: Jei #N/A - neteisingas VVG kodas (tikslinti K stulpelį) | E8: Jei #N/A - neteisingas priemonės/ veiklos srities kodas (tikslinti G stulpelį) | F8: Pildo NMA | G8: Pildo NMA. Reikšmės turi sutapti su nurodytomis lapo VPS1 E stulpelyje. | H8: Pildo NMA. Nurodoma paraiškos gavimo/ užregistravimo data pagal schemą MMM-MM-DD, pavyzdžiui, 2017-10-01 | I8: Pildo NMA | J8: Pildo NMA | K8: Pildo NMA | L8: Pildo NMA | M8: Pildo NMA | N8: Pildo NMA | O8: Pildo NMA. Lauko reikšmė įvedama arba pasirenkama iš sąrašo (galimos reikšmės: EŽŪFKP arba EJRŽF) | P8: Pildo NMA. Lauko reikšmė įvedama arba pasirenkama iš sąrašo. Galimų reikšmių sąrašas pateiktas lape "Instrukcija". | Q8: Pildo NMA. Lauko reikšmė įvedama arba pasirenkama iš sąrašo (galimos reikšmės: juridinis asmuo arba fizinis asmuo) | R8: Pildo NMA. Lauko reikšmė įvedama arba pasirenkama iš sąrašo. Galimų reikšmių sąrašas pateiktas lape "Instrukcija". | S8: Pildo NMA pagal pareiškėjo kodą arba pavadinimą. Lauko reikšmės: taip arba ne. | T8: Pildo NMA pagal pareiškėjo kodą. Lauko reikšmės: taip arba ne. | U8: Pildo NMA. Įtraukiamos tik paraiškos, kurių etapas - "Sutarties rengimas" ir "Paramos administravimas" | V8: Pildo NMA. Pateikiama informacija iš VVG PAK protokolo. | W8: Pildo NMA. Pateikiama informacija iš NMA PAK protokolo. | X8: Pildo NMA. Nurodoma NMA direktoriaus įsakymo data pagal schemą MMM-MM-DD, pavyzdžiui, 2017-10-01 | Y8: Pildo NMA. Nurodoma sutarties data pagal schemą MMM-MM-DD, pavyzdžiui, 2017-10-01 | Z8: Pildo NMA. Nurodoma galutinio MP data pagal schemą MMM-MM-DD, pavyzdžiui, 2017-10-01 | AA8: Pildo NMA (iš paraiškų/ sutarčių) - pildoma visiems patvirtintiems projektams. | AB8: Pildo NMA (iš paraiškų/ sutarčių) - pildoma visiems patvirtintiems projektams. | AC8: Pildo NMA (iš galutinių projektų įgyvendinimo ataskaitų) - pildoma tik baigtiems projektams | AD8: Pildo NMA (iš galutinių projektų įgyvendinimo ataskaitų) - pildoma tik baigtiems projektams | AE8: Užsipildo automatiškai pagal F stulpelį | AF8: Užsipildo automatiškai pagal V stulpelį | AG8: Užsipildo automatiškai pagal W stulpelį | AH8: Užsipildo automatiškai pagal X stilpelį | AI8: Užsipildo automatiškai | AJ8: Užsipildo automatiškai | AK8: Užsipildo automatiškai
B9: 1 | C9: 2 | D9: 3 | E9: 4 | F9: 5 | G9: 6 | H9: 7 | I9: 8 | J9: 9 | K9: 10 | L9: 11 | M9: 12 | N9: 13 | O9: 14 | P9: 15 | Q9: 16 | R9: 17 | S9: 18 | T9: 19 | U9: 20 | V9: 21 | W9: 22 | X9: 23 | Y9: 24 | Z9: 25 | AA9: 26 | AB9: 27 | AC9: 28 | AD9: 29 | AE9: 30 | AF9: 31 | AG9: 32 | AH9: 33 | AI9: 34 | AJ9: 35 | AK9: 36
A10: Kas pildo | B10: automatiškai | C10: automatiškai | D10: automatiškai | E10: automatiškai | F10: NMA | G10: NMA | H10: NMA | I10: NMA | J10: NMA | K10: NMA | L10: NMA | M10: NMA | N10: NMA | O10: NMA | P10: NMA | Q10: NMA | R10: NMA | S10: NMA | T10: NMA | U10: NMA | V10: NMA | W10: NMA | X10: NMA | Y10: NMA | Z10: NMA | AA10: NMA | AB10: NMA | AC10: NMA | AD10: NMA | AE10: automatiškai | AF10: automatiškai | AG10: automatiškai | AH10: automatiškai | AI10: automatiškai | AJ10: automatiškai | AK10: automatiškai
A11: Iš kur duomenys | B11: formulė | C11: formulė | D11: formulė | E11: formulė | F11: iš sistemos | G11: iš sistemos | H11: iš sistemos | I11: iš sistemos | J11: iš sistemos | K11: iš sistemos | L11: iš sistemos | M11: iš sistemos | N11: iš sistemos | O11: iš sistemos | P11: ranka | Q11: iš sistemos | R11: ranka | S11: ranka | T11: ranka | U11: iš sistemos | V11: iš sistemos | W11: iš sistemos | X11: iš sistemos | Y11: iš sistemos | Z11: iš sistemos | AA11: iš sistemos | AB11: iš sistemos | AC11: iš sistemos | AD11: iš sistemos | AE11: formulė | AF11: formulė | AG11: formulė | AH11: formulė | AI11: formulė | AJ11: formulė | AK11: formulė
B12: =CONCATENATE(C12,"-",G12) -> MAŽE-LEADER-19.2-6.4 | C12: =LEFT(K12,4) -> MAŽE | D12: =VLOOKUP(C12,Kodai_VVG!$C$4:$C$52,1,FALSE) -> MAŽE | E12: =VLOOKUP(B12,Kodai_priem!$D$4:$D$564,1,FALSE) -> Maže-LEADER-19.2-6.4 | F12: ŠIAURĖS VAKARŲ LIETUVOS VIETOS VEIKLOS GRUPĖ, A | G12: LEADER-19.2-6.4 | H12: 42864 | I12: UAB "MALORIJA", UAB | J12: 166778750 | K12: MAŽE-LEADER-6A-D-1-4 | L12: 42VS-PV-17-1-04263 | M12: Pramogų ir poilsio plėtra | N12: 32557.48 | O12: EŽŪFKP | P12: 6A | Q12: Juridinis asmuo | R12: MVĮ | S12: =IF($R12="fizinis asmuo","užpildykite","nepildyti") -> nepildyti | T12: =IF($R12="fizinis asmuo","užpildykite","nepildyti") -> nepildyti | U12: Paramos administravimas | V12: 73 | W12: 32557.48 | X12: 43117 | Y12: 43160 | Z12: 43375 | AA12: 1 | AB12: 22 | AC12: 1 | AD12: 21 | AE12: =IF($H12>0,YEAR($H12),) -> 2017 | AF12: =IF($X12>0,YEAR($X12),) -> 2018 | AG12: =IF($Y12>0,YEAR($Y12),) -> 2018 | AH12: =IF($Z12>0,YEAR($Z12),) -> 2018 | AI12: =IF(AF12>0,"taip","ne") -> taip | AJ12: =IF(AG12>0,"taip","ne") -> taip | AK12: =IF(AH12>0,"taip","ne") -> taip
B13: =CONCATENATE(C13,"-",G13) -> MAŽE-LEADER-19.2-6.4 | C13: =LEFT(K13,4) -> MAŽE | D13: =VLOOKUP(C13,Kodai_VVG!$C$4:$C$52,1,FALSE) -> MAŽE | E13: =VLOOKUP(B13,Kodai_priem!$D$4:$D$564,1,FALSE) -> Maže-LEADER-19.2-6.4 | F13: ŠIAURĖS VAKARŲ LIETUVOS VIETOS VEIKLOS GRUPĖ, A | G13: LEADER-19.2-6.4 | H13: 42864 | I13: UAB "VINITAS", UAB | J13: 303388881 | K13: MAŽE-LEADER-6A-D-1-3 | L13: 42VS-PV-17-1-04024 | M13: VInių gamybos pajėgumų išplėtimas | N13: 75308 | O13: EŽŪFKP | P13: 6A | Q13: Juridinis asmuo | R13: MVĮ | S13: =IF($R13="fizinis asmuo","užpildykite","nepildyti") -> nepildyti | T13: =IF($R13="fizinis asmuo","užpildykite","nepildyti") -> nepildyti | U13: Paramos administravimas | V13: 90 | W13: 75308 | X13: 43117 | Y13: 43162 | Z13: 43644 | AA13: 2 | AB13: 8 | AC13: 2 | AD13: 6 | AE13: =IF($H13>0,YEAR($H13),) -> 2017 | AF13: =IF($X13>0,YEAR($X13),) -> 2018 | AG13: =IF($Y13>0,YEAR($Y13),) -> 2018 | AH13: =IF($Z13>0,YEAR($Z13),) -> 2019 | AI13: =IF(AF13>0,"taip","ne") -> taip | AJ13: =IF(AG13>0,"taip","ne") -> taip | AK13: =IF(AH13>0,"taip","ne") -> taip
B14: =CONCATENATE(C14,"-",G14) -> MAŽE-LEADER-19.2-7.2 | C14: =LEFT(K14,4) -> MAŽE | D14: =VLOOKUP(C14,Kodai_VVG!$C$4:$C$52,1,FALSE) -> MAŽE | E14: =VLOOKUP(B14,Kodai_priem!$D$4:$D$564,1,FALSE) -> Maže-LEADER-19.2-7.2 | F14: ŠIAURĖS VAKARŲ LIETUVOS VIETOS VEIKLOS GRUPĖ, A | G14: LEADER-19.2-7.2 | H14: 43244 | I14: MAŽEIKIŲ R. TIRKŠLIŲ JUOZO VITKAUS-KAZIMIERAIČIO PAGRINDINĖ MOKYKLA, BĮ | J14: 190176839 | K14: MAŽE-LEADER-6B-I-6-2 | L14: 42VS-PV-18-1-06456 | M14: Mažeikių r. Tirkšlių Juozo Vitkaus-Kazimieraičio pagrindinės mokyklos sporto aikštyno statyba | N14: 48809.5 | O14: EŽŪFKP | P14: 6B | Q14: Juridinis asmuo | R14: Kita | S14: =IF($R14="fizinis asmuo","užpildykite","nepildyti") -> nepildyti | T14: =IF($R14="fizinis asmuo","užpildykite","nepildyti") -> nepildyti | U14: Paramos administravimas | V14: 90 | W14: 48810 | X14: 43517 | Y14: 43644 | Z14: 43819 | AE14: =IF($H14>0,YEAR($H14),) -> 2018 | AF14: =IF($X14>0,YEAR($X14),) -> 2019 | AG14: =IF($Y14>0,YEAR($Y14),) -> 2019 | AH14: =IF($Z14>0,YEAR($Z14),) -> 2019 | AI14: =IF(AF14>0,"taip","ne") -> taip | AJ14: =IF(AG14>0,"taip","ne") -> taip | AK14: =IF(AH14>0,"taip","ne") -> taip
B15: =CONCATENATE(C15,"-",G15) -> MAŽE-LEADER-19.2-7.2 | C15: =LEFT(K15,4) -> MAŽE | D15: =VLOOKUP(C15,Kodai_VVG!$C$4:$C$52,1,FALSE) -> MAŽE | E15: =VLOOKUP(B15,Kodai_priem!$D$4:$D$564,1,FALSE) -> Maže-LEADER-19.2-7.2 | F15: ŠIAURĖS VAKARŲ LIETUVOS VIETOS VEIKLOS GRUPĖ, A | G15: LEADER-19.2-7.2 | H15: 43252 | I15: MAŽEIKIŲ RAJONO SAVIVALDYBĖS ADMINISTRACIJA, BĮ | J15: 167371234 | K15: MAŽE-LEADER-6B-1-6-3 | L15: 42VS-PV-18-1-06656 | M15: Pastato, Žemaitės g. 6, Palnosų k., Mažeikių r. sav., atnaujinimas ir pritaikymas bendruomenės ir viešosios bibliotekos poreikiams | N15: 48809.5 | O15: EŽŪFKP | P15: 6B | Q15: Juridinis asmuo | R15: Valdžios institucija | S15: =IF($R15="fizinis asmuo","užpildykite","nepildyti") -> nepildyti | T15: =IF($R15="fizinis asmuo","užpildykite","nepildyti") -> nepildyti | U15: Paramos administravimas | V15: 60 | W15: 0 | X15: 43551 | Y15: 43584 | AE15: =IF($H15>0,YEAR($H15),) -> 2018 | AF15: =IF($X15>0,YEAR($X15),) -> 2019 | AG15: =IF($Y15>0,YEAR($Y15),) -> 2019 | AH15: =IF($Z15>0,YEAR($Z15),) -> 0 | AI15: =IF(AF15>0,"taip","ne") -> taip | AJ15: =IF(AG15>0,"taip","ne") -> taip | AK15: =IF(AH15>0,"taip","ne") -> ne
B16: =CONCATENATE(C16,"-",G16) -> MAŽE-LEADER-19.2-7.2 | C16: =LEFT(K16,4) -> MAŽE | D16: =VLOOKUP(C16,Kodai_VVG!$C$4:$C$52,1,FALSE) -> MAŽE | E16: =VLOOKUP(B16,Kodai_priem!$D$4:$D$564,1,FALSE) -> Maže-LEADER-19.2-7.2 | F16: ŠIAURĖS VAKARŲ LIETUVOS VIETOS VEIKLOS GRUPĖ, A | G16: LEADER-19.2-7.2 | H16: 43243 | I16: MAŽEIKIŲ RAJONO SEDOS VYTAUTO MAČERNIO GIMNAZIJA, BĮ | J16: 190164331 | K16: MAŽE-LEADER-6B-I-6-1 | L16: 42VS-PV-18-1-06455 | M16: Sedos Vytauto Mačernio gimnazijos sporto aikštelės statyba | N16: 48809.5 | O16: EŽŪFKP | P16: 6B | Q16: Juridinis asmuo | R16: Kita | S16: =IF($R16="fizinis asmuo","užpildykite","nepildyti") -> nepildyti | T16: =IF($R16="fizinis asmuo","užpildykite","nepildyti") -> nepildyti | U16: Paramos administravimas | V16: 80 | W16: 48810 | X16: 43517 | Y16: 44195 | Z16: 44250 | AE16: =IF($H16>0,YEAR($H16),) -> 2018 | AF16: =IF($X16>0,YEAR($X16),) -> 2019 | AG16: =IF($Y16>0,YEAR($Y16),) -> 2020 | AH16: =IF($Z16>0,YEAR($Z16),) -> 2021 | AI16: =IF(AF16>0,"taip","ne") -> taip | AJ16: =IF(AG16>0,"taip","ne") -> taip | AK16: =IF(AH16>0,"taip","ne") -> taip
B17: =CONCATENATE(C17,"-",G17) -> MAŽE-LEADER-19.2-6.2 | C17: =LEFT(K17,4) -> MAŽE | D17: =VLOOKUP(C17,Kodai_VVG!$C$4:$C$52,1,FALSE) -> MAŽE | E17: =VLOOKUP(B17,Kodai_priem!$D$4:$D$564,1,FALSE) -> Maže-LEADER-19.2-6.2 | F17: ŠIAURĖS VAKARŲ LIETUVOS VIETOS VEIKLOS GRUPĖ, A | G17: LEADER-19.2-6.2 | H17: 43286 | I17: MB "IŠMANIOS TECHNOLOGIJOS", MB | J17: 304870012 | K17: MAŽE-LEADER-6A-D-9-2 | L17: 42VS-KE-18-1-06433 | M17: Naujas informacinių technologijų verslas Mažeikių rajone | N17: 48416.65 | O17: EŽŪFKP | P17: 6A | Q17: Juridinis asmuo | R17: MVĮ | S17: =IF($R17="fizinis asmuo","užpildykite","nepildyti") -> nepildyti | T17: =IF($R17="fizinis asmuo","užpildykite","nepildyti") -> nepildyti | U17: Paramos administravimas | V17: 80 | W17: 0 | X17: 43544 | Y17: 43592 | AA17: 1 | AB17: 1 | AE17: =IF($H17>0,YEAR($H17),) -> 2018 | AF17: =IF($X17>0,YEAR($X17),) -> 2019 | AG17: =IF($Y17>0,YEAR($Y17),) -> 2019 | AH17: =IF($Z17>0,YEAR($Z17),) -> 0 | AI17: =IF(AF17>0,"taip","ne") -> taip | AJ17: =IF(AG17>0,"taip","ne") -> taip | AK17: =IF(AH17>0,"taip","ne") -> ne
B18: =CONCATENATE(C18,"-",G18) -> MAŽE-LEADER-19.2-6.2 | C18: =LEFT(K18,4) -> MAŽE | D18: =VLOOKUP(C18,Kodai_VVG!$C$4:$C$52,1,FALSE) -> MAŽE | E18: =VLOOKUP(B18,Kodai_priem!$D$4:$D$564,1,FALSE) -> Maže-LEADER-19.2-6.2 | F18: ŠIAURĖS VAKARŲ LIETUVOS VIETOS VEIKLOS GRUPĖ, A | G18: LEADER-19.2-6.2 | H18: 43234 | I18: UAB "DANORA", UAB | J18: 304713541 | K18: MAŽE-LEADER-6A-D-9-1 | L18: 42VS-PV-18-1-06521 | M18: UAB „Danora“ verslo pradžia Mažeikių rajone | N18: 48779.89 | O18: EŽŪFKP | P18: 6A | Q18: Juridinis asmuo | R18: MVĮ | S18: =IF($R18="fizinis asmuo","užpildykite","nepildyti") -> nepildyti | T18: =IF($R18="fizinis asmuo","užpildykite","nepildyti") -> nepildyti | U18: Paramos administravimas | V18: 95 | W18: 48780 | X18: 43544 | Y18: 43584 | Z18: 43662 | AA18: 1 | AB18: 2 | AC18: 1 | AD18: 1 | AE18: =IF($H18>0,YEAR($H18),) -> 2018 | AF18: =IF($X18>0,YEAR($X18),) -> 2019 | AG18: =IF($Y18>0,YEAR($Y18),) -> 2019 | AH18: =IF($Z18>0,YEAR($Z18),) -> 2019 | AI18: =IF(AF18>0,"taip","ne") -> taip | AJ18: =IF(AG18>0,"taip","ne") -> taip | AK18: =IF(AH18>0,"taip","ne") -> taip
B19: =CONCATENATE(C19,"-",G19) -> MAŽE-LEADER-19.2-6.4 | C19: =LEFT(K19,4) -> MAŽE | D19: =VLOOKUP(C19,Kodai_VVG!$C$4:$C$52,1,FALSE) -> MAŽE | E19: =VLOOKUP(B19,Kodai_priem!$D$4:$D$564,1,FALSE) -> Maže-LEADER-19.2-6.4 | F19: ŠIAURĖS VAKARŲ LIETUVOS VIETOS VEIKLOS GRUPĖ, A | G19: LEADER-19.2-6.4 | H19: 43208 | I19: UAB "MEDINSTRUS", UAB | J19: 167361998 | K19: MAŽE-LEADER-6A-D-4-1 | L19: 42VS-KE-18-1-06424 | M19: UAB "Medinstrus" veiklos plėtra | N19: 33120 | O19: EŽŪFKP | P19: 6A | Q19: Juridinis asmuo | R19: MVĮ | S19: =IF($R19="fizinis asmuo","užpildykite","nepildyti") -> nepildyti | T19: =IF($R19="fizinis asmuo","užpildykite","nepildyti") -> nepildyti | U19: Paramos administravimas | V19: 90 | W19: 33120 | X19: 43530 | Y19: 43584 | Z19: 43819 | AA19: 2 | AB19: 33.04 | AC19: 2 | AD19: 31.04 | AE19: =IF($H19>0,YEAR($H19),) -> 2018 | AF19: =IF($X19>0,YEAR($X19),) -> 2019 | AG19: =IF($Y19>0,YEAR($Y19),) -> 2019 | AH19: =IF($Z19>0,YEAR($Z19),) -> 2019 | AI19: =IF(AF19>0,"taip","ne") -> taip | AJ19: =IF(AG19>0,"taip","ne") -> taip | AK19: =IF(AH19>0,"taip","ne") -> taip
B20: =CONCATENATE(C20,"-",G20) -> MAŽE-LEADER-19.2-6.4 | C20: =LEFT(K20,4) -> MAŽE | D20: =VLOOKUP(C20,Kodai_VVG!$C$4:$C$52,1,FALSE) -> MAŽE | E20: =VLOOKUP(B20,Kodai_priem!$D$4:$D$564,1,FALSE) -> Maže-LEADER-19.2-6.4 | F20: ŠIAURĖS VAKARŲ LIETUVOS VIETOS VEIKLOS GRUPĖ, A | G20: LEADER-19.2-6.4 | H20: 43228 | I20: UAB "SARIMA", UAB | J20: 301577673 | K20: MAŽE-LEADER-6A-D-4-2 | L20: 42VS-PV-18-1-06517 | M20: UAB „Sarima“ investicijos į verslo plėtrą kaimo vietovėje“ | N20: 75886 | O20: EŽŪFKP | P20: 6A | Q20: Juridinis asmuo | R20: MVĮ | S20: =IF($R20="fizinis asmuo","užpildykite","nepildyti") -> nepildyti | T20: =IF($R20="fizinis asmuo","užpildykite","nepildyti") -> nepildyti | U20: Paramos administravimas | V20: 82 | W20: 75886 | X20: 43544 | Y20: 43705 | Z20: 44433 | AA20: 2 | AB20: 15.38 | AC20: 2 | AD20: 10.48 | AE20: =IF($H20>0,YEAR($H20),) -> 2018 | AF20: =IF($X20>0,YEAR($X20),) -> 2019 | AG20: =IF($Y20>0,YEAR($Y20),) -> 2019 | AH20: =IF($Z20>0,YEAR($Z20),) -> 2021 | AI20: =IF(AF20>0,"taip","ne") -> taip | AJ20: =IF(AG20>0,"taip","ne") -> taip | AK20: =IF(AH20>0,"taip","ne") -> taip
B21: =CONCATENATE(C21,"-",G21) -> MAŽE-LEADER-19.2-SAVA-3 | C21: =LEFT(K21,4) -> MAŽE | D21: =VLOOKUP(C21,Kodai_VVG!$C$4:$C$52,1,FALSE) -> MAŽE | E21: =VLOOKUP(B21,Kodai_priem!$D$4:$D$564,1,FALSE) -> Maže-LEADER-19.2-SAVA-3 | F21: ŠIAURĖS VAKARŲ LIETUVOS VIETOS VEIKLOS GRUPĖ, A | G21: LEADER-19.2-SAVA-3 | H21: 43280 | I21: UKRINŲ KAIMO BENDRUOMENĖ, A | J21: 167396230 | K21: MAŽE-LEADER-1C-M-8-1-2018 | L21: 42VS-PV-18-1-06526 | M21: „Ukrinų kaimo bendruomenės narių profesinių žinių ir įgūdžių įgijimas vaisių, daržovių perdirbimo srityje“ | N21: 9573.89 | O21: EŽŪFKP | P21: 1C | Q21: Juridinis asmuo | R21: NVO | S21: =IF($R21="fizinis asmuo","užpildykite","nepildyti") -> nepildyti | T21: =IF($R21="fizinis asmuo","užpildykite","nepildyti") -> nepildyti | U21: Paramos administravimas | V21: 95 | W21: 9574 | X21: 43544 | Y21: 43552 | Z21: 43745 | AE21: =IF($H21>0,YEAR($H21),) -> 2018 | AF21: =IF($X21>0,YEAR($X21),) -> 2019 | AG21: =IF($Y21>0,YEAR($Y21),) -> 2019 | AH21: =IF($Z21>0,YEAR($Z21),) -> 2019 | AI21: =IF(AF21>0,"taip","ne") -> taip | AJ21: =IF(AG21>0,"taip","ne") -> taip | AK21: =IF(AH21>0,"taip","ne") -> taip
B22: =CONCATENATE(C22,"-",G22) -> MAŽE-LEADER-19.2-SAVA-4 | C22: =LEFT(K22,4) -> MAŽE | D22: =VLOOKUP(C22,Kodai_VVG!$C$4:$C$52,1,FALSE) -> MAŽE | E22: =VLOOKUP(B22,Kodai_priem!$D$4:$D$564,1,FALSE) -> Maže-LEADER-19.2-SAVA-4 | F22: ŠIAURĖS VAKARŲ LIETUVOS VIETOS VEIKLOS GRUPĖ, A | G22: LEADER-19.2-SAVA-4 | H22: 43228 | I22: VIEKŠNIŲ BENDRUOMENĖ, A | J22: 167400351 | K22: MAŽE-LEADER-6B-K-5-1 | L22: 42VS-PV-18-1-06523 | M22: Diena Viekšniuose | N22: 9762 | O22: EŽŪFKP | P22: 6B | Q22: Juridinis asmuo | R22: NVO | S22: =IF($R22="fizinis asmuo","užpildykite","nepildyti") -> nepildyti | T22: =IF($R22="fizinis asmuo","užpildykite","nepildyti") -> nepildyti | U22: Paramos administravimas | V22: 70 | W22: 9762 | X22: 43544 | Y22: 43549 | Z22: 43663 | AE22: =IF($H22>0,YEAR($H22),) -> 2018 | AF22: =IF($X22>0,YEAR($X22),) -> 2019 | AG22: =IF($Y22>0,YEAR($Y22),) -> 2019 | AH22: =IF($Z22>0,YEAR($Z22),) -> 2019 | AI22: =IF(AF22>0,"taip","ne") -> taip | AJ22: =IF(AG22>0,"taip","ne") -> taip | AK22: =IF(AH22>0,"taip","ne") -> taip
B23: =CONCATENATE(C23,"-",G23) -> MAŽE-LEADER-19.2-6.4 | C23: =LEFT(K23,4) -> MAŽE | D23: =VLOOKUP(C23,Kodai_VVG!$C$4:$C$52,1,FALSE) -> MAŽE | E23: =VLOOKUP(B23,Kodai_priem!$D$4:$D$564,1,FALSE) -> Maže-LEADER-19.2-6.4 | F23: ŠIAURĖS VAKARŲ LIETUVOS VIETOS VEIKLOS GRUPĖ, A | G23: LEADER-19.2-6.4 | H23: 43641 | I23: Andrius Bertulis | K23: MAŽE-LEADER-6A-D-15-2-2019 | L23: 42VS-PV-19-1-07650 | M23: Andriaus Bertulio individualios veiklos plėtra | N23: 68298 | O23: EŽŪFKP | P23: 6A | Q23: Fizinis asmuo | R23: Fizinis asmuo | S23: taip | T23: taip | U23: Paramos administravimas | V23: 75 | W23: 0 | X23: 43745 | Y23: 43761 | AA23: 1.5 | AB23: 2.5 | AE23: =IF($H23>0,YEAR($H23),) -> 2019 | AF23: =IF($X23>0,YEAR($X23),) -> 2019 | AG23: =IF($Y23>0,YEAR($Y23),) -> 2019 | AH23: =IF($Z23>0,YEAR($Z23),) -> 0 | AI23: =IF(AF23>0,"taip","ne") -> taip | AJ23: =IF(AG23>0,"taip","ne") -> taip | AK23: =IF(AH23>0,"taip","ne") -> ne
B24: =CONCATENATE(C24,"-",G24) -> MAŽE-LEADER-19.2-SAVA-4 | C24: =LEFT(K24,4) -> MAŽE | D24: =VLOOKUP(C24,Kodai_VVG!$C$4:$C$52,1,FALSE) -> MAŽE | E24: =VLOOKUP(B24,Kodai_priem!$D$4:$D$564,1,FALSE) -> Maže-LEADER-19.2-SAVA-4 | F24: ŠIAURĖS VAKARŲ LIETUVOS VIETOS VEIKLOS GRUPĖ, A | G24: LEADER-19.2-SAVA-4 | H24: 43544 | I24: AUKSODĖS KAIMO BENDRUOMENĖ, A | J24: 167397713 | K24: MAŽE-LEADER-6B-K-13-3-2019 | L24: 42VS-PV-19-1-03845 | M24: Mažeikių rajono savivaldybės administracija; | N24: 9762 | O24: EŽŪFKP | P24: 6B | Q24: Juridinis asmuo | R24: NVO | S24: =IF($R24="fizinis asmuo","užpildykite","nepildyti") -> nepildyti | T24: =IF($R24="fizinis asmuo","užpildykite","nepildyti") -> nepildyti | U24: Paramos administravimas | V24: 90 | W24: 9762 | X24: 43647 | Y24: 43647 | Z24: 44049 | AE24: =IF($H24>0,YEAR($H24),) -> 2019 | AF24: =IF($X24>0,YEAR($X24),) -> 2019 | AG24: =IF($Y24>0,YEAR($Y24),) -> 2019 | AH24: =IF($Z24>0,YEAR($Z24),) -> 2020 | AI24: =IF(AF24>0,"taip","ne") -> taip | AJ24: =IF(AG24>0,"taip","ne") -> taip | AK24: =IF(AH24>0,"taip","ne") -> taip
B25: =CONCATENATE(C25,"-",G25) -> MAŽE-LEADER-19.2-6.2 | C25: =LEFT(K25,4) -> MAŽE | D25: =VLOOKUP(C25,Kodai_VVG!$C$4:$C$52,1,FALSE) -> MAŽE | E25: =VLOOKUP(B25,Kodai_priem!$D$4:$D$564,1,FALSE) -> Maže-LEADER-19.2-6.2 | F25: ŠIAURĖS VAKARŲ LIETUVOS VIETOS VEIKLOS GRUPĖ, A | G25: LEADER-19.2-6.2 | H25: 43641 | I25: Aurelija Šmitė | K25: MAŽE-LEADER-6A-D-14-2-2019 | L25: 42VS-PV-19-1-08205 | M25: Aurelijos Šmitės sodyboje poilsio ir pramogų paslaugų įkūrimas | N25: 48779.89 | O25: EŽŪFKP | P25: 6A | Q25: Fizinis asmuo | R25: Fizinis asmuo | S25: ne | T25: taip | U25: Paramos administravimas | V25: 75 | W25: 48780 | X25: 43745 | Y25: 43763 | AA25: 1.5 | AB25: 1.5 | AE25: =IF($H25>0,YEAR($H25),) -> 2019 | AF25: =IF($X25>0,YEAR($X25),) -> 2019 | AG25: =IF($Y25>0,YEAR($Y25),) -> 2019 | AH25: =IF($Z25>0,YEAR($Z25),) -> 0 | AI25: =IF(AF25>0,"taip","ne") -> taip | AJ25: =IF(AG25>0,"taip","ne") -> taip | AK25: =IF(AH25>0,"taip","ne") -> ne
B26: =CONCATENATE(C26,"-",G26) -> MAŽE-LEADER-19.2-7.6 | C26: =LEFT(K26,4) -> MAŽE | D26: =VLOOKUP(C26,Kodai_VVG!$C$4:$C$52,1,FALSE) -> MAŽE | E26: =VLOOKUP(B26,Kodai_priem!$D$4:$D$564,1,FALSE) -> Maže-LEADER-19.2-7.6 | F26: ŠIAURĖS VAKARŲ LIETUVOS VIETOS VEIKLOS GRUPĖ, A | G26: LEADER-19.2-7.6 | H26: 43738 | I26: MAŽEIKIŲ MUZIEJUS, BĮ | J26: 188208984 | K26: MAŽE-LEADER-6B-I-17-1-2019 | L26: 42VS-PV-19-1-08986 | M26: Kultūros paveldo objekto – Viekšnių vaistinės muziejaus pastato gerinimo darbai | N26: 48810 | O26: EŽŪFKP | P26: 6B | Q26: Juridinis asmuo | R26: Kita | S26: =IF($R26="fizinis asmuo","užpildykite","nepildyti") -> nepildyti | T26: =IF($R26="fizinis asmuo","užpildykite","nepildyti") -> nepildyti | U26: Paramos administravimas | V26: 90 | W26: 48810 | X26: 43839 | Y26: 43853 | Z26: 44202 | AE26: =IF($H26>0,YEAR($H26),) -> 2019 | AF26: =IF($X26>0,YEAR($X26),) -> 2020 | AG26: =IF($Y26>0,YEAR($Y26),) -> 2020 | AH26: 2021 | AI26: =IF(AF26>0,"taip","ne") -> taip | AJ26: =IF(AG26>0,"taip","ne") -> taip | AK26: =IF(AH26>0,"taip","ne") -> taip
B27: =CONCATENATE(C27,"-",G27) -> MAŽE-LEADER-19.2-7.6 | C27: =LEFT(K27,4) -> MAŽE | D27: =VLOOKUP(C27,Kodai_VVG!$C$4:$C$52,1,FALSE) -> MAŽE | E27: =VLOOKUP(B27,Kodai_priem!$D$4:$D$564,1,FALSE) -> Maže-LEADER-19.2-7.6 | F27: ŠIAURĖS VAKARŲ LIETUVOS VIETOS VEIKLOS GRUPĖ, A | G27: LEADER-19.2-7.6 | H27: 43738 | I27: MAŽEIKIŲ RAJONO RENAVO DVARO SODYBA, BĮ | J27: 303212367 | K27: MAŽE-LEADER-6B-I-17-2-2019 | L27: 42VS-PV-19-1-09116 | M27: Kultūros paveldo objekto Renavo dvaro sodo rūsio remonto darbai, pritaikant šikšnosparnių žiemojimui ir edukacinei veiklai | N27: 46857 | O27: EŽŪFKP | P27: 6B | Q27: Juridinis asmuo | R27: Kita | S27: =IF($R27="fizinis asmuo","užpildykite","nepildyti") -> nepildyti | T27: =IF($R27="fizinis asmuo","užpildykite","nepildyti") -> nepildyti | U27: Paramos administravimas | V27: 90 | W27: 46857 | X27: 43839 | Y27: 43854 | Z27: 44425 | AE27: =IF($H27>0,YEAR($H27),) -> 2019 | AF27: =IF($X27>0,YEAR($X27),) -> 2020 | AG27: =IF($Y27>0,YEAR($Y27),) -> 2020 | AH27: =IF($Z27>0,YEAR($Z27),) -> 2021 | AI27: =IF(AF27>0,"taip","ne") -> taip | AJ27: =IF(AG27>0,"taip","ne") -> taip | AK27: =IF(AH27>0,"taip","ne") -> taip
B28: =CONCATENATE(C28,"-",G28) -> MAŽE-LEADER-19.2-6.4 | C28: =LEFT(K28,4) -> MAŽE | D28: =VLOOKUP(C28,Kodai_VVG!$C$4:$C$52,1,FALSE) -> MAŽE | E28: =VLOOKUP(B28,Kodai_priem!$D$4:$D$564,1,FALSE) -> Maže-LEADER-19.2-6.4 | F28: ŠIAURĖS VAKARŲ LIETUVOS VIETOS VEIKLOS GRUPĖ, A | G28: LEADER-19.2-6.4 | H28: 43641 | I28: MB "MEHMĖ", MB | J28: 304037337 | K28: MAŽE-LEADER-6A-D-15-3-2019 | L28: 42VS-PV-19-1-07649 | M28: MB „Mehmė“ alternatyvios ne žemės ūkio veiklos plėtra | N28: 68297.67 | O28: EŽŪFKP | P28: 6A | Q28: Juridinis asmuo | R28: MVĮ | S28: =IF($R28="fizinis asmuo","užpildykite","nepildyti") -> nepildyti | T28: =IF($R28="fizinis asmuo","užpildykite","nepildyti") -> nepildyti | U28: Paramos administravimas | V28: 75 | W28: 68298 | X28: 43745 | Y28: 43763 | Z28: 43857 | AA28: 1.5 | AB28: 2.5 | AC28: 2 | AD28: 4 | AE28: =IF($H28>0,YEAR($H28),) -> 2019 | AF28: =IF($X28>0,YEAR($X28),) -> 2019 | AG28: =IF($Y28>0,YEAR($Y28),) -> 2019 | AH28: =IF($Z28>0,YEAR($Z28),) -> 2020 | AI28: =IF(AF28>0,"taip","ne") -> taip | AJ28: =IF(AG28>0,"taip","ne") -> taip | AK28: =IF(AH28>0,"taip","ne") -> taip
B29: =CONCATENATE(C29,"-",G29) -> MAŽE-LEADER-19.2-SAVA-4 | C29: =LEFT(K29,4) -> MAŽE | D29: =VLOOKUP(C29,Kodai_VVG!$C$4:$C$52,1,FALSE) -> MAŽE | E29: =VLOOKUP(B29,Kodai_priem!$D$4:$D$564,1,FALSE) -> Maže-LEADER-19.2-SAVA-4 | F29: ŠIAURĖS VAKARŲ LIETUVOS VIETOS VEIKLOS GRUPĖ, A | G29: LEADER-19.2-SAVA-4 | H29: 43544 | I29: SEDOS BENDRUOMENĖ, A | J29: 167373961 | K29: MAŽE-LEADER-6B-K-13-4-2019 | L29: 42VS-PV-19-1-03847 | M29: „Joninės Sedoje“ | N29: 9762 | O29: EŽŪFKP | P29: 6B | Q29: Juridinis asmuo | R29: NVO | S29: =IF($R29="fizinis asmuo","užpildykite","nepildyti") -> nepildyti | T29: =IF($R29="fizinis asmuo","užpildykite","nepildyti") -> nepildyti | U29: Paramos administravimas | V29: 90 | W29: 9762 | X29: 43637 | Y29: 43648 | Z29: 44021 | AE29: =IF($H29>0,YEAR($H29),) -> 2019 | AF29: =IF($X29>0,YEAR($X29),) -> 2019 | AG29: =IF($Y29>0,YEAR($Y29),) -> 2019 | AH29: =IF($Z29>0,YEAR($Z29),) -> 2020 | AI29: =IF(AF29>0,"taip","ne") -> taip | AJ29: =IF(AG29>0,"taip","ne") -> taip | AK29: =IF(AH29>0,"taip","ne") -> taip
B30: =CONCATENATE(C30,"-",G30) -> MAŽE-LEADER-19.2-SAVA-4 | C30: =LEFT(K30,4) -> MAŽE | D30: =VLOOKUP(C30,Kodai_VVG!$C$4:$C$52,1,FALSE) -> MAŽE | E30: =VLOOKUP(B30,Kodai_priem!$D$4:$D$564,1,FALSE) -> Maže-LEADER-19.2-SAVA-4 | F30: ŠIAURĖS VAKARŲ LIETUVOS VIETOS VEIKLOS GRUPĖ, A | G30: LEADER-19.2-SAVA-4 | H30: 43544 | I30: ŠERKŠNĖNŲ SENIŪNIJOS BENDRUOMENĖS CENTRAS, A | J30: 300656089 | K30: MAŽE-LEADER-6B-K-13-1-2019 | L30: 42VS-PV-19-1-03843 | M30: Šerkšnėnų seniūnijos tradicinės šventės „Vasaros spalvų paletė“ organizavimas, išsaugojant ir populiarinant kultūrines tradicijas“ | N30: 9762 | O30: EŽŪFKP | P30: 6B | Q30: Juridinis asmuo | R30: NVO | S30: =IF($R30="fizinis asmuo","užpildykite","nepildyti") -> nepildyti | T30: =IF($R30="fizinis asmuo","užpildykite","nepildyti") -> nepildyti | U30: Paramos administravimas | V30: 90 | W30: 9762 | X30: 43649 | Y30: 43649 | Z30: 44069 | AE30: =IF($H30>0,YEAR($H30),) -> 2019 | AF30: =IF($X30>0,YEAR($X30),) -> 2019 | AG30: =IF($Y30>0,YEAR($Y30),) -> 2019 | AH30: =IF($Z30>0,YEAR($Z30),) -> 2020 | AI30: =IF(AF30>0,"taip","ne") -> taip | AJ30: =IF(AG30>0,"taip","ne") -> taip | AK30: =IF(AH30>0,"taip","ne") -> taip
B31: =CONCATENATE(C31,"-",G31) -> MAŽE-LEADER-19.2-6.2 | C31: =LEFT(K31,4) -> MAŽE | D31: =VLOOKUP(C31,Kodai_VVG!$C$4:$C$52,1,FALSE) -> MAŽE | E31: =VLOOKUP(B31,Kodai_priem!$D$4:$D$564,1,FALSE) -> Maže-LEADER-19.2-6.2 | F31: ŠIAURĖS VAKARŲ LIETUVOS VIETOS VEIKLOS GRUPĖ, A | G31: LEADER-19.2-6.2 | H31: 43641 | I31: UAB "MINDARTA", UAB | J31: 305181123 | K31: MAŽE-LEADER-6A-D-14-1-2019 | L31: 42VS-PV-19-1-08189 | M31: UAB „MINDARTA” VERSLO PRADŽIA KAIMO VIETOVĖJE | N31: 29419.66 | O31: EŽŪFKP | P31: 6A | Q31: Juridinis asmuo | R31: MVĮ | S31: =IF($R31="fizinis asmuo","užpildykite","nepildyti") -> nepildyti | T31: =IF($R31="fizinis asmuo","užpildykite","nepildyti") -> nepildyti | U31: Paramos administravimas | V31: 85 | W31: 29420 | X31: 43745 | Y31: 43763 | Z31: 44489 | AA31: 2 | AB31: 2.15 | AC31: 2 | AD31: 2.15 | AE31: =IF($H31>0,YEAR($H31),) -> 2019 | AF31: =IF($X31>0,YEAR($X31),) -> 2019 | AG31: =IF($Y31>0,YEAR($Y31),) -> 2019 | AH31: =IF($Z31>0,YEAR($Z31),) -> 2021 | AI31: =IF(AF31>0,"taip","ne") -> taip | AJ31: =IF(AG31>0,"taip","ne") -> taip | AK31: =IF(AH31>0,"taip","ne") -> taip
B32: =CONCATENATE(C32,"-",G32) -> MAŽE-LEADER-19.2-6.4 | C32: =LEFT(K32,4) -> MAŽE | D32: =VLOOKUP(C32,Kodai_VVG!$C$4:$C$52,1,FALSE) -> MAŽE | E32: =VLOOKUP(B32,Kodai_priem!$D$4:$D$564,1,FALSE) -> Maže-LEADER-19.2-6.4 | F32: ŠIAURĖS VAKARŲ LIETUVOS VIETOS VEIKLOS GRUPĖ, A | G32: LEADER-19.2-6.4 | H32: 43641 | I32: UAB "VIGIRA", UAB | J32: 302648116 | K32: MAŽE-LEADER-6A-D-15-1-2019 | L32: 42VS-PV-19-1-08206 | M32: UAB „Vigira“ vykdomos veiklos plėtra | N32: 54568 | O32: EŽŪFKP | P32: 6A | Q32: Juridinis asmuo | R32: MVĮ | S32: =IF($R32="fizinis asmuo","užpildykite","nepildyti") -> nepildyti | T32: =IF($R32="fizinis asmuo","užpildykite","nepildyti") -> nepildyti | U32: Paramos administravimas | V32: 80 | W32: 0 | X32: 43745 | Y32: 43761 | AA32: 2 | AB32: 14.2 | AE32: =IF($H32>0,YEAR($H32),) -> 2019 | AF32: =IF($X32>0,YEAR($X32),) -> 2019 | AG32: =IF($Y32>0,YEAR($Y32),) -> 2019 | AH32: =IF($Z32>0,YEAR($Z32),) -> 0 | AI32: =IF(AF32>0,"taip","ne") -> taip | AJ32: =IF(AG32>0,"taip","ne") -> taip | AK32: =IF(AH32>0,"taip","ne") -> ne
B33: =CONCATENATE(C33,"-",G33) -> MAŽE-LEADER-19.2-SAVA-4 | C33: =LEFT(K33,4) -> MAŽE | D33: =VLOOKUP(C33,Kodai_VVG!$C$4:$C$52,1,FALSE) -> MAŽE | E33: =VLOOKUP(B33,Kodai_priem!$D$4:$D$564,1,FALSE) -> Maže-LEADER-19.2-SAVA-4 | F33: ŠIAURĖS VAKARŲ LIETUVOS VIETOS VEIKLOS GRUPĖ, A | G33: LEADER-19.2-SAVA-4 | H33: 43544 | I33: UKRINŲ KAIMO BENDRUOMENĖ, A | J33: 167396230 | K33: MAŽE-LEADER-6B-K-13-2-2019 | L33: 42VS-PV-19-1-03844 | M33: „Išsaugokime praeitį, praturtinkime ateitį“ | N33: 9762 | O33: EŽŪFKP | P33: 6B | Q33: Juridinis asmuo | R33: NVO | S33: =IF($R33="fizinis asmuo","užpildykite","nepildyti") -> nepildyti | T33: =IF($R33="fizinis asmuo","užpildykite","nepildyti") -> nepildyti | U33: Paramos administravimas | V33: 90 | W33: 9762 | X33: 43637 | Y33: 43644 | Z33: 44373 | AE33: =IF($H33>0,YEAR($H33),) -> 2019 | AF33: =IF($X33>0,YEAR($X33),) -> 2019 | AG33: =IF($Y33>0,YEAR($Y33),) -> 2019 | AH33: =IF($Z33>0,YEAR($Z33),) -> 2021 | AI33: =IF(AF33>0,"taip","ne") -> taip | AJ33: =IF(AG33>0,"taip","ne") -> taip | AK33: =IF(AH33>0,"taip","ne") -> taip
B34: MAŽE-LEADER-19.2-SAVA-5 | C34: MAŽE | D34: MAŽE | E34: Maže-LEADER-19.2-SAVA-5 | F34: ŠIAURĖS VAKARŲ LIETUVOS VIETOS VEIKLOS GRUPĖ, A | G34: LEADER-19.2-SAVA-5 | H34: 43798 | I34: LABDAROS IR PARAMOS FONDAS "G VAIKŲ PASAULIS | J34: 302572241 | K34: MAŽE-LEADER-3A-S-18-5-2019 | L34: 42VS-PV-19-1-12334 | M34: Labdaros ir paramos fondo „G vaikų pasaulis“ socialinės veiklos skatinimas, įsigyjant virtuvės įrangą Mažeikių raj. vaikų ir jaunimo maitinimui ir edukacijai | N34: 11926.38 | O34: EŽŪFKP | P34: 3A | Q34: Juridinis asmuo | R34: Kita | S34: =IF($R34="fizinis asmuo","užpildykite","nepildyti") -> nepildyti | T34: =IF($R34="fizinis asmuo","užpildykite","nepildyti") -> nepildyti | U34: Paramos administravimas | V34: 60 | W34: 11926.38 | X34: 43945 | Y34: 43948 | Z34: 44323 | AE34: =IF($H34>0,YEAR($H34),) -> 2019 | AF34: =IF($X34>0,YEAR($X34),) -> 2020 | AG34: =IF($Y34>0,YEAR($Y34),) -> 2020 | AH34: =IF($Z34>0,YEAR($Z34),) -> 2021 | AI34: =IF(AF34>0,"taip","ne") -> taip | AJ34: =IF(AG34>0,"taip","ne") -> taip | AK34: =IF(AH34>0,"taip","ne") -> taip
B35: MAŽE-LEADER-19.2-SAVA-5 | C35: MAŽE | D35: MAŽE | E35: Maže-LEADER-19.2-SAVA-5 | F35: ŠIAURĖS VAKARŲ LIETUVOS VIETOS VEIKLOS GRUPĖ, A | G35: LEADER-19.2-SAVA-5 | H35: 43798 | I35: MAŽEIKIŲ AUTIZMO ASOCIACIJA "LIETAUS VAIKAI" | J35: 305186533 | K35: MAŽE-LEADER-3A-S-18-4-2019 | L35: 42VS-PV-19-1-12335 | M35: Sensorinis kambarys | N35: 11926.3 | O35: EŽŪFKP | P35: 3A | Q35: Juridinis asmuo | R35: Kita | S35: =IF($R35="fizinis asmuo","užpildykite","nepildyti") -> nepildyti | T35: =IF($R35="fizinis asmuo","užpildykite","nepildyti") -> nepildyti | U35: Paramos administravimas | V35: 90 | W35: 11926.3 | X35: 43945 | Y35: 43948 | Z35: 44193 | AE35: =IF($H35>0,YEAR($H35),) -> 2019 | AF35: =IF($X35>0,YEAR($X35),) -> 2020 | AG35: =IF($Y35>0,YEAR($Y35),) -> 2020 | AH35: =IF($Z35>0,YEAR($Z35),) -> 2020 | AI35: =IF(AF35>0,"taip","ne") -> taip | AJ35: =IF(AG35>0,"taip","ne") -> taip | AK35: =IF(AH35>0,"taip","ne") -> taip
B36: MAŽE-LEADER-19.2-SAVA-5 | C36: MAŽE | D36: MAŽE | E36: Maže-LEADER-19.2-SAVA-5 | F36: ŠIAURĖS VAKARŲ LIETUVOS VIETOS VEIKLOS GRUPĖ, A | G36: LEADER-19.2-SAVA-5 | H36: 43798 | I36: MAŽEIKIŲ RAJONO SAVIVALDYBĖS TIRKŠLIŲ SENIŪNIJOS BENDRUOMENĖ | J36: 167385935 | K36: MAŽE-LEADER-3A-S-18-2-2019 | L36: 42VS-PV-19-1-12337 | M36: Susibūrę esam stiprūs | N36: 11927 | O36: EŽŪFKP | P36: 3A | Q36: Juridinis asmuo | R36: NVO | S36: =IF($R36="fizinis asmuo","užpildykite","nepildyti") -> nepildyti | T36: =IF($R36="fizinis asmuo","užpildykite","nepildyti") -> nepildyti | U36: Paramos administravimas | V36: 70 | W36: 11927 | X36: 43945 | Y36: 43948 | AE36: =IF($H36>0,YEAR($H36),) -> 2019 | AF36: =IF($X36>0,YEAR($X36),) -> 2020 | AG36: =IF($Y36>0,YEAR($Y36),) -> 2020 | AH36: =IF($Z36>0,YEAR($Z36),) -> 0 | AI36: =IF(AF36>0,"taip","ne") -> taip | AJ36: =IF(AG36>0,"taip","ne") -> taip | AK36: =IF(AH36>0,"taip","ne") -> ne
B37: MAŽE-LEADER-19.2-SAVA-5 | C37: MAŽE | D37: MAŽE | E37: Maže-LEADER-19.2-SAVA-5 | F37: ŠIAURĖS VAKARŲ LIETUVOS VIETOS VEIKLOS GRUPĖ, A | G37: LEADER-19.2-SAVA-5 | H37: 43798 | I37: UKRINŲ KAIMO BENDRUOMENĖ | J37: 167396230 | K37: MAŽE-LEADER-3A-S-18-1-2019 | L37: 42VS-PV-19-1-12338 | M37: Ukrinų kaimo bendruomenės materialinės bazės stiprinimas | N37: 11926.54 | O37: EŽŪFKP | P37: 3A | Q37: Juridinis asmuo | R37: NVO | S37: =IF($R37="fizinis asmuo","užpildykite","nepildyti") -> nepildyti | T37: =IF($R37="fizinis asmuo","užpildykite","nepildyti") -> nepildyti | U37: Paramos administravimas | V37: 60 | W37: 11927 | X37: 43945 | Y37: 43948 | Z37: 44253 | AE37: =IF($H37>0,YEAR($H37),) -> 2019 | AF37: =IF($X37>0,YEAR($X37),) -> 2020 | AG37: =IF($Y37>0,YEAR($Y37),) -> 2020 | AH37: =IF($Z37>0,YEAR($Z37),) -> 2021 | AI37: =IF(AF37>0,"taip","ne") -> taip | AJ37: =IF(AG37>0,"taip","ne") -> taip | AK37: =IF(AH37>0,"taip","ne") -> taip
B38: MAŽE-LEADER-19.2-SAVA-5 | C38: MAŽE | D38: MAŽE | E38: Maže-LEADER-19.2-SAVA-5 | F38: ŠIAURĖS VAKARŲ LIETUVOS VIETOS VEIKLOS GRUPĖ, A | G38: LEADER-19.2-SAVA-5 | H38: 43798 | I38: VO RUBIKŲ BENDRUOMENĖ, A | J38: 167390163 | K38: MAŽE-LEADER-3A-S-18-3-2019 | L38: 42VS-PV-19-1-12336 | M38: Socialinę atskirtį patiriančių asmenų socialinės įtraukties didinimas ir užimtumo skatinimas per socialines veiklas | N38: 11962.33 | O38: EŽŪFKP | P38: 3A | Q38: Juridinis asmuo | R38: Kita | S38: =IF($R38="fizinis asmuo","užpildykite","nepildyti") -> nepildyti | T38: =IF($R38="fizinis asmuo","užpildykite","nepildyti") -> nepildyti | U38: Paramos administravimas | V38: 60 | W38: 11 926,00 | X38: 43945 | Y38: 43948 | Z38: 44496 | AE38: =IF($H38>0,YEAR($H38),) -> 2019 | AF38: =IF($X38>0,YEAR($X38),) -> 2020 | AG38: =IF($Y38>0,YEAR($Y38),) -> 2020 | AH38: =IF($Z38>0,YEAR($Z38),) -> 2021 | AI38: =IF(AF38>0,"taip","ne") -> taip | AJ38: =IF(AG38>0,"taip","ne") -> taip | AK38: =IF(AH38>0,"taip","ne") -> taip
B39: MAŽE-LEADER-19.2-6.2 | C39: MAŽE | D39: MAŽE | E39: Maže-LEADER-19.2-6.2 | F39: ŠIAURĖS VAKARŲ LIETUVOS VIETOS VEIKLOS GRUPĖ, A | G39: LEADER-19.2-6.2 | H39: 44083 | I39: Alvydas Grigas | K39: MAŽE-LEADER-6A-D-29-1-2020 | L39: 42VS-PV-20-1-09670 | M39: Alvydo Grigo ne žemės ūkio verslo pradžia kaimo vietovėje | N39: 13230 | O39: EŽŪFKP | P39: 6A | Q39: Fizinis asmuo | R39: Fizinis asmuo | S39: taip | T39: taip | U39: Paramos administravimas | V39: 50 | W39: 13230 | X39: 44181 | Y39: 44192 | Z39: 44336 | AA39: 0.3 | AB39: 0.3 | AC39: 0.3 | AD39: 0.3 | AE39: =IF($H39>0,YEAR($H39),) -> 2020 | AF39: =IF($X39>0,YEAR($X39),) -> 2020 | AG39: =IF($Y39>0,YEAR($Y39),) -> 2020 | AH39: =IF($Z39>0,YEAR($Z39),) -> 2021 | AI39: =IF(AF39>0,"taip","ne") -> taip | AJ39: =IF(AG39>0,"taip","ne") -> taip | AK39: =IF(AH39>0,"taip","ne") -> taip
B40: MAŽE-LEADER-19.2-6.2 | C40: MAŽE | D40: MAŽE | E40: Maže-LEADER-19.2-6.2 | F40: ŠIAURĖS VAKARŲ LIETUVOS VIETOS VEIKLOS GRUPĖ, A | G40: LEADER-19.2-6.2 | H40: 44083 | I40: EUROPA INVEST, UAB | J40: 305436474 | K40: MAŽE-LEADER-6A-D-29-2-2020 | L40: 42VS-PV-20-1-09685 | M40: UAB „Europa Invest“ verslo pradžia kaimo vietovėje | N40: 27012 | O40: EŽŪFKP | P40: 6A | Q40: Juridinis asmuo | R40: MVĮ | S40: =IF($R40="fizinis asmuo","užpildykite","nepildyti") -> nepildyti | T40: =IF($R40="fizinis asmuo","užpildykite","nepildyti") -> nepildyti | U40: Paramos administravimas | V40: 75 | W40: 27012 | X40: 44181 | Y40: 44202 | AA40: 2 | AB40: 2.1 | AE40: =IF($H40>0,YEAR($H40),) -> 2020 | AF40: =IF($X40>0,YEAR($X40),) -> 2020 | AG40: =IF($Y40>0,YEAR($Y40),) -> 2021 | AH40: =IF($Z40>0,YEAR($Z40),) -> 0 | AI40: =IF(AF40>0,"taip","ne") -> taip | AJ40: =IF(AG40>0,"taip","ne") -> taip | AK40: =IF(AH40>0,"taip","ne") -> ne
B41: MAŽE-LEADER-19.2-6.4 | C41: MAŽE | D41: MAŽE | E41: Maže-LEADER-19.2-6.4 | F41: ŠIAURĖS VAKARŲ LIETUVOS VIETOS VEIKLOS GRUPĖ, A | G41: LEADER-19.2-6.4 | H41: 43963 | I41: Gražina Elena Juknevičienė | K41: MAŽE-LEADER-6A-D-24-4-2020 | L41: 42VS-PV-20-1-07586 | M41: Dautarų dvaro sodybos parko infrastruktūros atnaujinimas | N41: 74705 | O41: EŽŪFKP | P41: 6A | Q41: Fizinis asmuo | R41: Fizinis asmuo | S41: ne | T41: ne | U41: Paramos administravimas | V41: 100 | W41: 74705 | X41: 44088 | Y41: 44113 | AA41: 2 | AB41: 3 | AE41: =IF($H41>0,YEAR($H41),) -> 2020 | AF41: =IF($X41>0,YEAR($X41),) -> 2020 | AG41: =IF($Y41>0,YEAR($Y41),) -> 2020 | AH41: =IF($Z41>0,YEAR($Z41),) -> 0 | AI41: =IF(AF41>0,"taip","ne") -> taip | AJ41: =IF(AG41>0,"taip","ne") -> taip | AK41: =IF(AH41>0,"taip","ne") -> ne
B42: MAŽE-LEADER-19.2-6.2 | C42: MAŽE | D42: MAŽE | E42: Maže-LEADER-19.2-6.2 | F42: ŠIAURĖS VAKARŲ LIETUVOS VIETOS VEIKLOS GRUPĖ, A | G42: LEADER-19.2-6.2 | H42: 44083 | I42: MB "EP KEPINIAI" | J42: 305593365 | K42: MAŽE-LEADER-6A-D-29-3-2020 | L42: 42VS-PV-20-1-09690 | M42: MB „EP kepiniai“ konditerijos gaminių verslo kūrimas | N42: 40064 | O42: EŽŪFKP | P42: 6A | Q42: Juridinis asmuo | R42: MVĮ | S42: =IF($R42="fizinis asmuo","užpildykite","nepildyti") -> nepildyti | T42: =IF($R42="fizinis asmuo","užpildykite","nepildyti") -> nepildyti | U42: Paramos administravimas | V42: 75 | W42: 40064 | X42: 44181 | Y42: 44202 | AA42: 2 | AB42: 2 | AE42: =IF($H42>0,YEAR($H42),) -> 2020 | AF42: =IF($X42>0,YEAR($X42),) -> 2020 | AG42: =IF($Y42>0,YEAR($Y42),) -> 2021 | AH42: =IF($Z42>0,YEAR($Z42),) -> 0 | AI42: =IF(AF42>0,"taip","ne") -> taip | AJ42: =IF(AG42>0,"taip","ne") -> taip | AK42: =IF(AH42>0,"taip","ne") -> ne
B43: MAŽE-LEADER-19.2-6.2 | C43: MAŽE | D43: MAŽE | E43: Maže-LEADER-19.2-6.2 | F43: ŠIAURĖS VAKARŲ LIETUVOS VIETOS VEIKLOS GRUPĖ, A | G43: LEADER-19.2-6.2 | H43: 43963 | I43: UAB "GAMA TESTAS" | J43: 305390685 | K43: MAŽE-LEADER-6A-D-23-1-2020 | L43: 42VS-PV-20-1-05922 | M43: UAB „Gama testas” veiklos pradžia | N43: 43024 | O43: EŽŪFKP | P43: 6A | Q43: Juridinis asmuo | R43: MVĮ | S43: =IF($R43="fizinis asmuo","užpildykite","nepildyti") -> nepildyti | T43: =IF($R43="fizinis asmuo","užpildykite","nepildyti") -> nepildyti | U43: Paramos administravimas | V43: 75 | W43: 0 | X43: 44088 | Y43: 44113 | AA43: 2 | AB43: 2.25 | AE43: =IF($H43>0,YEAR($H43),) -> 2020 | AF43: =IF($X43>0,YEAR($X43),) -> 2020 | AG43: =IF($Y43>0,YEAR($Y43),) -> 2020 | AH43: =IF($Z43>0,YEAR($Z43),) -> 0 | AI43: =IF(AF43>0,"taip","ne") -> taip | AJ43: =IF(AG43>0,"taip","ne") -> taip | AK43: =IF(AH43>0,"taip","ne") -> ne
B44: MAŽE-LEADER-19.2-6.4 | C44: MAŽE | D44: MAŽE | E44: Maže-LEADER-19.2-6.4 | F44: ŠIAURĖS VAKARŲ LIETUVOS VIETOS VEIKLOS GRUPĖ, A | G44: LEADER-19.2-6.4 | H44: 43963 | I44: UAB "MEDIENOS PROFESIONALAI" | J44: 303216892 | K44: MAŽE-LEADER-6A-D-24-2-2020 | L44: 42VS-PV-20-1-07575 | M44: Parama ne žemės ūkio verslui kaimo vietovėse plėtoti | N44: 33667 | O44: EŽŪFKP | P44: 6A | Q44: Juridinis asmuo | R44: MVĮ | S44: =IF($R44="fizinis asmuo","užpildykite","nepildyti") -> nepildyti | T44: =IF($R44="fizinis asmuo","užpildykite","nepildyti") -> nepildyti | U44: Paramos administravimas | V44: 60 | W44: 33667 | X44: 44088 | Y44: 44113 | AA44: 2 | AB44: 49 | AE44: =IF($H44>0,YEAR($H44),) -> 2020 | AF44: =IF($X44>0,YEAR($X44),) -> 2020 | AG44: =IF($Y44>0,YEAR($Y44),) -> 2020 | AH44: =IF($Z44>0,YEAR($Z44),) -> 0 | AI44: =IF(AF44>0,"taip","ne") -> taip | AJ44: =IF(AG44>0,"taip","ne") -> taip | AK44: =IF(AH44>0,"taip","ne") -> ne
B45: MAŽE-LEADER-19.2-6.4 | C45: MAŽE | D45: MAŽE | E45: Maže-LEADER-19.2-6.4 | F45: ŠIAURĖS VAKARŲ LIETUVOS VIETOS VEIKLOS GRUPĖ, A | G45: LEADER-19.2-6.4 | H45: 43847 | I45: UAB "VPM SERVICE" | J45: 302597725 | K45: MAŽE-LEADER-6A-D-20-1-2020 | L45: 42VS-PV-20-1-00948 | M45: Techninės pagalbos kelyje paslaugos organizavimas | N45: 43888 | O45: EŽŪFKP | P45: 6A | Q45: Juridinis asmuo | R45: MVĮ | S45: =IF($R45="fizinis asmuo","užpildykite","nepildyti") -> nepildyti | T45: =IF($R45="fizinis asmuo","užpildykite","nepildyti") -> nepildyti | U45: Paramos administravimas | V45: 60 | W45: 43888 | X45: 43950 | Y45: 43978 | Z45: 44323 | AA45: 1 | AB45: 6.33 | AC45: 1 | AD45: 6.33 | AE45: =IF($H45>0,YEAR($H45),) -> 2020 | AF45: =IF($X45>0,YEAR($X45),) -> 2020 | AG45: =IF($Y45>0,YEAR($Y45),) -> 2020 | AH45: =IF($Z45>0,YEAR($Z45),) -> 2021 | AI45: =IF(AF45>0,"taip","ne") -> taip | AJ45: =IF(AG45>0,"taip","ne") -> taip | AK45: =IF(AH45>0,"taip","ne") -> taip
B46: MAŽE-LEADER-19.2-6.4 | C46: MAŽE | D46: MAŽE | E46: Maže-LEADER-19.2-6.4 | F46: ŠIAURĖS VAKARŲ LIETUVOS VIETOS VEIKLOS GRUPĖ, A | G46: LEADER-19.2-6.4 | H46: 43963 | I46: UAB "VTT PLIUS" | J46: 300553228 | K46: MAŽE-LEADER-6A-D-24-1-2020 | L46: 42VS-PV-20-1-07576 | M46: UAB “VTT plius“ verslo plėtra | N46: 75886 | O46: EŽŪFKP | P46: 6A | Q46: Juridinis asmuo | R46: MVĮ | S46: =IF($R46="fizinis asmuo","užpildykite","nepildyti") -> nepildyti | T46: =IF($R46="fizinis asmuo","užpildykite","nepildyti") -> nepildyti | U46: Paramos administravimas | V46: 80 | W46: 0 | X46: 44088 | Y46: 44113 | AA46: 1.67 | AB46: 2.47 | AE46: =IF($H46>0,YEAR($H46),) -> 2020 | AF46: =IF($X46>0,YEAR($X46),) -> 2020 | AG46: =IF($Y46>0,YEAR($Y46),) -> 2020 | AH46: =IF($Z46>0,YEAR($Z46),) -> 0 | AI46: =IF(AF46>0,"taip","ne") -> taip | AJ46: =IF(AG46>0,"taip","ne") -> taip | AK46: =IF(AH46>0,"taip","ne") -> ne
B47: MAŽE-LEADER-19.2-SAVA-3 | C47: MAŽE | D47: MAŽE | E47: Maže-LEADER-19.2-SAVA-3 | F47: ŠIAURĖS VAKARŲ LIETUVOS VIETOS VEIKLOS GRUPĖ, A | G47: LEADER-19.2-SAVA-3 | H47: 43845 | I47: VIEKŠNIŲ BENDRUOMENĖ | J47: 167400351 | K47: MAŽE-LEADER-1C-M-22-2-2020 | L47: 42VS-PV-20-1-00946 | M47: Jegu Žemaitijuo būsi aplonkyk er Vėkšnius mūsa | N47: 9717 | O47: EŽŪFKP | P47: 1C | Q47: Juridinis asmuo | R47: NVO | S47: =IF($R47="fizinis asmuo","užpildykite","nepildyti") -> nepildyti | T47: =IF($R47="fizinis asmuo","užpildykite","nepildyti") -> nepildyti | U47: Paramos administravimas | V47: 70 | W47: 9717 | X47: 43950 | Y47: 43957 | Z47: 44488 | AE47: =IF($H47>0,YEAR($H47),) -> 2020 | AF47: =IF($X47>0,YEAR($X47),) -> 2020 | AG47: =IF($Y47>0,YEAR($Y47),) -> 2020 | AH47: =IF($Z47>0,YEAR($Z47),) -> 2021 | AI47: =IF(AF47>0,"taip","ne") -> taip | AJ47: =IF(AG47>0,"taip","ne") -> taip | AK47: =IF(AH47>0,"taip","ne") -> taip
B48: MAŽE-LEADER-19.2-SAVA-3 | C48: MAŽE | D48: MAŽE | E48: Maže-LEADER-19.2-SAVA-3 | F48: ŠIAURĖS VAKARŲ LIETUVOS VIETOS VEIKLOS GRUPĖ, A | G48: LEADER-19.2-SAVA-3 | H48: 43845 | I48: VIEŠOJI ĮSTAIGA MAŽEIKIŲ TURIZMO IR VERSLO INFORMACIJOS CENTRAS | J48: 267396950 | K48: MAŽE-LEADER-1C-M-22-1-2020 | L48: 42VS-PV-20-1-00947 | M48: Efektyvus klientų aptarnavimas: kad sugrįžtų ir rekomenduotų kitiems | N48: 9705 | O48: EŽŪFKP | P48: 1C | Q48: Juridinis asmuo | R48: NVO | S48: =IF($R48="fizinis asmuo","užpildykite","nepildyti") -> nepildyti | T48: =IF($R48="fizinis asmuo","užpildykite","nepildyti") -> nepildyti | U48: Paramos administravimas | V48: 90 | W48: 9705 | X48: 43950 | Y48: 43957 | Z48: 44516 | AE48: =IF($H48>0,YEAR($H48),) -> 2020 | AF48: =IF($X48>0,YEAR($X48),) -> 2020 | AG48: =IF($Y48>0,YEAR($Y48),) -> 2020 | AH48: =IF($Z48>0,YEAR($Z48),) -> 2021 | AI48: =IF(AF48>0,"taip","ne") -> taip | AJ48: =IF(AG48>0,"taip","ne") -> taip | AK48: =IF(AH48>0,"taip","ne") -> taip
B49: MAŽE-LEADER-19.2-SAVA-3 | C49: MAŽE | D49: MAŽE | E49: Maže-LEADER-19.2-SAVA-3 | F49: ŠIAURĖS VAKARŲ LIETUVOS VIETOS VEIKLOS GRUPĖ, A | G49: LEADER-19.2-SAVA-3 | H49: 44054 | I49: VIEŠOJI ĮSTAIGA MAŽEIKIŲ TURIZMO IR VERSLO INFORMACIJOS CENTRAS | J49: 267396950 | K49: MAŽE-LEADER-1C-M-28-1-2020 | L49: 42VS-PV-20-1-09664 | M49: Mokymų ciklas besiruošiantiems projektus rašyti ir juos įgyvendinti | N49: 9705 | O49: EŽŪFKP | P49: 1C | Q49: Juridinis asmuo | R49: NVO | S49: =IF($R49="fizinis asmuo","užpildykite","nepildyti") -> nepildyti | T49: =IF($R49="fizinis asmuo","užpildykite","nepildyti") -> nepildyti | U49: Paramos administravimas | V49: 70 | W49: 9705 | X49: 44152 | Y49: 44154 | AE49: =IF($H49>0,YEAR($H49),) -> 2020 | AF49: =IF($X49>0,YEAR($X49),) -> 2020 | AG49: =IF($Y49>0,YEAR($Y49),) -> 2020 | AH49: =IF($Z49>0,YEAR($Z49),) -> 0 | AI49: =IF(AF49>0,"taip","ne") -> taip | AJ49: =IF(AG49>0,"taip","ne") -> taip | AK49: =IF(AH49>0,"taip","ne") -> ne
B50: MAŽE-LEADER-19.2-SAVA-1 | C50: MAŽE | D50: MAŽE | E50: =VLOOKUP(B50,Kodai_priem!$D$4:$D$564,1,FALSE) -> Maže-LEADER-19.2-SAVA-1 | F50: ŠIAURĖS VAKARŲ LIETUVOS VIETOS VEIKLOS GRUPĖ, A | G50: LEADER-19.2-SAVA-1 | H50: 44306 | I50: LABDAROS IR PARAMOS FONDAS "G VAIKŲ PASAULIS | J50: 302572241 | K50: MAŽE-LEADER-6B-DS-38-2-2021 | L50: 42VS-PV-21-1-03681 | M50: Labdaros ir paramos fondo „G vaikų pasaulis“ socialinio verslo kūrimas Mažeikių rajone | N50: 53716 | O50: EŽŪFKP | P50: 6B | Q50: Juridinis asmuo | R50: Juridinis asmuo | S50: =IF($R50="fizinis asmuo","užpildykite","nepildyti") -> nepildyti | T50: =IF($R50="fizinis asmuo","užpildykite","nepildyti") -> nepildyti | U50: Paramos administravimas | V50: 80 | W50: 53716 | X50: 44477 | Y50: 44477 | AA50: 1 | AB50: 6 | AE50: =IF($H50>0,YEAR($H50),) -> 2021 | AF50: =IF($X50>0,YEAR($X50),) -> 2021 | AG50: =IF($Y50>0,YEAR($Y50),) -> 2021 | AH50: =IF($Z50>0,YEAR($Z50),) -> 0 | AI50: =IF(AF50>0,"taip","ne") -> taip | AJ50: =IF(AG50>0,"taip","ne") -> taip | AK50: =IF(AH50>0,"taip","ne") -> ne
B51: MAŽE-LEADER-19.2-7.2 | C51: MAŽE | D51: MAŽE | E51: =VLOOKUP(B51,Kodai_priem!$D$4:$D$564,1,FALSE) -> Maže-LEADER-19.2-7.2 | F51: ŠIAURĖS VAKARŲ LIETUVOS VIETOS VEIKLOS GRUPĖ, A | G51: LEADER-19.2-7.2 | H51: 44328 | I51: MAŽEIKIŲ RAJONO SAVIVALDYBĖS ADMINISTRACIJA | J51: 167371234 | K51: MAŽE-LEADER-6B-I-37-1-2021 | L51: 42VS-PV-21-1-03699 | M51: Mažeikių rajono Renavo dvaro sodybos infrastruktūros tvarkymas, atveriant naujas erdves dvaro kraštovaizdžio pažinimui | N51: 70814 | O51: EŽŪFKP | P51: 6B | Q51: Juridinis asmuo | R51: Valdžios institucija | S51: =IF($R51="fizinis asmuo","užpildykite","nepildyti") -> nepildyti | T51: =IF($R51="fizinis asmuo","užpildykite","nepildyti") -> nepildyti | U51: Paramos administravimas | V51: 70 | W51: 70814 | X51: 44390 | Y51: 44433 | AE51: =IF($H51>0,YEAR($H51),) -> 2021 | AF51: =IF($X51>0,YEAR($X51),) -> 2021 | AG51: =IF($Y51>0,YEAR($Y51),) -> 2021 | AH51: =IF($Z51>0,YEAR($Z51),) -> 0 | AI51: =IF(AF51>0,"taip","ne") -> taip | AJ51: =IF(AG51>0,"taip","ne") -> taip | AK51: =IF(AH51>0,"taip","ne") -> ne
B52: MAŽE-LEADER-19.2-7.6 | C52: MAŽE | D52: MAŽE | E52: =VLOOKUP(B52,Kodai_priem!$D$4:$D$564,1,FALSE) -> Maže-LEADER-19.2-7.6 | F52: ŠIAURĖS VAKARŲ LIETUVOS VIETOS VEIKLOS GRUPĖ, A | G52: LEADER-19.2-7.6 | H52: 44279 | I52: MAŽEIKIŲ RAJONO SAVIVALDYBĖS ADMINISTRACIJA | J52: 167371234 | K52: MAŽE-LEADER-6B-I-36-1-2021 | L52: 42VS-PV-21-1-01734 | M52: A. Vienažindžio pėsčiųjų tako įrengimas Laižuvos miestelyje | N52: 48750 | O52: EŽŪFKP | P52: 6B | Q52: Juridinis asmuo | R52: Valdžios institucija | S52: =IF($R52="fizinis asmuo","užpildykite","nepildyti") -> nepildyti | T52: =IF($R52="fizinis asmuo","užpildykite","nepildyti") -> nepildyti | U52: Paramos administravimas | V52: 100 | W52: 48750 | X52: 44369 | Y52: 44392 | AE52: =IF($H52>0,YEAR($H52),) -> 2021 | AF52: =IF($X52>0,YEAR($X52),) -> 2021 | AG52: =IF($Y52>0,YEAR($Y52),) -> 2021 | AH52: =IF($Z52>0,YEAR($Z52),) -> 0 | AI52: =IF(AF52>0,"taip","ne") -> taip | AJ52: =IF(AG52>0,"taip","ne") -> taip | AK52: =IF(AH52>0,"taip","ne") -> ne
B53: MAŽE-LEADER-19.2-6.4 | C53: MAŽE | D53: =VLOOKUP(C53,Kodai_VVG!$C$4:$C$52,1,FALSE) -> MAŽE | E53: =VLOOKUP(B53,Kodai_priem!$D$4:$D$564,1,FALSE) -> Maže-LEADER-19.2-6.4 | F53: ŠIAURĖS VAKARŲ LIETUVOS VIETOS VEIKLOS GRUPĖ, A | G53: LEADER-19.2-6.4 | H53: 44236 | I53: MB "ŽEMAITIJOS KELTUVAI" | J53: 305342936 | K53: MAŽE-LEADER-6A-D-34-2-2021 | L53: 42VS-PV-21-1-00895 | M53: MB „Žemaitijos keltuvai“ verslo plėtra | N53: 48930 | O53: EŽŪFKP | P53: 6A | Q53: Juridinis asmuo | R53: MVĮ | S53: =IF($R53="fizinis asmuo","užpildykite","nepildyti") -> nepildyti | T53: =IF($R53="fizinis asmuo","užpildykite","nepildyti") -> nepildyti | U53: Paramos administravimas | V53: 75 | W53: 48930 | X53: 44313 | Y53: 44326 | Z53: 44496 | AA53: 3 | AB53: 4.6 | AC53: 3 | AD53: 4.6 | AE53: =IF($H53>0,YEAR($H53),) -> 2021 | AF53: =IF($X53>0,YEAR($X53),) -> 2021 | AG53: =IF($Y53>0,YEAR($Y53),) -> 2021 | AH53: =IF($Z53>0,YEAR($Z53),) -> 2021 | AI53: =IF(AF53>0,"taip","ne") -> taip | AJ53: =IF(AG53>0,"taip","ne") -> taip | AK53: =IF(AH53>0,"taip","ne") -> taip
B54: MAŽE-LEADER-19.2-6.4 | C54: MAŽE | D54: =VLOOKUP(C54,Kodai_VVG!$C$4:$C$52,1,FALSE) -> MAŽE | E54: =VLOOKUP(B54,Kodai_priem!$D$4:$D$564,1,FALSE) -> Maže-LEADER-19.2-6.4 | F54: ŠIAURĖS VAKARŲ LIETUVOS VIETOS VEIKLOS GRUPĖ, A | G54: LEADER-19.2-6.4 | H54: 44263 | I54: UAB "LIELBATA" | J54: 304284017 | K54: MAŽE-LEADER-6A-D-34-1-2021 | L54: 42VS-PV-21-1-00896 | M54: Gamybos paslaugų plėtra | N54: 42840 | O54: EŽŪFKP | P54: 6A | Q54: Juridinis asmuo | R54: MVĮ | S54: =IF($R54="fizinis asmuo","užpildykite","nepildyti") -> nepildyti | T54: =IF($R54="fizinis asmuo","užpildykite","nepildyti") -> nepildyti | U54: Paramos administravimas | V54: 65 | W54: 42840 | X54: 44369 | Y54: 44393 | Z54: 44462 | AA54: 2 | AB54: 3.2 | AC54: 2 | AD54: 3.2 | AE54: =IF($H54>0,YEAR($H54),) -> 2021 | AF54: =IF($X54>0,YEAR($X54),) -> 2021 | AG54: =IF($Y54>0,YEAR($Y54),) -> 2021 | AH54: =IF($Z54>0,YEAR($Z54),) -> 2021 | AI54: =IF(AF54>0,"taip","ne") -> taip | AJ54: =IF(AG54>0,"taip","ne") -> taip | AK54: =IF(AH54>0,"taip","ne") -> taip
B55: MAŽE-LEADER-19.2-6.2 | C55: MAŽE | D55: =VLOOKUP(C55,Kodai_VVG!$C$4:$C$52,1,FALSE) -> MAŽE | E55: =VLOOKUP(B55,Kodai_priem!$D$4:$D$564,1,FALSE) -> Maže-LEADER-19.2-6.2 | F55: ŠIAURĖS VAKARŲ LIETUVOS VIETOS VEIKLOS GRUPĖ, A | G55: LEADER-19.2-6.2 | H55: 44279 | I55: UAB "SAULE WORKS" | J55: 305719230 | K55: MAŽE-LEADER-6A-D-35-1-2021 | L55: 42VS-PV-21-1-02049 | M55: Parama ne žemės ūkio verslui kaimo vietovėse pradėti | N55: 42369 | O55: EŽŪFKP | P55: 6A | Q55: Juridinis asmuo | R55: MVĮ | S55: =IF($R55="fizinis asmuo","užpildykite","nepildyti") -> nepildyti | T55: =IF($R55="fizinis asmuo","užpildykite","nepildyti") -> nepildyti | U55: Paramos administravimas | V55: 60 | W55: 42369 | X55: 44390 | Y55: 44414 | AA55: 2 | AB55: 2.25 | AE55: =IF($H55>0,YEAR($H55),) -> 2021 | AF55: =IF($X55>0,YEAR($X55),) -> 2021 | AG55: =IF($Y55>0,YEAR($Y55),) -> 2021 | AH55: =IF($Z55>0,YEAR($Z55),) -> 0 | AI55: =IF(AF55>0,"taip","ne") -> taip | AJ55: =IF(AG55>0,"taip","ne") -> taip | AK55: =IF(AH55>0,"taip","ne") -> ne
B56: MAŽE-LEADER-19.2-6.4 | C56: MAŽE | D56: =VLOOKUP(C56,Kodai_VVG!$C$4:$C$52,1,FALSE) -> MAŽE | E56: =VLOOKUP(B56,Kodai_priem!$D$4:$D$564,1,FALSE) -> Maže-LEADER-19.2-6.4 | F56: ŠIAURĖS VAKARŲ LIETUVOS VIETOS VEIKLOS GRUPĖ, A | G56: LEADER-19.2-6.4 | H56: 44237 | I56: UAB "SORATUS" | J56: 305289572 | K56: MAŽE-LEADER-6A-D-34-4-2021 | L56: 42VS-PV-21-1-00881 | M56: UAB „Soratus“ verslo plėtra | N56: 97650 | O56: EŽŪFKP | P56: 6A | Q56: Juridinis asmuo | R56: MVĮ | S56: =IF($R56="fizinis asmuo","užpildykite","nepildyti") -> nepildyti | T56: =IF($R56="fizinis asmuo","užpildykite","nepildyti") -> nepildyti | U56: Paramos administravimas | V56: 85 | W56: 97650 | X56: 44313 | Y56: 44323 | Z56: 44389 | AA56: 3 | AB56: 4 | AC56: 3 | AD56: 4 | AE56: =IF($H56>0,YEAR($H56),) -> 2021 | AF56: =IF($X56>0,YEAR($X56),) -> 2021 | AG56: =IF($Y56>0,YEAR($Y56),) -> 2021 | AH56: =IF($Z56>0,YEAR($Z56),) -> 2021 | AI56: =IF(AF56>0,"taip","ne") -> taip | AJ56: =IF(AG56>0,"taip","ne") -> taip | AK56: =IF(AH56>0,"taip","ne") -> taip
B57: MAŽE-LEADER-19.2-6.4 | C57: MAŽE | D57: =VLOOKUP(C57,Kodai_VVG!$C$4:$C$52,1,FALSE) -> MAŽE | E57: =VLOOKUP(B57,Kodai_priem!$D$4:$D$564,1,FALSE) -> Maže-LEADER-19.2-6.4 | F57: ŠIAURĖS VAKARŲ LIETUVOS VIETOS VEIKLOS GRUPĖ, A | G57: LEADER-19.2-6.4 | H57: 44237 | I57: UAB "VARYTIS" | J57: 304995681 | K57: MAŽE-LEADER-6A-D-34-3-2021 | L57: 42VS-PV-21-1-00897 | M57: UAB „Varytis“ verslo plėtra investuojant į žemės kasimo darbų veiklą | N57: 97844 | O57: EŽŪFKP | P57: 6A | Q57: Juridinis asmuo | R57: MVĮ | S57: =IF($R57="fizinis asmuo","užpildykite","nepildyti") -> nepildyti | T57: =IF($R57="fizinis asmuo","užpildykite","nepildyti") -> nepildyti | U57: Paramos administravimas | V57: 70 | W57: 97844 | X57: 44313 | Y57: 44326 | Z57: 44460 | AA57: 3 | AB57: 3.12 | AC57: 3 | AD57: 3.12 | AE57: =IF($H57>0,YEAR($H57),) -> 2021 | AF57: =IF($X57>0,YEAR($X57),) -> 2021 | AG57: =IF($Y57>0,YEAR($Y57),) -> 2021 | AH57: =IF($Z57>0,YEAR($Z57),) -> 2021 | AI57: =IF(AF57>0,"taip","ne") -> taip | AJ57: =IF(AG57>0,"taip","ne") -> taip | AK57: =IF(AH57>0,"taip","ne") -> taip
B58: MAŽE-LEADER-19.2-6.2 | C58: MAŽE | D58: =VLOOKUP(C58,Kodai_VVG!$C$4:$C$52,1,FALSE) -> MAŽE | E58: =VLOOKUP(B58,Kodai_priem!$D$4:$D$564,1,FALSE) -> Maže-LEADER-19.2-6.2 | F58: ŠIAURĖS VAKARŲ LIETUVOS VIETOS VEIKLOS GRUPĖ, A | G58: LEADER-19.2-6.2 | H58: 44561 | I58: UAB "Aliuma" | J58: 305907588 | K58: MAŽE-LEADER-6A-D-39-1-2021 | L58: 42VS-PV-21-1-09772 | M58: UAB "Aliuma verslo pradžia" | N58: 48242.26 | O58: EŽŪFKP | P58: 6A | Q58: Juridinis asmuo | R58: MVĮ | S58: =IF($R58="fizinis asmuo","užpildykite","nepildyti") -> nepildyti | T58: =IF($R58="fizinis asmuo","užpildykite","nepildyti") -> nepildyti | U58: Paramos administravimas | AE58: =IF($H58>0,YEAR($H58),) -> 2021 | AF58: =IF($X58>0,YEAR($X58),) -> 0 | AG58: =IF($Y58>0,YEAR($Y58),) -> 0 | AH58: =IF($Z58>0,YEAR($Z58),) -> 0 | AI58: =IF(AF58>0,"taip","ne") -> ne | AJ58: =IF(AG58>0,"taip","ne") -> ne | AK58: =IF(AH58>0,"taip","ne") -> ne
B59: =CONCATENATE(C59,"-",G59) -> - | C59: =LEFT(K59,4) | D59: =VLOOKUP(C59,Kodai_VVG!$C$4:$C$52,1,FALSE) -> #N/A | E59: =VLOOKUP(B59,Kodai_priem!$D$4:$D$564,1,FALSE) -> #N/A | S59: =IF($R59="fizinis asmuo","užpildykite","nepildyti") -> nepildyti | T59: =IF($R59="fizinis asmuo","užpildykite","nepildyti") -> nepildyti | AE59: =IF($H59>0,YEAR($H59),) -> 0 | AF59: =IF($X59>0,YEAR($X59),) -> 0 | AG59: =IF($Y59>0,YEAR($Y59),) -> 0 | AH59: =IF($Z59>0,YEAR($Z59),) -> 0 | AI59: =IF(AF59>0,"taip","ne") -> ne | AJ59: =IF(AG59>0,"taip","ne") -> ne | AK59: =IF(AH59>0,"taip","ne") -> ne
B60: =CONCATENATE(C60,"-",G60) -> - | C60: =LEFT(K60,4) | D60: =VLOOKUP(C60,Kodai_VVG!$C$4:$C$52,1,FALSE) -> #N/A | E60: =VLOOKUP(B60,Kodai_priem!$D$4:$D$564,1,FALSE) -> #N/A | S60: =IF($R60="fizinis asmuo","užpildykite","nepildyti") -> nepildyti | T60: =IF($R60="fizinis asmuo","užpildykite","nepildyti") -> nepildyti | AE60: =IF($H60>0,YEAR($H60),) -> 0 | AF60: =IF($X60>0,YEAR($X60),) -> 0 | AG60: =IF($Y60>0,YEAR($Y60),) -> 0 | AH60: =IF($Z60>0,YEAR($Z60),) -> 0 | AI60: =IF(AF60>0,"taip","ne") -> ne | AJ60: =IF(AG60>0,"taip","ne") -> ne | AK60: =IF(AH60>0,"taip","ne") -> ne
B61: =CONCATENATE(C61,"-",G61) -> - | C61: =LEFT(K61,4) | D61: =VLOOKUP(C61,Kodai_VVG!$C$4:$C$52,1,FALSE) -> #N/A | E61: =VLOOKUP(B61,Kodai_priem!$D$4:$D$564,1,FALSE) -> #N/A | S61: =IF($R61="fizinis asmuo","užpildykite","nepildyti") -> nepildyti | T61: =IF($R61="fizinis asmuo","užpildykite","nepildyti") -> nepildyti | AE61: =IF($H61>0,YEAR($H61),) -> 0 | AF61: =IF($X61>0,YEAR($X61),) -> 0 | AG61: =IF($Y61>0,YEAR($Y61),) -> 0 | AH61: =IF($Z61>0,YEAR($Z61),) -> 0 | AI61: =IF(AF61>0,"taip","ne") -> ne | AJ61: =IF(AG61>0,"taip","ne") -> ne | AK61: =IF(AH61>0,"taip","ne") -> ne
B62: =CONCATENATE(C62,"-",G62) -> - | C62: =LEFT(K62,4) | D62: =VLOOKUP(C62,Kodai_VVG!$C$4:$C$52,1,FALSE) -> #N/A | E62: =VLOOKUP(B62,Kodai_priem!$D$4:$D$564,1,FALSE) -> #N/A | S62: =IF($R62="fizinis asmuo","užpildykite","nepildyti") -> nepildyti | T62: =IF($R62="fizinis asmuo","užpildykite","nepildyti") -> nepildyti | AE62: =IF($H62>0,YEAR($H62),) -> 0 | AF62: =IF($X62>0,YEAR($X62),) -> 0 | AG62: =IF($Y62>0,YEAR($Y62),) -> 0 | AH62: =IF($Z62>0,YEAR($Z62),) -> 0 | AI62: =IF(AF62>0,"taip","ne") -> ne | AJ62: =IF(AG62>0,"taip","ne") -> ne | AK62: =IF(AH62>0,"taip","ne") -> ne
B63: =CONCATENATE(C63,"-",G63) -> - | C63: =LEFT(K63,4) | D63: =VLOOKUP(C63,Kodai_VVG!$C$4:$C$52,1,FALSE) -> #N/A | E63: =VLOOKUP(B63,Kodai_priem!$D$4:$D$564,1,FALSE) -> #N/A | S63: =IF($R63="fizinis asmuo","užpildykite","nepildyti") -> nepildyti | T63: =IF($R63="fizinis asmuo","užpildykite","nepildyti") -> nepildyti | AE63: =IF($H63>0,YEAR($H63),) -> 0 | AF63: =IF($X63>0,YEAR($X63),) -> 0 | AG63: =IF($Y63>0,YEAR($Y63),) -> 0 | AH63: =IF($Z63>0,YEAR($Z63),) -> 0 | AI63: =IF(AF63>0,"taip","ne") -> ne | AJ63: =IF(AG63>0,"taip","ne") -> ne | AK63: =IF(AH63>0,"taip","ne") -> ne
B64: =CONCATENATE(C64,"-",G64) -> - | C64: =LEFT(K64,4) | D64: =VLOOKUP(C64,Kodai_VVG!$C$4:$C$52,1,FALSE) -> #N/A | E64: =VLOOKUP(B64,Kodai_priem!$D$4:$D$564,1,FALSE) -> #N/A | S64: =IF($R64="fizinis asmuo","užpildykite","nepildyti") -> nepildyti | T64: =IF($R64="fizinis asmuo","užpildykite","nepildyti") -> nepildyti | AE64: =IF($H64>0,YEAR($H64),) -> 0 | AF64: =IF($X64>0,YEAR($X64),) -> 0 | AG64: =IF($Y64>0,YEAR($Y64),) -> 0 | AH64: =IF($Z64>0,YEAR($Z64),) -> 0 | AI64: =IF(AF64>0,"taip","ne") -> ne | AJ64: =IF(AG64>0,"taip","ne") -> ne | AK64: =IF(AH64>0,"taip","ne") -> ne
B65: =CONCATENATE(C65,"-",G65) -> - | C65: =LEFT(K65,4) | D65: =VLOOKUP(C65,Kodai_VVG!$C$4:$C$52,1,FALSE) -> #N/A | E65: =VLOOKUP(B65,Kodai_priem!$D$4:$D$564,1,FALSE) -> #N/A | S65: =IF($R65="fizinis asmuo","užpildykite","nepildyti") -> nepildyti | T65: =IF($R65="fizinis asmuo","užpildykite","nepildyti") -> nepildyti | AE65: =IF($H65>0,YEAR($H65),) -> 0 | AF65: =IF($X65>0,YEAR($X65),) -> 0 | AG65: =IF($Y65>0,YEAR($Y65),) -> 0 | AH65: =IF($Z65>0,YEAR($Z65),) -> 0 | AI65: =IF(AF65>0,"taip","ne") -> ne | AJ65: =IF(AG65>0,"taip","ne") -> ne | AK65: =IF(AH65>0,"taip","ne") -> ne
B66: =CONCATENATE(C66,"-",G66) -> - | C66: =LEFT(K66,4) | D66: =VLOOKUP(C66,Kodai_VVG!$C$4:$C$52,1,FALSE) -> #N/A | E66: =VLOOKUP(B66,Kodai_priem!$D$4:$D$564,1,FALSE) -> #N/A | S66: =IF($R66="fizinis asmuo","užpildykite","nepildyti") -> nepildyti | T66: =IF($R66="fizinis asmuo","užpildykite","nepildyti") -> nepildyti | AE66: =IF($H66>0,YEAR($H66),) -> 0 | AF66: =IF($X66>0,YEAR($X66),) -> 0 | AG66: =IF($Y66>0,YEAR($Y66),) -> 0 | AH66: =IF($Z66>0,YEAR($Z66),) -> 0 | AI66: =IF(AF66>0,"taip","ne") -> ne | AJ66: =IF(AG66>0,"taip","ne") -> ne | AK66: =IF(AH66>0,"taip","ne") -> ne
B67: =CONCATENATE(C67,"-",G67) -> - | C67: =LEFT(K67,4) | D67: =VLOOKUP(C67,Kodai_VVG!$C$4:$C$52,1,FALSE) -> #N/A | E67: =VLOOKUP(B67,Kodai_priem!$D$4:$D$564,1,FALSE) -> #N/A | S67: =IF($R67="fizinis asmuo","užpildykite","nepildyti") -> nepildyti | T67: =IF($R67="fizinis asmuo","užpildykite","nepildyti") -> nepildyti | AE67: =IF($H67>0,YEAR($H67),) -> 0 | AF67: =IF($X67>0,YEAR($X67),) -> 0 | AG67: =IF($Y67>0,YEAR($Y67),) -> 0 | AH67: =IF($Z67>0,YEAR($Z67),) -> 0 | AI67: =IF(AF67>0,"taip","ne") -> ne | AJ67: =IF(AG67>0,"taip","ne") -> ne | AK67: =IF(AH67>0,"taip","ne") -> ne
B68: =CONCATENATE(C68,"-",G68) -> - | C68: =LEFT(K68,4) | D68: =VLOOKUP(C68,Kodai_VVG!$C$4:$C$52,1,FALSE) -> #N/A | E68: =VLOOKUP(B68,Kodai_priem!$D$4:$D$564,1,FALSE) -> #N/A | S68: =IF($R68="fizinis asmuo","užpildykite","nepildyti") -> nepildyti | T68: =IF($R68="fizinis asmuo","užpildykite","nepildyti") -> nepildyti | AE68: =IF($H68>0,YEAR($H68),) -> 0 | AF68: =IF($X68>0,YEAR($X68),) -> 0 | AG68: =IF($Y68>0,YEAR($Y68),) -> 0 | AH68: =IF($Z68>0,YEAR($Z68),) -> 0 | AI68: =IF(AF68>0,"taip","ne") -> ne | AJ68: =IF(AG68>0,"taip","ne") -> ne | AK68: =IF(AH68>0,"taip","ne") -> ne
B69: =CONCATENATE(C69,"-",G69) -> - | C69: =LEFT(K69,4) | D69: =VLOOKUP(C69,Kodai_VVG!$C$4:$C$52,1,FALSE) -> #N/A | E69: =VLOOKUP(B69,Kodai_priem!$D$4:$D$564,1,FALSE) -> #N/A | S69: =IF($R69="fizinis asmuo","užpildykite","nepildyti") -> nepildyti | T69: =IF($R69="fizinis asmuo","užpildykite","nepildyti") -> nepildyti | AE69: =IF($H69>0,YEAR($H69),) -> 0 | AF69: =IF($X69>0,YEAR($X69),) -> 0 | AG69: =IF($Y69>0,YEAR($Y69),) -> 0 | AH69: =IF($Z69>0,YEAR($Z69),) -> 0 | AI69: =IF(AF69>0,"taip","ne") -> ne | AJ69: =IF(AG69>0,"taip","ne") -> ne | AK69: =IF(AH69>0,"taip","ne") -> ne
B70: =CONCATENATE(C70,"-",G70) -> - | C70: =LEFT(K70,4) | D70: =VLOOKUP(C70,Kodai_VVG!$C$4:$C$52,1,FALSE) -> #N/A | E70: =VLOOKUP(B70,Kodai_priem!$D$4:$D$564,1,FALSE) -> #N/A | S70: =IF($R70="fizinis asmuo","užpildykite","nepildyti") -> nepildyti | T70: =IF($R70="fizinis asmuo","užpildykite","nepildyti") -> nepildyti | AE70: =IF($H70>0,YEAR($H70),) -> 0 | AF70: =IF($X70>0,YEAR($X70),) -> 0 | AG70: =IF($Y70>0,YEAR($Y70),) -> 0 | AH70: =IF($Z70>0,YEAR($Z70),) -> 0 | AI70: =IF(AF70>0,"taip","ne") -> ne | AJ70: =IF(AG70>0,"taip","ne") -> ne | AK70: =IF(AH70>0,"taip","ne") -> ne
... B4861: =CONCATENATE(C4861,"-",G4861) -> - | C4861: =LEFT(K4861,4) | D4861: =VLOOKUP(C4861,Kodai_VVG!$C$4:$C$52,1,FALSE) -> #N/A | E4861: =VLOOKUP(B4861,Kodai_priem!$D$4:$D$564,1,FALSE) -> #N/A | S4861: =IF($R4861="fizinis asmuo","užpildykite","nepildyti") -> nepildyti | T4861: =IF($R4861="fizinis asmuo","užpildykite","nepildyti") -> nepildyti | AE4861: =IF($H4861>0,YEAR($H4861),) -> 0 | AF4861: =IF($X4861>0,YEAR($X4861),) -> 0 | AG4861: =IF($Y4861>0,YEAR($Y4861),) -> 0 | AH4861: =IF($Z4861>0,YEAR($Z4861),) -> 0 | AI4861: =IF(AF4861>0,"taip","ne") -> ne | AJ4861: =IF(AG4861>0,"taip","ne") -> ne | AK4861: =IF(AH4861>0,"taip","ne") -> ne

Sheet A1
B1: A4 | C1: Ataskaita: paskelbti kvietimai teikti vietos projektų paraiškas
B3: NMA vaidmuo: | C3: -
B4: VVG vaidmuo: | C4: -
I6: Paskelbti kvietimai teikti paraiškas | J6: Paskelbti kvietimai teikti paraiškas | K6: Paskelbti kvietimai teikti paraiškas
B7: VVG ir priemonės/veiklos srities kodas | C7: VVG | D7: Tipas | E7: VPS priemonės/ veiklos srities pavadinimas | F7: VPS priemonės/ veiklos srities kodas | G7: Finansavimo šaltinis | H7: Vietos projektams įgyvendinti numatyta lėšų suma, Eur | I7: Bendras skaičius (vnt.) | J7: Bendra suma (Eur) | K7: Proc. nuo vietos projektams skirtos sumos
I8: Iš viso nuo VPS įgyvendinimo pradžios | J8: Iš viso nuo VPS įgyvendinimo pradžios | K8: Iš viso nuo VPS įgyvendinimo pradžios
B9: Užsipildo automatiškai pagal lapą VPS1 | C9: Užsipildo automatiškai pagal lapą VPS1 | D9: Užsipildo automatiškai pagal lapą VPS1 | E9: Užsipildo automatiškai pagal lapą VPS1 | F9: Užsipildo automatiškai pagal lapą VPS1 | G9: Užsipildo automatiškai pagal lapą VPS1 | H9: Užsipildo automatiškai pagal lapą VPS1 | I9: Užsipildo automatiškai pagal lapą D2 | J9: Užsipildo automatiškai pagal lapą D2 | K9: Užsipildo automatiškai (formulė)
B10: Iš viso VPS | H10: =SUM(H13:H37) -> 2114412 | I10: =SUM(I13:I37) -> 24 | J10: =SUM(J13:J37) -> 3891527.3 | K10: =IF(H10>0,J10/$H10*100,0) -> 184.04773
A11: EŽŪFKP | B11: Iš viso EŽŪFKP | H11: =SUMIFS(H$13:H$37,$G$13:$G$37,$A11) -> 2114412 | I11: =SUMIFS(I$13:I$37,$G$13:$G$37,$A11) -> 24 | J11: =SUMIFS(J$13:J$37,$G$13:$G$37,$A11) -> 3891527.3 | K11: =IF(H11>0,J11/$H11*100,0) -> 184.04773
A12: EJRŽF | B12: iš viso EJRŽF | H12: =SUMIFS(H$13:H$37,$G$13:$G$37,$A12) -> 0 | I12: =SUMIFS(I$13:I$37,$G$13:$G$37,$A12) -> 0 | J12: =SUMIFS(J$13:J$37,$G$13:$G$37,$A12) -> 0 | K12: =IF(H12>0,J12/$H12*100,0) -> 0
B13: ='VPS1'!A9 -> MAŽE-LEADER-19.2-6 | C13: ='VPS1'!B9 -> MAŽE | D13: ='VPS1'!C9 -> 1 | E13: ='VPS1'!D9 -> Priemonė „Ūkio ir verslo plėtra“ | F13: ='VPS1'!E9 -> LEADER-19.2-6 | G13: ='VPS1'!G9 -> EŽŪFKP | H13: ='VPS1'!F9 -> 0 | I13: =VLOOKUP($B13,'D2'!$A$10:$H$34,7,FALSE) -> 0 | J13: =VLOOKUP($B13,'D2'!$A$10:$H$34,8,FALSE) -> 0 | K13: =IF(H13>0,J13/$H13*100,0) -> 0
B14: ='VPS1'!A10 -> MAŽE-LEADER-19.2-6.2 | C14: ='VPS1'!B10 -> MAŽE | D14: ='VPS1'!C10 -> 2 | E14: ='VPS1'!D10 -> - veiklos sritis „Parama ne žemės ūkio verslui kaimo vietovėse pradėti “ | F14: ='VPS1'!E10 -> LEADER-19.2-6.2 | G14: ='VPS1'!G10 -> EŽŪFKP | H14: ='VPS1'!F10 -> 292679 | I14: =VLOOKUP($B14,'D2'!$A$10:$H$34,7,FALSE) -> 6 | J14: =VLOOKUP($B14,'D2'!$A$10:$H$34,8,FALSE) -> 1029687.6 | K14: =IF(H14>0,J14/$H14*100,0) -> 351.81464
B15: ='VPS1'!A11 -> MAŽE-LEADER-19.2-6.4 | C15: ='VPS1'!B11 -> MAŽE | D15: ='VPS1'!C11 -> 2 | E15: ='VPS1'!D11 -> - veiklos sritis „Parama ne žemės ūkio verslui kaimo vietovėse plėtoti “ | F15: ='VPS1'!E11 -> LEADER-19.2-6.4 | G15: ='VPS1'!G11 -> EŽŪFKP | H15: ='VPS1'!F11 -> 1164588 | I15: =VLOOKUP($B15,'D2'!$A$10:$H$34,7,FALSE) -> 5 | J15: =VLOOKUP($B15,'D2'!$A$10:$H$34,8,FALSE) -> 1397953.9 | K15: =IF(H15>0,J15/$H15*100,0) -> 120.03849
B16: ='VPS1'!A12 -> MAŽE-LEADER-19.2-4 | C16: ='VPS1'!B12 -> MAŽE | D16: ='VPS1'!C12 -> 1 | E16: ='VPS1'!D12 -> Priemonė „Investicijos j materialųjį turtą“ | F16: ='VPS1'!E12 -> LEADER-19.2-4 | G16: ='VPS1'!G12 -> EŽŪFKP | H16: ='VPS1'!F12 -> 0 | I16: =VLOOKUP($B16,'D2'!$A$10:$H$34,7,FALSE) -> 0 | J16: =VLOOKUP($B16,'D2'!$A$10:$H$34,8,FALSE) -> 0 | K16: =IF(H16>0,J16/$H16*100,0) -> 0
B17: ='VPS1'!A13 -> MAŽE-LEADER-19.2-4.2 | C17: ='VPS1'!B13 -> MAŽE | D17: ='VPS1'!C13 -> 2 | E17: ='VPS1'!D13 -> - veiklos sritis „Parama žemės ūkio produktų perdirbimui, rinkodarai ir (arba) plėtrai “ | F17: ='VPS1'!E13 -> LEADER-19.2-4.2 | G17: ='VPS1'!G13 -> EŽŪFKP | H17: ='VPS1'!F13 -> 0 | I17: =VLOOKUP($B17,'D2'!$A$10:$H$34,7,FALSE) -> 2 | J17: =VLOOKUP($B17,'D2'!$A$10:$H$34,8,FALSE) -> 585714 | K17: =IF(H17>0,J17/$H17*100,0) -> 0
B18: ='VPS1'!A14 -> MAŽE-LEADER-19.2-SAVA-1 | C18: ='VPS1'!B14 -> MAŽE | D18: ='VPS1'!C14 -> 3 | E18: ='VPS1'!D14 -> Priemonė „NVO socialinio verslo kūrimas ir plėtra“ (kai socialinio verslo iniciatorius - NVO) | F18: ='VPS1'!E14 -> LEADER-19.2-SAVA-1 | G18: ='VPS1'!G14 -> EŽŪFKP | H18: ='VPS1'!F14 -> 163822 | I18: =VLOOKUP($B18,'D2'!$A$10:$H$34,7,FALSE) -> 2 | J18: =VLOOKUP($B18,'D2'!$A$10:$H$34,8,FALSE) -> 163821.99 | K18: =IF(H18>0,J18/$H18*100,0) -> 99.999994
B19: ='VPS1'!A15 -> MAŽE-LEADER-19.2-7 | C19: ='VPS1'!B15 -> MAŽE | D19: ='VPS1'!C15 -> 1 | E19: ='VPS1'!D15 -> Priemonė „Pagrindinės paslaugos ir kaimų atnaujinimas kaimo vietovėse“ | F19: ='VPS1'!E15 -> LEADER-19.2-7 | G19: ='VPS1'!G15 -> EŽŪFKP | H19: ='VPS1'!F15 -> 0 | I19: =VLOOKUP($B19,'D2'!$A$10:$H$34,7,FALSE) -> 0 | J19: =VLOOKUP($B19,'D2'!$A$10:$H$34,8,FALSE) -> 0 | K19: =IF(H19>0,J19/$H19*100,0) -> 0
B20: ='VPS1'!A16 -> MAŽE-LEADER-19.2-7.2 | C20: ='VPS1'!B16 -> MAŽE | D20: ='VPS1'!C16 -> 2 | E20: ='VPS1'!D16 -> - veiklos sritis „Parama investicijoms į visų rūšių mažos apimties infrastruktūrą “ | F20: ='VPS1'!E16 -> LEADER-19.2-7.2 | G20: ='VPS1'!G16 -> EŽŪFKP | H20: ='VPS1'!F16 -> 154815 | I20: =VLOOKUP($B20,'D2'!$A$10:$H$34,7,FALSE) -> 2 | J20: =VLOOKUP($B20,'D2'!$A$10:$H$34,8,FALSE) -> 244047.5 | K20: =IF(H20>0,J20/$H20*100,0) -> 157.63815
B21: ='VPS1'!A17 -> MAŽE-LEADER-19.2-7.6 | C21: ='VPS1'!B17 -> MAŽE | D21: ='VPS1'!C17 -> 2 | E21: ='VPS1'!D17 -> - veiklos sritis „Parama investicijoms į kaimo kultūros ir gamtos paveldą, kraštovaizdį „ | F21: ='VPS1'!E17 -> LEADER-19.2-7.6 | G21: ='VPS1'!G17 -> EŽŪFKP | H21: ='VPS1'!F17 -> 191192 | I21: =VLOOKUP($B21,'D2'!$A$10:$H$34,7,FALSE) -> 2 | J21: =VLOOKUP($B21,'D2'!$A$10:$H$34,8,FALSE) -> 343618.88 | K21: =IF(H21>0,J21/$H21*100,0) -> 179.72451
B22: ='VPS1'!A18 -> MAŽE-LEADER-19.2-SAVA-3 | C22: ='VPS1'!B18 -> MAŽE | D22: ='VPS1'!C18 -> 3 | E22: ='VPS1'!D18 -> Priemonė „Vietos projektų pareiškėjų ir vykdytojų mokymas, įgūdžių įgijimas“ (kai mokymai susiję su VPS priemonėmis) | F22: ='VPS1'!E18 -> LEADER-19.2-SAVA-3 | G22: ='VPS1'!G18 -> EŽŪFKP | H22: ='VPS1'!F18 -> 38870 | I22: =VLOOKUP($B22,'D2'!$A$10:$H$34,7,FALSE) -> 2 | J22: =VLOOKUP($B22,'D2'!$A$10:$H$34,8,FALSE) -> 48587.5 | K22: =IF(H22>0,J22/$H22*100,0) -> 125
B23: ='VPS1'!A19 -> MAŽE-LEADER-19.2-SAVA-4 | C23: ='VPS1'!B19 -> MAŽE | D23: ='VPS1'!C19 -> 3 | E23: ='VPS1'!D19 -> Priemonė „Kultūros savitumo išsaugojimas, tradicijų tęstinumas” | F23: ='VPS1'!E19 -> LEADER-19.2-SAVA-4 | G23: ='VPS1'!G19 -> EŽŪFKP | H23: ='VPS1'!F19 -> 48810 | I23: =VLOOKUP($B23,'D2'!$A$10:$H$34,7,FALSE) -> 2 | J23: =VLOOKUP($B23,'D2'!$A$10:$H$34,8,FALSE) -> 78096 | K23: =IF(H23>0,J23/$H23*100,0) -> 160
B24: ='VPS1'!A20 -> MAŽE-LEADER-19.2-SAVA-5 | C24: ='VPS1'!B20 -> MAŽE | D24: ='VPS1'!C20 -> 3 | E24: ='VPS1'!D20 -> Priemonė „NVO socialinės veiklos skatinimas“ | F24: ='VPS1'!E20 -> LEADER-19.2-SAVA-5 | G24: ='VPS1'!G20 -> EŽŪFKP | H24: ='VPS1'!F20 -> 59636 | I24: =VLOOKUP($B24,'D2'!$A$10:$H$34,7,FALSE) -> 1 | J24: =VLOOKUP($B24,'D2'!$A$10:$H$34,8,FALSE) -> 0 | K24: =IF(H24>0,J24/$H24*100,0) -> 0
... B37: ='VPS1'!A33 -> - | C37: ='VPS1'!B33 -> 0 | D37: ='VPS1'!C33 -> 0 | E37: ='VPS1'!D33 -> 0 | F37: ='VPS1'!E33 -> 0 | G37: ='VPS1'!G33 -> 0 | H37: ='VPS1'!F33 -> 0 | I37: =VLOOKUP($B37,'D2'!$A$10:$H$34,7,FALSE) -> 0 | J37: =VLOOKUP($B37,'D2'!$A$10:$H$34,8,FALSE) -> 0 | K37: =IF(H37>0,J37/$H37*100,0) -> 0

Sheet A2
B1: A3 | C1: Ataskaita: NMA PAK patvirtinti projektai, pasirašytos sutartys (įgyvendinami projektai), įgyvendinti (baigti) projektai
B3: NMA vaidmuo: | C3: -
B4: VVG vaidmuo: | C4: -
I6: NMA PAK patvirtinti projektai (paraiškos) | J6: NMA PAK patvirtinti projektai (paraiškos) | K6: NMA PAK patvirtinti projektai (paraiškos) | L6: NMA PAK patvirtinti projektai (paraiškos) | M6: NMA PAK patvirtinti projektai (paraiškos) | N6: NMA PAK patvirtinti projektai (paraiškos) | O6: NMA PAK patvirtinti projektai (paraiškos) | P6: NMA PAK patvirtinti projektai (paraiškos) | Q6: NMA PAK patvirtinti projektai (paraiškos) | R6: NMA PAK patvirtinti projektai (paraiškos) | S6: NMA PAK patvirtinti projektai (paraiškos) | T6: NMA PAK patvirtinti projektai (paraiškos) | U6: NMA PAK patvirtinti projektai (paraiškos) | V6: NMA PAK patvirtinti projektai (paraiškos) | W6: NMA PAK patvirtinti projektai (paraiškos) | X6: NMA PAK patvirtinti projektai (paraiškos) | Y6: NMA PAK patvirtinti projektai (paraiškos) | Z6: NMA PAK patvirtinti projektai (paraiškos) | AA6: NMA PAK patvirtinti projektai (paraiškos) | AB6: NMA PAK patvirtinti projektai (paraiškos) | AC6: NMA PAK patvirtinti projektai (paraiškos) | AD6: NMA PAK patvirtinti projektai (paraiškos) | AE6: NMA PAK patvirtinti projektai (paraiškos) | AF6: NMA PAK patvirtinti projektai (paraiškos) | AG6: Pasirašytos sutartys (įgyvendinami projektai) | AH6: Pasirašytos sutartys (įgyvendinami projektai) | AI6: Pasirašytos sutartys (įgyvendinami projektai) | AJ6: Pasirašytos sutartys (įgyvendinami projektai) | AK6: Pasirašytos sutartys (įgyvendinami projektai) | AL6: Pasirašytos sutartys (įgyvendinami projektai) | AM6: Pasirašytos sutartys (įgyvendinami projektai) | AN6: Pasirašytos sutartys (įgyvendinami projektai) | AO6: Pasirašytos sutartys (įgyvendinami projektai) | AP6: Pasirašytos sutartys (įgyvendinami projektai) | AQ6: Pasirašytos sutartys (įgyvendinami projektai) | AR6: Pasirašytos sutartys (įgyvendinami projektai) | AS6: Pasirašytos sutartys (įgyvendinami projektai) | AT6: Pasirašytos sutartys (įgyvendinami projektai) | AU6: Pasirašytos sutartys (įgyvendinami projektai) | AV6: Pasirašytos sutartys (įgyvendinami projektai) | AW6: Pasirašytos sutartys (įgyvendinami projektai) | AX6: Pasirašytos sutartys (įgyvendinami projektai) | AY6: Pasirašytos sutartys (įgyvendinami projektai) | AZ6: Pasirašytos sutartys (įgyvendinami projektai) | BA6: Pasirašytos sutartys (įgyvendinami projektai) | BB6: Pasirašytos sutartys (įgyvendinami projektai) | BC6: Pasirašytos sutartys (įgyvendinami projektai) | BD6: Pasirašytos sutartys (įgyvendinami projektai) | BE6: Įgyvendinti (baigti) projektai | BF6: Įgyvendinti (baigti) projektai | BG6: Įgyvendinti (baigti) projektai | BH6: Įgyvendinti (baigti) projektai | BI6: Įgyvendinti (baigti) projektai | BJ6: Įgyvendinti (baigti) projektai | BK6: Įgyvendinti (baigti) projektai | BL6: Įgyvendinti (baigti) projektai | BM6: Įgyvendinti (baigti) projektai | BN6: Įgyvendinti (baigti) projektai | BO6: Įgyvendinti (baigti) projektai | BP6: Įgyvendinti (baigti) projektai | BQ6: Įgyvendinti (baigti) projektai | BR6: Įgyvendinti (baigti) projektai | BS6: Įgyvendinti (baigti) projektai | BT6: Įgyvendinti (baigti) projektai | BU6: Įgyvendinti (baigti) projektai | BV6: Įgyvendinti (baigti) projektai | BW6: Įgyvendinti (baigti) projektai | BX6: Įgyvendinti (baigti) projektai | BY6: Įgyvendinti (baigti) projektai | BZ6: Įgyvendinti (baigti) projektai | CA6: Įgyvendinti (baigti) projektai | CB6: Įgyvendinti (baigti) projektai
B7: VVG ir priemonės/veiklos srities kodas | C7: VVG | D7: Tipas | E7: VPS priemonės/ veiklos srities pavadinimas | F7: VPS priemonės/ veiklos srities kodas | G7: Finansavimo šaltinis | H7: Vietos projektams įgyvendinti numatyta lėšų suma, Eur | I7: Bendras skaičius (vnt.) | J7: Bendras skaičius (vnt.) | K7: Bendras skaičius (vnt.) | L7: Bendras skaičius (vnt.) | M7: Bendras skaičius (vnt.) | N7: Bendras skaičius (vnt.) | O7: Bendras skaičius (vnt.) | P7: Bendras skaičius (vnt.) | Q7: Bendra suma (Eur) | R7: Bendra suma (Eur) | S7: Bendra suma (Eur) | T7: Bendra suma (Eur) | U7: Bendra suma (Eur) | V7: Bendra suma (Eur) | W7: Bendra suma (Eur) | X7: Bendra suma (Eur) | Y7: Proc. nuo vietos projektams skirtos sumos | Z7: Proc. nuo vietos projektams skirtos sumos | AA7: Proc. nuo vietos projektams skirtos sumos | AB7: Proc. nuo vietos projektams skirtos sumos | AC7: Proc. nuo vietos projektams skirtos sumos | AD7: Proc. nuo vietos projektams skirtos sumos | AE7: Proc. nuo vietos projektams skirtos sumos | AF7: Proc. nuo vietos projektams skirtos sumos | AG7: Bendras skaičius (vnt.) | AH7: Bendras skaičius (vnt.) | AI7: Bendras skaičius (vnt.) | AJ7: Bendras skaičius (vnt.) | AK7: Bendras skaičius (vnt.) | AL7: Bendras skaičius (vnt.) | AM7: Bendras skaičius (vnt.) | AN7: Bendras skaičius (vnt.) | AO7: Bendra suma (Eur) | AP7: Bendra suma (Eur) | AQ7: Bendra suma (Eur) | AR7: Bendra suma (Eur) | AS7: Bendra suma (Eur) | AT7: Bendra suma (Eur) | AU7: Bendra suma (Eur) | AV7: Bendra suma (Eur) | AW7: Proc. nuo vietos projektams skirtos sumos | AX7: Proc. nuo vietos projektams skirtos sumos | AY7: Proc. nuo vietos projektams skirtos sumos | AZ7: Proc. nuo vietos projektams skirtos sumos | BA7: Proc. nuo vietos projektams skirtos sumos | BB7: Proc. nuo vietos projektams skirtos sumos | BC7: Proc. nuo vietos projektams skirtos sumos | BD7: Proc. nuo vietos projektams skirtos sumos | BE7: Bendras skaičius (vnt.) | BF7: Bendras skaičius (vnt.) | BG7: Bendras skaičius (vnt.) | BH7: Bendras skaičius (vnt.) | BI7: Bendras skaičius (vnt.) | BJ7: Bendras skaičius (vnt.) | BK7: Bendras skaičius (vnt.) | BL7: Bendras skaičius (vnt.) | BM7: Bendra suma (Eur) | BN7: Bendra suma (Eur) | BO7: Bendra suma (Eur) | BP7: Bendra suma (Eur) | BQ7: Bendra suma (Eur) | BR7: Bendra suma (Eur) | BS7: Bendra suma (Eur) | BT7: Bendra suma (Eur) | BU7: Proc. nuo vietos projektams skirtos sumos | BV7: Proc. nuo vietos projektams skirtos sumos | BW7: Proc. nuo vietos projektams skirtos sumos | BX7: Proc. nuo vietos projektams skirtos sumos | BY7: Proc. nuo vietos projektams skirtos sumos | BZ7: Proc. nuo vietos projektams skirtos sumos | CA7: Proc. nuo vietos projektams skirtos sumos | CB7: Proc. nuo vietos projektams skirtos sumos
I8: Iš viso | J8: 2017 | K8: 2018 | L8: 2019 | M8: 2020 | N8: 2021 | O8: 2022 | P8: 2023 | Q8: Iš viso | R8: 2017 | S8: 2018 | T8: 2019 | U8: 2020 | V8: 2021 | W8: 2022 | X8: 2023 | Y8: Iš viso | Z8: 2017 | AA8: 2018 | AB8: 2019 | AC8: 2020 | AD8: 2021 | AE8: 2022 | AF8: 2023 | AG8: Iš viso | AH8: 2017 | AI8: 2018 | AJ8: 2019 | AK8: 2020 | AL8: 2021 | AM8: 2022 | AN8: 2023 | AO8: Iš viso | AP8: 2017 | AQ8: 2018 | AR8: 2019 | AS8: 2020 | AT8: 2021 | AU8: 2022 | AV8: 2023 | AW8: Iš viso | AX8: 2017 | AY8: 2018 | AZ8: 2019 | BA8: 2020 | BB8: 2021 | BC8: 2022 | BD8: 2023 | BE8: Iš viso | BF8: 2017 | BG8: 2018 | BH8: 2019 | BI8: 2020 | BJ8: 2021 | BK8: 2022 | BL8: 2023 | BM8: Iš viso | BN8: 2017 | BO8: 2018 | BP8: 2019 | BQ8: 2020 | BR8: 2021 | BS8: 2022 | BT8: 2023 | BU8: Iš viso | BV8: 2017 | BW8: 2018 | BX8: 2019 | BY8: 2020 | BZ8: 2021 | CA8: 2022 | CB8: 2023
B9: Užsipildo automatiškai pagal lapą VPS1 | C9: Užsipildo automatiškai pagal lapą VPS1 | D9: Užsipildo automatiškai pagal lapą VPS1 | E9: Užsipildo automatiškai pagal lapą VPS1 | F9: Užsipildo automatiškai pagal lapą VPS1 | G9: Užsipildo automatiškai pagal lapą VPS1 | H9: Užsipildo automatiškai pagal lapą VPS1 | I9: Užsipildo automatiškai pagal lapą D5 | J9: Užsipildo automatiškai pagal lapą D5 | K9: Užsipildo automatiškai pagal lapą D5 | L9: Užsipildo automatiškai pagal lapą D5 | M9: Užsipildo automatiškai pagal lapą D5 | N9: Užsipildo automatiškai pagal lapą D5 | O9: Užsipildo automatiškai pagal lapą D5 | P9: Užsipildo automatiškai pagal lapą D5 | Q9: Užsipildo automatiškai pagal lapą D5 | R9: Užsipildo automatiškai pagal lapą D5 | S9: Užsipildo automatiškai pagal lapą D5 | T9: Užsipildo automatiškai pagal lapą D5 | U9: Užsipildo automatiškai pagal lapą D5 | V9: Užsipildo automatiškai pagal lapą D5 | W9: Užsipildo automatiškai pagal lapą D5 | X9: Užsipildo automatiškai pagal lapą D5 | Y9: Užsipildo automatiškai (formulė) | Z9: Užsipildo automatiškai (formulė) | AA9: Užsipildo automatiškai (formulė) | AB9: Užsipildo automatiškai (formulė) | AC9: Užsipildo automatiškai (formulė) | AD9: Užsipildo automatiškai (formulė) | AE9: Užsipildo automatiškai (formulė) | AF9: Užsipildo automatiškai (formulė) | AG9: Užsipildo automatiškai pagal lapą D5 | AH9: Užsipildo automatiškai pagal lapą D5 | AI9: Užsipildo automatiškai pagal lapą D5 | AJ9: Užsipildo automatiškai pagal lapą D5 | AK9: Užsipildo automatiškai pagal lapą D5 | AL9: Užsipildo automatiškai pagal lapą D5 | AM9: Užsipildo automatiškai pagal lapą D5 | AN9: Užsipildo automatiškai pagal lapą D5 | AO9: Užsipildo automatiškai pagal lapą D5 | AP9: Užsipildo automatiškai pagal lapą D5 | AQ9: Užsipildo automatiškai pagal lapą D5 | AR9: Užsipildo automatiškai pagal lapą D5 | AS9: Užsipildo automatiškai pagal lapą D5 | AT9: Užsipildo automatiškai pagal lapą D5 | AU9: Užsipildo automatiškai pagal lapą D5 | AV9: Užsipildo automatiškai pagal lapą D5 | AW9: Užsipildo automatiškai (formulė) | AX9: Užsipildo automatiškai (formulė) | AY9: Užsipildo automatiškai (formulė) | AZ9: Užsipildo automatiškai (formulė) | BA9: Užsipildo automatiškai (formulė) | BB9: Užsipildo automatiškai (formulė) | BC9: Užsipildo automatiškai (formulė) | BD9: Užsipildo automatiškai (formulė) | BE9: Užsipildo automatiškai pagal lapą D5 | BF9: Užsipildo automatiškai pagal lapą D5 | BG9: Užsipildo automatiškai pagal lapą D5 | BH9: Užsipildo automatiškai pagal lapą D5 | BI9: Užsipildo automatiškai pagal lapą D5 | BJ9: Užsipildo automatiškai pagal lapą D5 | BK9: Užsipildo automatiškai pagal lapą D5 | BL9: Užsipildo automatiškai pagal lapą D5 | BM9: Užsipildo automatiškai pagal lapą D5 | BN9: Užsipildo automatiškai pagal lapą D5 | BO9: Užsipildo automatiškai pagal lapą D5 | BP9: Užsipildo automatiškai pagal lapą D5 | BQ9: Užsipildo automatiškai pagal lapą D5 | BR9: Užsipildo automatiškai pagal lapą D5 | BS9: Užsipildo automatiškai pagal lapą D5 | BT9: Užsipildo automatiškai pagal lapą D5 | BU9: Užsipildo automatiškai (formulė) | BV9: Užsipildo automatiškai (formulė) | BW9: Užsipildo automatiškai (formulė) | BX9: Užsipildo automatiškai (formulė) | BY9: Užsipildo automatiškai (formulė) | BZ9: Užsipildo automatiškai (formulė) | CA9: Užsipildo automatiškai (formulė) | CB9: Užsipildo automatiškai (formulė)
B10: Iš viso VPS | H10: =SUM(H13:H37) -> 2114412 | I10: =SUM(I13:I37) -> 46 | J10: =SUM(J13:J37) -> 0 | K10: =SUM(K13:K37) -> 2 | L10: =SUM(L13:L37) -> 18 | M10: =SUM(M13:M37) -> 18 | N10: =SUM(N13:N37) -> 8 | O10: =SUM(O13:O37) -> 0 | ... X10: =SUM(X13:X37) -> 0 | Y10: =IF($H10>0,Q10/$H10*100,0) -> 69.812939 | Z10: =IF($H10>0,R10/$H10*100,0) -> 0 | AA10: =IF($H10>0,S10/$H10*100,0) -> 5.101441 | AB10: =IF($H10>0,T10/$H10*100,0) -> 21.769078 | AC10: =IF($H10>0,U10/$H10*100,0) -> 19.157415 | AD10: =IF($H10>0,V10/$H10*100,0) -> 23.785005 | AE10: =IF($H10>0,W10/$H10*100,0) -> 0 | AF10: =IF($H10>0,X10/$H10*100,0) -> 0 | AG10: =SUM(AG13:AG37) -> 46 | AH10: =SUM(AH13:AH37) -> 0 | AI10: =SUM(AI13:AI37) -> 2 | AJ10: =SUM(AJ13:AJ37) -> 17 | AK10: =SUM(AK13:AK37) -> 17 | AL10: =SUM(AL13:AL37) -> 10 | AM10: =SUM(AM13:AM37) -> 0 | AN10: =SUM(AN13:AN37) -> 0 | ... AV10: =SUM(AV13:AV37) -> 0 | AW10: =IF($H10>0,AO10/$H10*100,0) -> 69.812939 | AX10: =IF($H10>0,AP10/$H10*100,0) -> 0 | AY10: =IF($H10>0,AQ10/$H10*100,0) -> 5.101441 | AZ10: =IF($H10>0,AR10/$H10*100,0) -> 19.460635 | BA10: =IF($H10>0,AS10/$H10*100,0) -> 18.293534 | BB10: =IF($H10>0,AT10/$H10*100,0) -> 26.957329 | BC10: =IF($H10>0,AU10/$H10*100,0) -> 0 | BD10: =IF($H10>0,AV10/$H10*100,0) -> 0 | BE10: =SUM(BE13:BE37) -> 29 | BF10: =SUM(BF13:BF37) -> 0 | BG10: =SUM(BG13:BG37) -> 1 | BH10: =SUM(BH13:BH37) -> 6 | BI10: =SUM(BI13:BI37) -> 5 | BJ10: =SUM(BJ13:BJ37) -> 17 | BK10: =SUM(BK13:BK37) -> 0 | BL10: =SUM(BL13:BL37) -> 0 | ... BT10: =SUM(BT13:BT37) -> 0 | BU10: =IF($H10>0,BM10/$H10*100,0) -> 47.986114 | BV10: =IF($H10>0,BN10/$H10*100,0) -> 0 | BW10: =IF($H10>0,BO10/$H10*100,0) -> 1.5397888 | BX10: =IF($H10>0,BP10/$H10*100,0) -> 10.657999 | BY10: =IF($H10>0,BQ10/$H10*100,0) -> 5.1792319 | BZ10: =IF($H10>0,BR10/$H10*100,0) -> 30.609095 | CA10: =IF($H10>0,BS10/$H10*100,0) -> 0 | CB10: =IF($H10>0,BT10/$H10*100,0) -> 0
A11: EŽŪFKP | B11: Iš viso EŽŪFKP | H11: =SUMIFS(H$13:H$37,$G$13:$G$37,$A11) -> 2114412 | I11: =SUMIFS(I$13:I$37,$G$13:$G$37,$A11) -> 46 | J11: =SUMIFS(J$13:J$37,$G$13:$G$37,$A11) -> 0 | K11: =SUMIFS(K$13:K$37,$G$13:$G$37,$A11) -> 2 | L11: =SUMIFS(L$13:L$37,$G$13:$G$37,$A11) -> 18 | M11: =SUMIFS(M$13:M$37,$G$13:$G$37,$A11) -> 18 | N11: =SUMIFS(N$13:N$37,$G$13:$G$37,$A11) -> 8 | O11: =SUMIFS(O$13:O$37,$G$13:$G$37,$A11) -> 0 | ... X11: =SUMIFS(X$13:X$37,$G$13:$G$37,$A11) -> 0 | Y11: =IF($H11>0,Q11/$H11*100,0) -> 69.812939 | Z11: =IF($H11>0,R11/$H11*100,0) -> 0 | AA11: =IF($H11>0,S11/$H11*100,0) -> 5.101441 | AB11: =IF($H11>0,T11/$H11*100,0) -> 21.769078 | AC11: =IF($H11>0,U11/$H11*100,0) -> 19.157415 | AD11: =IF($H11>0,V11/$H11*100,0) -> 23.785005 | AE11: =IF($H11>0,W11/$H11*100,0) -> 0 | AF11: =IF($H11>0,X11/$H11*100,0) -> 0 | AG11: =SUMIFS(AG$13:AG$37,$G$13:$G$37,$A11) -> 46 | AH11: =SUMIFS(AH$13:AH$37,$G$13:$G$37,$A11) -> 0 | AI11: =SUMIFS(AI$13:AI$37,$G$13:$G$37,$A11) -> 2 | AJ11: =SUMIFS(AJ$13:AJ$37,$G$13:$G$37,$A11) -> 17 | AK11: =SUMIFS(AK$13:AK$37,$G$13:$G$37,$A11) -> 17 | AL11: =SUMIFS(AL$13:AL$37,$G$13:$G$37,$A11) -> 10 | AM11: =SUMIFS(AM$13:AM$37,$G$13:$G$37,$A11) -> 0 | AN11: =SUMIFS(AN$13:AN$37,$G$13:$G$37,$A11) -> 0 | ... AV11: =SUMIFS(AV$13:AV$37,$G$13:$G$37,$A11) -> 0 | AW11: =IF($H11>0,AO11/$H11*100,0) -> 69.812939 | AX11: =IF($H11>0,AP11/$H11*100,0) -> 0 | AY11: =IF($H11>0,AQ11/$H11*100,0) -> 5.101441 | AZ11: =IF($H11>0,AR11/$H11*100,0) -> 19.460635 | BA11: =IF($H11>0,AS11/$H11*100,0) -> 18.293534 | BB11: =IF($H11>0,AT11/$H11*100,0) -> 26.957329 | BC11: =IF($H11>0,AU11/$H11*100,0) -> 0 | BD11: =IF($H11>0,AV11/$H11*100,0) -> 0 | BE11: =SUMIFS(BE$13:BE$37,$G$13:$G$37,$A11) -> 29 | BF11: =SUMIFS(BF$13:BF$37,$G$13:$G$37,$A11) -> 0 | BG11: =SUMIFS(BG$13:BG$37,$G$13:$G$37,$A11) -> 1 | BH11: =SUMIFS(BH$13:BH$37,$G$13:$G$37,$A11) -> 6 | BI11: =SUMIFS(BI$13:BI$37,$G$13:$G$37,$A11) -> 5 | BJ11: =SUMIFS(BJ$13:BJ$37,$G$13:$G$37,$A11) -> 17 | BK11: =SUMIFS(BK$13:BK$37,$G$13:$G$37,$A11) -> 0 | BL11: =SUMIFS(BL$13:BL$37,$G$13:$G$37,$A11) -> 0 | ... BT11: =SUMIFS(BT$13:BT$37,$G$13:$G$37,$A11) -> 0 | BU11: =IF($H11>0,BM11/$H11*100,0) -> 47.986114 | BV11: =IF($H11>0,BN11/$H11*100,0) -> 0 | BW11: =IF($H11>0,BO11/$H11*100,0) -> 1.5397888 | BX11: =IF($H11>0,BP11/$H11*100,0) -> 10.657999 | BY11: =IF($H11>0,BQ11/$H11*100,0) -> 5.1792319 | BZ11: =IF($H11>0,BR11/$H11*100,0) -> 30.609095 | CA11: =IF($H11>0,BS11/$H11*100,0) -> 0 | CB11: =IF($H11>0,BT11/$H11*100,0) -> 0
A12: EJRŽF | B12: iš viso EJRŽF | H12: =SUMIFS(H$13:H$37,$G$13:$G$37,$A12) -> 0 | I12: =SUMIFS(I$13:I$37,$G$13:$G$37,$A12) -> 0 | J12: =SUMIFS(J$13:J$37,$G$13:$G$37,$A12) -> 0 | K12: =SUMIFS(K$13:K$37,$G$13:$G$37,$A12) -> 0 | L12: =SUMIFS(L$13:L$37,$G$13:$G$37,$A12) -> 0 | M12: =SUMIFS(M$13:M$37,$G$13:$G$37,$A12) -> 0 | N12: =SUMIFS(N$13:N$37,$G$13:$G$37,$A12) -> 0 | O12: =SUMIFS(O$13:O$37,$G$13:$G$37,$A12) -> 0 | ... X12: =SUMIFS(X$13:X$37,$G$13:$G$37,$A12) -> 0 | Y12: =IF($H12>0,Q12/$H12*100,0) -> 0 | Z12: =IF($H12>0,R12/$H12*100,0) -> 0 | AA12: =IF($H12>0,S12/$H12*100,0) -> 0 | AB12: =IF($H12>0,T12/$H12*100,0) -> 0 | AC12: =IF($H12>0,U12/$H12*100,0) -> 0 | AD12: =IF($H12>0,V12/$H12*100,0) -> 0 | AE12: =IF($H12>0,W12/$H12*100,0) -> 0 | AF12: =IF($H12>0,X12/$H12*100,0) -> 0 | AG12: =SUMIFS(AG$13:AG$37,$G$13:$G$37,$A12) -> 0 | AH12: =SUMIFS(AH$13:AH$37,$G$13:$G$37,$A12) -> 0 | AI12: =SUMIFS(AI$13:AI$37,$G$13:$G$37,$A12) -> 0 | AJ12: =SUMIFS(AJ$13:AJ$37,$G$13:$G$37,$A12) -> 0 | AK12: =SUMIFS(AK$13:AK$37,$G$13:$G$37,$A12) -> 0 | AL12: =SUMIFS(AL$13:AL$37,$G$13:$G$37,$A12) -> 0 | AM12: =SUMIFS(AM$13:AM$37,$G$13:$G$37,$A12) -> 0 | AN12: =SUMIFS(AN$13:AN$37,$G$13:$G$37,$A12) -> 0 | ... AV12: =SUMIFS(AV$13:AV$37,$G$13:$G$37,$A12) -> 0 | AW12: =IF($H12>0,AO12/$H12*100,0) -> 0 | AX12: =IF($H12>0,AP12/$H12*100,0) -> 0 | AY12: =IF($H12>0,AQ12/$H12*100,0) -> 0 | AZ12: =IF($H12>0,AR12/$H12*100,0) -> 0 | BA12: =IF($H12>0,AS12/$H12*100,0) -> 0 | BB12: =IF($H12>0,AT12/$H12*100,0) -> 0 | BC12: =IF($H12>0,AU12/$H12*100,0) -> 0 | BD12: =IF($H12>0,AV12/$H12*100,0) -> 0 | BE12: =SUMIFS(BE$13:BE$37,$G$13:$G$37,$A12) -> 0 | BF12: =SUMIFS(BF$13:BF$37,$G$13:$G$37,$A12) -> 0 | BG12: =SUMIFS(BG$13:BG$37,$G$13:$G$37,$A12) -> 0 | BH12: =SUMIFS(BH$13:BH$37,$G$13:$G$37,$A12) -> 0 | BI12: =SUMIFS(BI$13:BI$37,$G$13:$G$37,$A12) -> 0 | BJ12: =SUMIFS(BJ$13:BJ$37,$G$13:$G$37,$A12) -> 0 | BK12: =SUMIFS(BK$13:BK$37,$G$13:$G$37,$A12) -> 0 | BL12: =SUMIFS(BL$13:BL$37,$G$13:$G$37,$A12) -> 0 | ... BT12: =SUMIFS(BT$13:BT$37,$G$13:$G$37,$A12) -> 0 | BU12: =IF($H12>0,BM12/$H12*100,0) -> 0 | BV12: =IF($H12>0,BN12/$H12*100,0) -> 0 | BW12: =IF($H12>0,BO12/$H12*100,0) -> 0 | BX12: =IF($H12>0,BP12/$H12*100,0) -> 0 | BY12: =IF($H12>0,BQ12/$H12*100,0) -> 0 | BZ12: =IF($H12>0,BR12/$H12*100,0) -> 0 | CA12: =IF($H12>0,BS12/$H12*100,0) -> 0 | CB12: =IF($H12>0,BT12/$H12*100,0) -> 0
B13: ='VPS1'!A9 -> MAŽE-LEADER-19.2-6 | C13: ='VPS1'!B9 -> MAŽE | D13: ='VPS1'!C9 -> 1 | E13: ='VPS1'!D9 -> Priemonė „Ūkio ir verslo plėtra“ | F13: ='VPS1'!E9 -> LEADER-19.2-6 | G13: ='VPS1'!G9 -> EŽŪFKP | H13: ='VPS1'!F9 -> 0 | I13: =SUM(J13:P13) -> 0 | J13: =COUNTIFS('D5'!$B$12:$B$4999,$B13,'D5'!$AF$12:$AF$4999,J$8,'D5'!$AI$12:$AI$4999,"taip") -> 0 | K13: =COUNTIFS('D5'!$B$12:$B$4999,$B13,'D5'!$AF$12:$AF$4999,K$8,'D5'!$AI$12:$AI$4999,"taip") -> 0 | L13: =COUNTIFS('D5'!$B$12:$B$4999,$B13,'D5'!$AF$12:$AF$4999,L$8,'D5'!$AI$12:$AI$4999,"taip") -> 0 | M13: =COUNTIFS('D5'!$B$12:$B$4999,$B13,'D5'!$AF$12:$AF$4999,M$8,'D5'!$AI$12:$AI$4999,"taip") -> 0 | N13: =COUNTIFS('D5'!$B$12:$B$4999,$B13,'D5'!$AF$12:$AF$4999,N$8,'D5'!$AI$12:$AI$4999,"taip") -> 0 | O13: =COUNTIFS('D5'!$B$12:$B$4999,$B13,'D5'!$AF$12:$AF$4999,O$8,'D5'!$AI$12:$AI$4999,"taip") -> 0 | P13: =COUNTIFS('D5'!$B$12:$B$4999,$B13,'D5'!$AF$12:$AF$4999,P$8,'D5'!$AI$12:$AI$4999,"taip") -> 0 | Q13: =SUM(R13:X13) -> 0 | R13: =SUMIFS('D5'!$W$12:$W$4999,'D5'!$B$12:$B$4999,$B13,'D5'!$AF$12:$AF$4999,R$8,'D5'!$AI$12:$AI$4999,"taip") -> 0 | S13: =SUMIFS('D5'!$W$12:$W$4999,'D5'!$B$12:$B$4999,$B13,'D5'!$AF$12:$AF$4999,S$8,'D5'!$AI$12:$AI$4999,"taip") -> 0 | T13: =SUMIFS('D5'!$W$12:$W$4999,'D5'!$B$12:$B$4999,$B13,'D5'!$AF$12:$AF$4999,T$8,'D5'!$AI$12:$AI$4999,"taip") -> 0 | U13: =SUMIFS('D5'!$W$12:$W$4999,'D5'!$B$12:$B$4999,$B13,'D5'!$AF$12:$AF$4999,U$8,'D5'!$AI$12:$AI$4999,"taip") -> 0 | V13: =SUMIFS('D5'!$W$12:$W$4999,'D5'!$B$12:$B$4999,$B13,'D5'!$AF$12:$AF$4999,V$8,'D5'!$AI$12:$AI$4999,"taip") -> 0 | W13: =SUMIFS('D5'!$W$12:$W$4999,'D5'!$B$12:$B$4999,$B13,'D5'!$AF$12:$AF$4999,W$8,'D5'!$AI$12:$AI$4999,"taip") -> 0 | X13: =SUMIFS('D5'!$W$12:$W$4999,'D5'!$B$12:$B$4999,$B13,'D5'!$AF$12:$AF$4999,X$8,'D5'!$AI$12:$AI$4999,"taip") -> 0 | Y13: =IF($H13>0,Q13/$H13*100,0) -> 0 | Z13: =IF($H13>0,R13/$H13*100,0) -> 0 | AA13: =IF($H13>0,S13/$H13*100,0) -> 0 | AB13: =IF($H13>0,T13/$H13*100,0) -> 0 | AC13: =IF($H13>0,U13/$H13*100,0) -> 0 | AD13: =IF($H13>0,V13/$H13*100,0) -> 0 | AE13: =IF($H13>0,W13/$H13*100,0) -> 0 | AF13: =IF($H13>0,X13/$H13*100,0) -> 0 | AG13: =SUM(AH13:AN13) -> 0 | AH13: =COUNTIFS('D5'!$B$12:$B$4999,$B13,'D5'!$AG$12:$AG$4999,AH$8,'D5'!$AJ$12:$AJ$4999,"taip") -> 0 | AI13: =COUNTIFS('D5'!$B$12:$B$4999,$B13,'D5'!$AG$12:$AG$4999,AI$8,'D5'!$AJ$12:$AJ$4999,"taip") -> 0 | AJ13: =COUNTIFS('D5'!$B$12:$B$4999,$B13,'D5'!$AG$12:$AG$4999,AJ$8,'D5'!$AJ$12:$AJ$4999,"taip") -> 0 | AK13: =COUNTIFS('D5'!$B$12:$B$4999,$B13,'D5'!$AG$12:$AG$4999,AK$8,'D5'!$AJ$12:$AJ$4999,"taip") -> 0 | AL13: =COUNTIFS('D5'!$B$12:$B$4999,$B13,'D5'!$AG$12:$AG$4999,AL$8,'D5'!$AJ$12:$AJ$4999,"taip") -> 0 | AM13: =COUNTIFS('D5'!$B$12:$B$4999,$B13,'D5'!$AG$12:$AG$4999,AM$8,'D5'!$AJ$12:$AJ$4999,"taip") -> 0 | AN13: =COUNTIFS('D5'!$B$12:$B$4999,$B13,'D5'!$AG$12:$AG$4999,AN$8,'D5'!$AJ$12:$AJ$4999,"taip") -> 0 | AO13: =SUM(AP13:AV13) -> 0 | AP13: =SUMIFS('D5'!$W$12:$W$4999,'D5'!$B$12:$B$4999,$B13,'D5'!$AG$12:$AG$4999,AP$8,'D5'!$AJ$12:$AJ$4999,"taip") -> 0 | AQ13: =SUMIFS('D5'!$W$12:$W$4999,'D5'!$B$12:$B$4999,$B13,'D5'!$AG$12:$AG$4999,AQ$8,'D5'!$AJ$12:$AJ$4999,"taip") -> 0 | AR13: =SUMIFS('D5'!$W$12:$W$4999,'D5'!$B$12:$B$4999,$B13,'D5'!$AG$12:$AG$4999,AR$8,'D5'!$AJ$12:$AJ$4999,"taip") -> 0 | AS13: =SUMIFS('D5'!$W$12:$W$4999,'D5'!$B$12:$B$4999,$B13,'D5'!$AG$12:$AG$4999,AS$8,'D5'!$AJ$12:$AJ$4999,"taip") -> 0 | AT13: =SUMIFS('D5'!$W$12:$W$4999,'D5'!$B$12:$B$4999,$B13,'D5'!$AG$12:$AG$4999,AT$8,'D5'!$AJ$12:$AJ$4999,"taip") -> 0 | AU13: =SUMIFS('D5'!$W$12:$W$4999,'D5'!$B$12:$B$4999,$B13,'D5'!$AG$12:$AG$4999,AU$8,'D5'!$AJ$12:$AJ$4999,"taip") -> 0 | AV13: =SUMIFS('D5'!$W$12:$W$4999,'D5'!$B$12:$B$4999,$B13,'D5'!$AG$12:$AG$4999,AV$8,'D5'!$AJ$12:$AJ$4999,"taip") -> 0 | AW13: =IF($H13>0,AO13/$H13*100,0) -> 0 | AX13: =IF($H13>0,AP13/$H13*100,0) -> 0 | AY13: =IF($H13>0,AQ13/$H13*100,0) -> 0 | AZ13: =IF($H13>0,AR13/$H13*100,0) -> 0 | BA13: =IF($H13>0,AS13/$H13*100,0) -> 0 | BB13: =IF($H13>0,AT13/$H13*100,0) -> 0 | BC13: =IF($H13>0,AU13/$H13*100,0) -> 0 | BD13: =IF($H13>0,AV13/$H13*100,0) -> 0 | BE13: =SUM(BF13:BL13) -> 0 | BF13: =COUNTIFS('D5'!$B$12:$B$4999,$B13,'D5'!$AH$12:$AH$4999,BF$8,'D5'!$AK$12:$AK$4999,"taip") -> 0 | BG13: =COUNTIFS('D5'!$B$12:$B$4999,$B13,'D5'!$AH$12:$AH$4999,BG$8,'D5'!$AK$12:$AK$4999,"taip") -> 0 | BH13: =COUNTIFS('D5'!$B$12:$B$4999,$B13,'D5'!$AH$12:$AH$4999,BH$8,'D5'!$AK$12:$AK$4999,"taip") -> 0 | BI13: =COUNTIFS('D5'!$B$12:$B$4999,$B13,'D5'!$AH$12:$AH$4999,BI$8,'D5'!$AK$12:$AK$4999,"taip") -> 0 | BJ13: =COUNTIFS('D5'!$B$12:$B$4999,$B13,'D5'!$AH$12:$AH$4999,BJ$8,'D5'!$AK$12:$AK$4999,"taip") -> 0 | BK13: =COUNTIFS('D5'!$B$12:$B$4999,$B13,'D5'!$AH$12:$AH$4999,BK$8,'D5'!$AK$12:$AK$4999,"taip") -> 0 | BL13: =COUNTIFS('D5'!$B$12:$B$4999,$B13,'D5'!$AH$12:$AH$4999,BL$8,'D5'!$AK$12:$AK$4999,"taip") -> 0 | BM13: =SUM(BN13:BT13) -> 0 | BN13: =SUMIFS('D5'!$W$12:$W$4999,'D5'!$B$12:$B$4999,$B13,'D5'!$AH$12:$AH$4999,BN$8,'D5'!$AK$12:$AK$4999,"taip") -> 0 | BO13: =SUMIFS('D5'!$W$12:$W$4999,'D5'!$B$12:$B$4999,$B13,'D5'!$AH$12:$AH$4999,BO$8,'D5'!$AK$12:$AK$4999,"taip") -> 0 | BP13: =SUMIFS('D5'!$W$12:$W$4999,'D5'!$B$12:$B$4999,$B13,'D5'!$AH$12:$AH$4999,BP$8,'D5'!$AK$12:$AK$4999,"taip") -> 0 | BQ13: =SUMIFS('D5'!$W$12:$W$4999,'D5'!$B$12:$B$4999,$B13,'D5'!$AH$12:$AH$4999,BQ$8,'D5'!$AK$12:$AK$4999,"taip") -> 0 | BR13: =SUMIFS('D5'!$W$12:$W$4999,'D5'!$B$12:$B$4999,$B13,'D5'!$AH$12:$AH$4999,BR$8,'D5'!$AK$12:$AK$4999,"taip") -> 0 | BS13: =SUMIFS('D5'!$W$12:$W$4999,'D5'!$B$12:$B$4999,$B13,'D5'!$AH$12:$AH$4999,BS$8,'D5'!$AK$12:$AK$4999,"taip") -> 0 | BT13: =SUMIFS('D5'!$W$12:$W$4999,'D5'!$B$12:$B$4999,$B13,'D5'!$AH$12:$AH$4999,BT$8,'D5'!$AK$12:$AK$4999,"taip") -> 0 | BU13: =IF($H13>0,BM13/$H13*100,0) -> 0 | BV13: =IF($H13>0,BN13/$H13*100,0) -> 0 | BW13: =IF($H13>0,BO13/$H13*100,0) -> 0 | BX13: =IF($H13>0,BP13/$H13*100,0) -> 0 | BY13: =IF($H13>0,BQ13/$H13*100,0) -> 0 | BZ13: =IF($H13>0,BR13/$H13*100,0) -> 0 | CA13: =IF($H13>0,BS13/$H13*100,0) -> 0 | CB13: =IF($H13>0,BT13/$H13*100,0) -> 0
B14: ='VPS1'!A10 -> MAŽE-LEADER-19.2-6.2 | C14: ='VPS1'!B10 -> MAŽE | D14: ='VPS1'!C10 -> 2 | E14: ='VPS1'!D10 -> - veiklos sritis „Parama ne žemės ūkio verslui kaimo vietovėse pradėti “ | F14: ='VPS1'!E10 -> LEADER-19.2-6.2 | G14: ='VPS1'!G10 -> EŽŪFKP | H14: ='VPS1'!F10 -> 292679 | I14: =SUM(J14:P14) -> 9 | J14: =COUNTIFS('D5'!$B$12:$B$4999,$B14,'D5'!$AF$12:$AF$4999,J$8,'D5'!$AI$12:$AI$4999,"taip") -> 0 | K14: =COUNTIFS('D5'!$B$12:$B$4999,$B14,'D5'!$AF$12:$AF$4999,K$8,'D5'!$AI$12:$AI$4999,"taip") -> 0 | L14: =COUNTIFS('D5'!$B$12:$B$4999,$B14,'D5'!$AF$12:$AF$4999,L$8,'D5'!$AI$12:$AI$4999,"taip") -> 4 | M14: =COUNTIFS('D5'!$B$12:$B$4999,$B14,'D5'!$AF$12:$AF$4999,M$8,'D5'!$AI$12:$AI$4999,"taip") -> 4 | N14: =COUNTIFS('D5'!$B$12:$B$4999,$B14,'D5'!$AF$12:$AF$4999,N$8,'D5'!$AI$12:$AI$4999,"taip") -> 1 | O14: =COUNTIFS('D5'!$B$12:$B$4999,$B14,'D5'!$AF$12:$AF$4999,O$8,'D5'!$AI$12:$AI$4999,"taip") -> 0 | P14: =COUNTIFS('D5'!$B$12:$B$4999,$B14,'D5'!$AF$12:$AF$4999,P$8,'D5'!$AI$12:$AI$4999,"taip") -> 0 | Q14: =SUM(R14:X14) -> 249655 | R14: =SUMIFS('D5'!$W$12:$W$4999,'D5'!$B$12:$B$4999,$B14,'D5'!$AF$12:$AF$4999,R$8,'D5'!$AI$12:$AI$4999,"taip") -> 0 | S14: =SUMIFS('D5'!$W$12:$W$4999,'D5'!$B$12:$B$4999,$B14,'D5'!$AF$12:$AF$4999,S$8,'D5'!$AI$12:$AI$4999,"taip") -> 0 | T14: =SUMIFS('D5'!$W$12:$W$4999,'D5'!$B$12:$B$4999,$B14,'D5'!$AF$12:$AF$4999,T$8,'D5'!$AI$12:$AI$4999,"taip") -> 126980 | U14: =SUMIFS('D5'!$W$12:$W$4999,'D5'!$B$12:$B$4999,$B14,'D5'!$AF$12:$AF$4999,U$8,'D5'!$AI$12:$AI$4999,"taip") -> 80306 | V14: =SUMIFS('D5'!$W$12:$W$4999,'D5'!$B$12:$B$4999,$B14,'D5'!$AF$12:$AF$4999,V$8,'D5'!$AI$12:$AI$4999,"taip") -> 42369 | W14: =SUMIFS('D5'!$W$12:$W$4999,'D5'!$B$12:$B$4999,$B14,'D5'!$AF$12:$AF$4999,W$8,'D5'!$AI$12:$AI$4999,"taip") -> 0 | X14: =SUMIFS('D5'!$W$12:$W$4999,'D5'!$B$12:$B$4999,$B14,'D5'!$AF$12:$AF$4999,X$8,'D5'!$AI$12:$AI$4999,"taip") -> 0 | Y14: =IF($H14>0,Q14/$H14*100,0) -> 85.299936 | Z14: =IF($H14>0,R14/$H14*100,0) -> 0 | AA14: =IF($H14>0,S14/$H14*100,0) -> 0 | AB14: =IF($H14>0,T14/$H14*100,0) -> 43.385415 | AC14: =IF($H14>0,U14/$H14*100,0) -> 27.438251 | AD14: =IF($H14>0,V14/$H14*100,0) -> 14.476269 | AE14: =IF($H14>0,W14/$H14*100,0) -> 0 | AF14: =IF($H14>0,X14/$H14*100,0) -> 0 | AG14: =SUM(AH14:AN14) -> 9 | AH14: =COUNTIFS('D5'!$B$12:$B$4999,$B14,'D5'!$AG$12:$AG$4999,AH$8,'D5'!$AJ$12:$AJ$4999,"taip") -> 0 | AI14: =COUNTIFS('D5'!$B$12:$B$4999,$B14,'D5'!$AG$12:$AG$4999,AI$8,'D5'!$AJ$12:$AJ$4999,"taip") -> 0 | AJ14: =COUNTIFS('D5'!$B$12:$B$4999,$B14,'D5'!$AG$12:$AG$4999,AJ$8,'D5'!$AJ$12:$AJ$4999,"taip") -> 4 | AK14: =COUNTIFS('D5'!$B$12:$B$4999,$B14,'D5'!$AG$12:$AG$4999,AK$8,'D5'!$AJ$12:$AJ$4999,"taip") -> 2 | AL14: =COUNTIFS('D5'!$B$12:$B$4999,$B14,'D5'!$AG$12:$AG$4999,AL$8,'D5'!$AJ$12:$AJ$4999,"taip") -> 3 | AM14: =COUNTIFS('D5'!$B$12:$B$4999,$B14,'D5'!$AG$12:$AG$4999,AM$8,'D5'!$AJ$12:$AJ$4999,"taip") -> 0 | AN14: =COUNTIFS('D5'!$B$12:$B$4999,$B14,'D5'!$AG$12:$AG$4999,AN$8,'D5'!$AJ$12:$AJ$4999,"taip") -> 0 | AO14: =SUM(AP14:AV14) -> 249655 | AP14: =SUMIFS('D5'!$W$12:$W$4999,'D5'!$B$12:$B$4999,$B14,'D5'!$AG$12:$AG$4999,AP$8,'D5'!$AJ$12:$AJ$4999,"taip") -> 0 | AQ14: =SUMIFS('D5'!$W$12:$W$4999,'D5'!$B$12:$B$4999,$B14,'D5'!$AG$12:$AG$4999,AQ$8,'D5'!$AJ$12:$AJ$4999,"taip") -> 0 | AR14: =SUMIFS('D5'!$W$12:$W$4999,'D5'!$B$12:$B$4999,$B14,'D5'!$AG$12:$AG$4999,AR$8,'D5'!$AJ$12:$AJ$4999,"taip") -> 126980 | AS14: =SUMIFS('D5'!$W$12:$W$4999,'D5'!$B$12:$B$4999,$B14,'D5'!$AG$12:$AG$4999,AS$8,'D5'!$AJ$12:$AJ$4999,"taip") -> 13230 | AT14: =SUMIFS('D5'!$W$12:$W$4999,'D5'!$B$12:$B$4999,$B14,'D5'!$AG$12:$AG$4999,AT$8,'D5'!$AJ$12:$AJ$4999,"taip") -> 109445 | AU14: =SUMIFS('D5'!$W$12:$W$4999,'D5'!$B$12:$B$4999,$B14,'D5'!$AG$12:$AG$4999,AU$8,'D5'!$AJ$12:$AJ$4999,"taip") -> 0 | AV14: =SUMIFS('D5'!$W$12:$W$4999,'D5'!$B$12:$B$4999,$B14,'D5'!$AG$12:$AG$4999,AV$8,'D5'!$AJ$12:$AJ$4999,"taip") -> 0 | AW14: =IF($H14>0,AO14/$H14*100,0) -> 85.299936 | AX14: =IF($H14>0,AP14/$H14*100,0) -> 0 | AY14: =IF($H14>0,AQ14/$H14*100,0) -> 0 | AZ14: =IF($H14>0,AR14/$H14*100,0) -> 43.385415 | BA14: =IF($H14>0,AS14/$H14*100,0) -> 4.5203106 | BB14: =IF($H14>0,AT14/$H14*100,0) -> 37.39421 | BC14: =IF($H14>0,AU14/$H14*100,0) -> 0 | BD14: =IF($H14>0,AV14/$H14*100,0) -> 0 | BE14: =SUM(BF14:BL14) -> 3 | BF14: =COUNTIFS('D5'!$B$12:$B$4999,$B14,'D5'!$AH$12:$AH$4999,BF$8,'D5'!$AK$12:$AK$4999,"taip") -> 0 | BG14: =COUNTIFS('D5'!$B$12:$B$4999,$B14,'D5'!$AH$12:$AH$4999,BG$8,'D5'!$AK$12:$AK$4999,"taip") -> 0 | BH14: =COUNTIFS('D5'!$B$12:$B$4999,$B14,'D5'!$AH$12:$AH$4999,BH$8,'D5'!$AK$12:$AK$4999,"taip") -> 1 | BI14: =COUNTIFS('D5'!$B$12:$B$4999,$B14,'D5'!$AH$12:$AH$4999,BI$8,'D5'!$AK$12:$AK$4999,"taip") -> 0 | BJ14: =COUNTIFS('D5'!$B$12:$B$4999,$B14,'D5'!$AH$12:$AH$4999,BJ$8,'D5'!$AK$12:$AK$4999,"taip") -> 2 | BK14: =COUNTIFS('D5'!$B$12:$B$4999,$B14,'D5'!$AH$12:$AH$4999,BK$8,'D5'!$AK$12:$AK$4999,"taip") -> 0 | BL14: =COUNTIFS('D5'!$B$12:$B$4999,$B14,'D5'!$AH$12:$AH$4999,BL$8,'D5'!$AK$12:$AK$4999,"taip") -> 0 | BM14: =SUM(BN14:BT14) -> 91430 | BN14: =SUMIFS('D5'!$W$12:$W$4999,'D5'!$B$12:$B$4999,$B14,'D5'!$AH$12:$AH$4999,BN$8,'D5'!$AK$12:$AK$4999,"taip") -> 0 | BO14: =SUMIFS('D5'!$W$12:$W$4999,'D5'!$B$12:$B$4999,$B14,'D5'!$AH$12:$AH$4999,BO$8,'D5'!$AK$12:$AK$4999,"taip") -> 0 | BP14: =SUMIFS('D5'!$W$12:$W$4999,'D5'!$B$12:$B$4999,$B14,'D5'!$AH$12:$AH$4999,BP$8,'D5'!$AK$12:$AK$4999,"taip") -> 48780 | BQ14: =SUMIFS('D5'!$W$12:$W$4999,'D5'!$B$12:$B$4999,$B14,'D5'!$AH$12:$AH$4999,BQ$8,'D5'!$AK$12:$AK$4999,"taip") -> 0 | BR14: =SUMIFS('D5'!$W$12:$W$4999,'D5'!$B$12:$B$4999,$B14,'D5'!$AH$12:$AH$4999,BR$8,'D5'!$AK$12:$AK$4999,"taip") -> 42650 | BS14: =SUMIFS('D5'!$W$12:$W$4999,'D5'!$B$12:$B$4999,$B14,'D5'!$AH$12:$AH$4999,BS$8,'D5'!$AK$12:$AK$4999,"taip") -> 0 | BT14: =SUMIFS('D5'!$W$12:$W$4999,'D5'!$B$12:$B$4999,$B14,'D5'!$AH$12:$AH$4999,BT$8,'D5'!$AK$12:$AK$4999,"taip") -> 0 | BU14: =IF($H14>0,BM14/$H14*100,0) -> 31.239002 | BV14: =IF($H14>0,BN14/$H14*100,0) -> 0 | BW14: =IF($H14>0,BO14/$H14*100,0) -> 0 | BX14: =IF($H14>0,BP14/$H14*100,0) -> 16.666724 | BY14: =IF($H14>0,BQ14/$H14*100,0) -> 0 | BZ14: =IF($H14>0,BR14/$H14*100,0) -> 14.572279 | CA14: =IF($H14>0,BS14/$H14*100,0) -> 0 | CB14: =IF($H14>0,BT14/$H14*100,0) -> 0
B15: ='VPS1'!A11 -> MAŽE-LEADER-19.2-6.4 | C15: ='VPS1'!B11 -> MAŽE | D15: ='VPS1'!C11 -> 2 | E15: ='VPS1'!D11 -> - veiklos sritis „Parama ne žemės ūkio verslui kaimo vietovėse plėtoti “ | F15: ='VPS1'!E11 -> LEADER-19.2-6.4 | G15: ='VPS1'!G11 -> EŽŪFKP | H15: ='VPS1'!F11 -> 1164588 | I15: =SUM(J15:P15) -> 15 | J15: =COUNTIFS('D5'!$B$12:$B$4999,$B15,'D5'!$AF$12:$AF$4999,J$8,'D5'!$AI$12:$AI$4999,"taip") -> 0 | K15: =COUNTIFS('D5'!$B$12:$B$4999,$B15,'D5'!$AF$12:$AF$4999,K$8,'D5'!$AI$12:$AI$4999,"taip") -> 2 | L15: =COUNTIFS('D5'!$B$12:$B$4999,$B15,'D5'!$AF$12:$AF$4999,L$8,'D5'!$AI$12:$AI$4999,"taip") -> 5 | M15: =COUNTIFS('D5'!$B$12:$B$4999,$B15,'D5'!$AF$12:$AF$4999,M$8,'D5'!$AI$12:$AI$4999,"taip") -> 4 | N15: =COUNTIFS('D5'!$B$12:$B$4999,$B15,'D5'!$AF$12:$AF$4999,N$8,'D5'!$AI$12:$AI$4999,"taip") -> 4 | O15: =COUNTIFS('D5'!$B$12:$B$4999,$B15,'D5'!$AF$12:$AF$4999,O$8,'D5'!$AI$12:$AI$4999,"taip") -> 0 | P15: =COUNTIFS('D5'!$B$12:$B$4999,$B15,'D5'!$AF$12:$AF$4999,P$8,'D5'!$AI$12:$AI$4999,"taip") -> 0 | Q15: =SUM(R15:X15) -> 724693.48 | R15: =SUMIFS('D5'!$W$12:$W$4999,'D5'!$B$12:$B$4999,$B15,'D5'!$AF$12:$AF$4999,R$8,'D5'!$AI$12:$AI$4999,"taip") -> 0 | S15: =SUMIFS('D5'!$W$12:$W$4999,'D5'!$B$12:$B$4999,$B15,'D5'!$AF$12:$AF$4999,S$8,'D5'!$AI$12:$AI$4999,"taip") -> 107865.48 | T15: =SUMIFS('D5'!$W$12:$W$4999,'D5'!$B$12:$B$4999,$B15,'D5'!$AF$12:$AF$4999,T$8,'D5'!$AI$12:$AI$4999,"taip") -> 177304 | U15: =SUMIFS('D5'!$W$12:$W$4999,'D5'!$B$12:$B$4999,$B15,'D5'!$AF$12:$AF$4999,U$8,'D5'!$AI$12:$AI$4999,"taip") -> 152260 | V15: =SUMIFS('D5'!$W$12:$W$4999,'D5'!$B$12:$B$4999,$B15,'D5'!$AF$12:$AF$4999,V$8,'D5'!$AI$12:$AI$4999,"taip") -> 287264 | W15: =SUMIFS('D5'!$W$12:$W$4999,'D5'!$B$12:$B$4999,$B15,'D5'!$AF$12:$AF$4999,W$8,'D5'!$AI$12:$AI$4999,"taip") -> 0 | X15: =SUMIFS('D5'!$W$12:$W$4999,'D5'!$B$12:$B$4999,$B15,'D5'!$AF$12:$AF$4999,X$8,'D5'!$AI$12:$AI$4999,"taip") -> 0 | Y15: =IF($H15>0,Q15/$H15*100,0) -> 62.227456 | Z15: =IF($H15>0,R15/$H15*100,0) -> 0 | AA15: =IF($H15>0,S15/$H15*100,0) -> 9.262115 | AB15: =IF($H15>0,T15/$H15*100,0) -> 15.224612 | AC15: =IF($H15>0,U15/$H15*100,0) -> 13.074152 | AD15: =IF($H15>0,V15/$H15*100,0) -> 24.666577 | AE15: =IF($H15>0,W15/$H15*100,0) -> 0 | AF15: =IF($H15>0,X15/$H15*100,0) -> 0 | AG15: =SUM(AH15:AN15) -> 15 | AH15: =COUNTIFS('D5'!$B$12:$B$4999,$B15,'D5'!$AG$12:$AG$4999,AH$8,'D5'!$AJ$12:$AJ$4999,"taip") -> 0 | AI15: =COUNTIFS('D5'!$B$12:$B$4999,$B15,'D5'!$AG$12:$AG$4999,AI$8,'D5'!$AJ$12:$AJ$4999,"taip") -> 2 | AJ15: =COUNTIFS('D5'!$B$12:$B$4999,$B15,'D5'!$AG$12:$AG$4999,AJ$8,'D5'!$AJ$12:$AJ$4999,"taip") -> 5 | AK15: =COUNTIFS('D5'!$B$12:$B$4999,$B15,'D5'!$AG$12:$AG$4999,AK$8,'D5'!$AJ$12:$AJ$4999,"taip") -> 4 | AL15: =COUNTIFS('D5'!$B$12:$B$4999,$B15,'D5'!$AG$12:$AG$4999,AL$8,'D5'!$AJ$12:$AJ$4999,"taip") -> 4 | AM15: =COUNTIFS('D5'!$B$12:$B$4999,$B15,'D5'!$AG$12:$AG$4999,AM$8,'D5'!$AJ$12:$AJ$4999,"taip") -> 0 | AN15: =COUNTIFS('D5'!$B$12:$B$4999,$B15,'D5'!$AG$12:$AG$4999,AN$8,'D5'!$AJ$12:$AJ$4999,"taip") -> 0 | AO15: =SUM(AP15:AV15) -> 724693.48 | AP15: =SUMIFS('D5'!$W$12:$W$4999,'D5'!$B$12:$B$4999,$B15,'D5'!$AG$12:$AG$4999,AP$8,'D5'!$AJ$12:$AJ$4999,"taip") -> 0 | AQ15: =SUMIFS('D5'!$W$12:$W$4999,'D5'!$B$12:$B$4999,$B15,'D5'!$AG$12:$AG$4999,AQ$8,'D5'!$AJ$12:$AJ$4999,"taip") -> 107865.48 | AR15: =SUMIFS('D5'!$W$12:$W$4999,'D5'!$B$12:$B$4999,$B15,'D5'!$AG$12:$AG$4999,AR$8,'D5'!$AJ$12:$AJ$4999,"taip") -> 177304 | AS15: =SUMIFS('D5'!$W$12:$W$4999,'D5'!$B$12:$B$4999,$B15,'D5'!$AG$12:$AG$4999,AS$8,'D5'!$AJ$12:$AJ$4999,"taip") -> 152260 | AT15: =SUMIFS('D5'!$W$12:$W$4999,'D5'!$B$12:$B$4999,$B15,'D5'!$AG$12:$AG$4999,AT$8,'D5'!$AJ$12:$AJ$4999,"taip") -> 287264 | AU15: =SUMIFS('D5'!$W$12:$W$4999,'D5'!$B$12:$B$4999,$B15,'D5'!$AG$12:$AG$4999,AU$8,'D5'!$AJ$12:$AJ$4999,"taip") -> 0 | AV15: =SUMIFS('D5'!$W$12:$W$4999,'D5'!$B$12:$B$4999,$B15,'D5'!$AG$12:$AG$4999,AV$8,'D5'!$AJ$12:$AJ$4999,"taip") -> 0 | AW15: =IF($H15>0,AO15/$H15*100,0) -> 62.227456 | AX15: =IF($H15>0,AP15/$H15*100,0) -> 0 | AY15: =IF($H15>0,AQ15/$H15*100,0) -> 9.262115 | AZ15: =IF($H15>0,AR15/$H15*100,0) -> 15.224612 | BA15: =IF($H15>0,AS15/$H15*100,0) -> 13.074152 | BB15: =IF($H15>0,AT15/$H15*100,0) -> 24.666577 | BC15: =IF($H15>0,AU15/$H15*100,0) -> 0 | BD15: =IF($H15>0,AV15/$H15*100,0) -> 0 | BE15: =SUM(BF15:BL15) -> 10 | BF15: =COUNTIFS('D5'!$B$12:$B$4999,$B15,'D5'!$AH$12:$AH$4999,BF$8,'D5'!$AK$12:$AK$4999,"taip") -> 0 | BG15: =COUNTIFS('D5'!$B$12:$B$4999,$B15,'D5'!$AH$12:$AH$4999,BG$8,'D5'!$AK$12:$AK$4999,"taip") -> 1 | BH15: =COUNTIFS('D5'!$B$12:$B$4999,$B15,'D5'!$AH$12:$AH$4999,BH$8,'D5'!$AK$12:$AK$4999,"taip") -> 2 | BI15: =COUNTIFS('D5'!$B$12:$B$4999,$B15,'D5'!$AH$12:$AH$4999,BI$8,'D5'!$AK$12:$AK$4999,"taip") -> 1 | BJ15: =COUNTIFS('D5'!$B$12:$B$4999,$B15,'D5'!$AH$12:$AH$4999,BJ$8,'D5'!$AK$12:$AK$4999,"taip") -> 6 | BK15: =COUNTIFS('D5'!$B$12:$B$4999,$B15,'D5'!$AH$12:$AH$4999,BK$8,'D5'!$AK$12:$AK$4999,"taip") -> 0 | BL15: =COUNTIFS('D5'!$B$12:$B$4999,$B15,'D5'!$AH$12:$AH$4999,BL$8,'D5'!$AK$12:$AK$4999,"taip") -> 0 | BM15: =SUM(BN15:BT15) -> 616321.48 | BN15: =SUMIFS('D5'!$W$12:$W$4999,'D5'!$B$12:$B$4999,$B15,'D5'!$AH$12:$AH$4999,BN$8,'D5'!$AK$12:$AK$4999,"taip") -> 0 | BO15: =SUMIFS('D5'!$W$12:$W$4999,'D5'!$B$12:$B$4999,$B15,'D5'!$AH$12:$AH$4999,BO$8,'D5'!$AK$12:$AK$4999,"taip") -> 32557.48 | BP15: =SUMIFS('D5'!$W$12:$W$4999,'D5'!$B$12:$B$4999,$B15,'D5'!$AH$12:$AH$4999,BP$8,'D5'!$AK$12:$AK$4999,"taip") -> 108428 | BQ15: =SUMIFS('D5'!$W$12:$W$4999,'D5'!$B$12:$B$4999,$B15,'D5'!$AH$12:$AH$4999,BQ$8,'D5'!$AK$12:$AK$4999,"taip") -> 68298 | BR15: =SUMIFS('D5'!$W$12:$W$4999,'D5'!$B$12:$B$4999,$B15,'D5'!$AH$12:$AH$4999,BR$8,'D5'!$AK$12:$AK$4999,"taip") -> 407038 | BS15: =SUMIFS('D5'!$W$12:$W$4999,'D5'!$B$12:$B$4999,$B15,'D5'!$AH$12:$AH$4999,BS$8,'D5'!$AK$12:$AK$4999,"taip") -> 0 | BT15: =SUMIFS('D5'!$W$12:$W$4999,'D5'!$B$12:$B$4999,$B15,'D5'!$AH$12:$AH$4999,BT$8,'D5'!$AK$12:$AK$4999,"taip") -> 0 | BU15: =IF($H15>0,BM15/$H15*100,0) -> 52.921847 | BV15: =IF($H15>0,BN15/$H15*100,0) -> 0 | BW15: =IF($H15>0,BO15/$H15*100,0) -> 2.7956221 | BX15: =IF($H15>0,BP15/$H15*100,0) -> 9.3104171 | BY15: =IF($H15>0,BQ15/$H15*100,0) -> 5.8645633 | BZ15: =IF($H15>0,BR15/$H15*100,0) -> 34.951245 | CA15: =IF($H15>0,BS15/$H15*100,0) -> 0 | CB15: =IF($H15>0,BT15/$H15*100,0) -> 0
B16: ='VPS1'!A12 -> MAŽE-LEADER-19.2-4 | C16: ='VPS1'!B12 -> MAŽE | D16: ='VPS1'!C12 -> 1 | E16: ='VPS1'!D12 -> Priemonė „Investicijos j materialųjį turtą“ | F16: ='VPS1'!E12 -> LEADER-19.2-4 | G16: ='VPS1'!G12 -> EŽŪFKP | H16: ='VPS1'!F12 -> 0 | I16: =SUM(J16:P16) -> 0 | J16: =COUNTIFS('D5'!$B$12:$B$4999,$B16,'D5'!$AF$12:$AF$4999,J$8,'D5'!$AI$12:$AI$4999,"taip") -> 0 | K16: =COUNTIFS('D5'!$B$12:$B$4999,$B16,'D5'!$AF$12:$AF$4999,K$8,'D5'!$AI$12:$AI$4999,"taip") -> 0 | L16: =COUNTIFS('D5'!$B$12:$B$4999,$B16,'D5'!$AF$12:$AF$4999,L$8,'D5'!$AI$12:$AI$4999,"taip") -> 0 | M16: =COUNTIFS('D5'!$B$12:$B$4999,$B16,'D5'!$AF$12:$AF$4999,M$8,'D5'!$AI$12:$AI$4999,"taip") -> 0 | N16: =COUNTIFS('D5'!$B$12:$B$4999,$B16,'D5'!$AF$12:$AF$4999,N$8,'D5'!$AI$12:$AI$4999,"taip") -> 0 | O16: =COUNTIFS('D5'!$B$12:$B$4999,$B16,'D5'!$AF$12:$AF$4999,O$8,'D5'!$AI$12:$AI$4999,"taip") -> 0 | P16: =COUNTIFS('D5'!$B$12:$B$4999,$B16,'D5'!$AF$12:$AF$4999,P$8,'D5'!$AI$12:$AI$4999,"taip") -> 0 | Q16: =SUM(R16:X16) -> 0 | R16: =SUMIFS('D5'!$W$12:$W$4999,'D5'!$B$12:$B$4999,$B16,'D5'!$AF$12:$AF$4999,R$8,'D5'!$AI$12:$AI$4999,"taip") -> 0 | S16: =SUMIFS('D5'!$W$12:$W$4999,'D5'!$B$12:$B$4999,$B16,'D5'!$AF$12:$AF$4999,S$8,'D5'!$AI$12:$AI$4999,"taip") -> 0 | T16: =SUMIFS('D5'!$W$12:$W$4999,'D5'!$B$12:$B$4999,$B16,'D5'!$AF$12:$AF$4999,T$8,'D5'!$AI$12:$AI$4999,"taip") -> 0 | U16: =SUMIFS('D5'!$W$12:$W$4999,'D5'!$B$12:$B$4999,$B16,'D5'!$AF$12:$AF$4999,U$8,'D5'!$AI$12:$AI$4999,"taip") -> 0 | V16: =SUMIFS('D5'!$W$12:$W$4999,'D5'!$B$12:$B$4999,$B16,'D5'!$AF$12:$AF$4999,V$8,'D5'!$AI$12:$AI$4999,"taip") -> 0 | W16: =SUMIFS('D5'!$W$12:$W$4999,'D5'!$B$12:$B$4999,$B16,'D5'!$AF$12:$AF$4999,W$8,'D5'!$AI$12:$AI$4999,"taip") -> 0 | X16: =SUMIFS('D5'!$W$12:$W$4999,'D5'!$B$12:$B$4999,$B16,'D5'!$AF$12:$AF$4999,X$8,'D5'!$AI$12:$AI$4999,"taip") -> 0 | Y16: =IF($H16>0,Q16/$H16*100,0) -> 0 | Z16: =IF($H16>0,R16/$H16*100,0) -> 0 | AA16: =IF($H16>0,S16/$H16*100,0) -> 0 | AB16: =IF($H16>0,T16/$H16*100,0) -> 0 | AC16: =IF($H16>0,U16/$H16*100,0) -> 0 | AD16: =IF($H16>0,V16/$H16*100,0) -> 0 | AE16: =IF($H16>0,W16/$H16*100,0) -> 0 | AF16: =IF($H16>0,X16/$H16*100,0) -> 0 | AG16: =SUM(AH16:AN16) -> 0 | AH16: =COUNTIFS('D5'!$B$12:$B$4999,$B16,'D5'!$AG$12:$AG$4999,AH$8,'D5'!$AJ$12:$AJ$4999,"taip") -> 0 | AI16: =COUNTIFS('D5'!$B$12:$B$4999,$B16,'D5'!$AG$12:$AG$4999,AI$8,'D5'!$AJ$12:$AJ$4999,"taip") -> 0 | AJ16: =COUNTIFS('D5'!$B$12:$B$4999,$B16,'D5'!$AG$12:$AG$4999,AJ$8,'D5'!$AJ$12:$AJ$4999,"taip") -> 0 | AK16: =COUNTIFS('D5'!$B$12:$B$4999,$B16,'D5'!$AG$12:$AG$4999,AK$8,'D5'!$AJ$12:$AJ$4999,"taip") -> 0 | AL16: =COUNTIFS('D5'!$B$12:$B$4999,$B16,'D5'!$AG$12:$AG$4999,AL$8,'D5'!$AJ$12:$AJ$4999,"taip") -> 0 | AM16: =COUNTIFS('D5'!$B$12:$B$4999,$B16,'D5'!$AG$12:$AG$4999,AM$8,'D5'!$AJ$12:$AJ$4999,"taip") -> 0 | AN16: =COUNTIFS('D5'!$B$12:$B$4999,$B16,'D5'!$AG$12:$AG$4999,AN$8,'D5'!$AJ$12:$AJ$4999,"taip") -> 0 | AO16: =SUM(AP16:AV16) -> 0 | AP16: =SUMIFS('D5'!$W$12:$W$4999,'D5'!$B$12:$B$4999,$B16,'D5'!$AG$12:$AG$4999,AP$8,'D5'!$AJ$12:$AJ$4999,"taip") -> 0 | AQ16: =SUMIFS('D5'!$W$12:$W$4999,'D5'!$B$12:$B$4999,$B16,'D5'!$AG$12:$AG$4999,AQ$8,'D5'!$AJ$12:$AJ$4999,"taip") -> 0 | AR16: =SUMIFS('D5'!$W$12:$W$4999,'D5'!$B$12:$B$4999,$B16,'D5'!$AG$12:$AG$4999,AR$8,'D5'!$AJ$12:$AJ$4999,"taip") -> 0 | AS16: =SUMIFS('D5'!$W$12:$W$4999,'D5'!$B$12:$B$4999,$B16,'D5'!$AG$12:$AG$4999,AS$8,'D5'!$AJ$12:$AJ$4999,"taip") -> 0 | AT16: =SUMIFS('D5'!$W$12:$W$4999,'D5'!$B$12:$B$4999,$B16,'D5'!$AG$12:$AG$4999,AT$8,'D5'!$AJ$12:$AJ$4999,"taip") -> 0 | AU16: =SUMIFS('D5'!$W$12:$W$4999,'D5'!$B$12:$B$4999,$B16,'D5'!$AG$12:$AG$4999,AU$8,'D5'!$AJ$12:$AJ$4999,"taip") -> 0 | AV16: =SUMIFS('D5'!$W$12:$W$4999,'D5'!$B$12:$B$4999,$B16,'D5'!$AG$12:$AG$4999,AV$8,'D5'!$AJ$12:$AJ$4999,"taip") -> 0 | AW16: =IF($H16>0,AO16/$H16*100,0) -> 0 | AX16: =IF($H16>0,AP16/$H16*100,0) -> 0 | AY16: =IF($H16>0,AQ16/$H16*100,0) -> 0 | AZ16: =IF($H16>0,AR16/$H16*100,0) -> 0 | BA16: =IF($H16>0,AS16/$H16*100,0) -> 0 | BB16: =IF($H16>0,AT16/$H16*100,0) -> 0 | BC16: =IF($H16>0,AU16/$H16*100,0) -> 0 | BD16: =IF($H16>0,AV16/$H16*100,0) -> 0 | BE16: =SUM(BF16:BL16) -> 0 | BF16: =COUNTIFS('D5'!$B$12:$B$4999,$B16,'D5'!$AH$12:$AH$4999,BF$8,'D5'!$AK$12:$AK$4999,"taip") -> 0 | BG16: =COUNTIFS('D5'!$B$12:$B$4999,$B16,'D5'!$AH$12:$AH$4999,BG$8,'D5'!$AK$12:$AK$4999,"taip") -> 0 | BH16: =COUNTIFS('D5'!$B$12:$B$4999,$B16,'D5'!$AH$12:$AH$4999,BH$8,'D5'!$AK$12:$AK$4999,"taip") -> 0 | BI16: =COUNTIFS('D5'!$B$12:$B$4999,$B16,'D5'!$AH$12:$AH$4999,BI$8,'D5'!$AK$12:$AK$4999,"taip") -> 0 | BJ16: =COUNTIFS('D5'!$B$12:$B$4999,$B16,'D5'!$AH$12:$AH$4999,BJ$8,'D5'!$AK$12:$AK$4999,"taip") -> 0 | BK16: =COUNTIFS('D5'!$B$12:$B$4999,$B16,'D5'!$AH$12:$AH$4999,BK$8,'D5'!$AK$12:$AK$4999,"taip") -> 0 | BL16: =COUNTIFS('D5'!$B$12:$B$4999,$B16,'D5'!$AH$12:$AH$4999,BL$8,'D5'!$AK$12:$AK$4999,"taip") -> 0 | BM16: =SUM(BN16:BT16) -> 0 | BN16: =SUMIFS('D5'!$W$12:$W$4999,'D5'!$B$12:$B$4999,$B16,'D5'!$AH$12:$AH$4999,BN$8,'D5'!$AK$12:$AK$4999,"taip") -> 0 | BO16: =SUMIFS('D5'!$W$12:$W$4999,'D5'!$B$12:$B$4999,$B16,'D5'!$AH$12:$AH$4999,BO$8,'D5'!$AK$12:$AK$4999,"taip") -> 0 | BP16: =SUMIFS('D5'!$W$12:$W$4999,'D5'!$B$12:$B$4999,$B16,'D5'!$AH$12:$AH$4999,BP$8,'D5'!$AK$12:$AK$4999,"taip") -> 0 | BQ16: =SUMIFS('D5'!$W$12:$W$4999,'D5'!$B$12:$B$4999,$B16,'D5'!$AH$12:$AH$4999,BQ$8,'D5'!$AK$12:$AK$4999,"taip") -> 0 | BR16: =SUMIFS('D5'!$W$12:$W$4999,'D5'!$B$12:$B$4999,$B16,'D5'!$AH$12:$AH$4999,BR$8,'D5'!$AK$12:$AK$4999,"taip") -> 0 | BS16: =SUMIFS('D5'!$W$12:$W$4999,'D5'!$B$12:$B$4999,$B16,'D5'!$AH$12:$AH$4999,BS$8,'D5'!$AK$12:$AK$4999,"taip") -> 0 | BT16: =SUMIFS('D5'!$W$12:$W$4999,'D5'!$B$12:$B$4999,$B16,'D5'!$AH$12:$AH$4999,BT$8,'D5'!$AK$12:$AK$4999,"taip") -> 0 | BU16: =IF($H16>0,BM16/$H16*100,0) -> 0 | BV16: =IF($H16>0,BN16/$H16*100,0) -> 0 | BW16: =IF($H16>0,BO16/$H16*100,0) -> 0 | BX16: =IF($H16>0,BP16/$H16*100,0) -> 0 | BY16: =IF($H16>0,BQ16/$H16*100,0) -> 0 | BZ16: =IF($H16>0,BR16/$H16*100,0) -> 0 | CA16: =IF($H16>0,BS16/$H16*100,0) -> 0 | CB16: =IF($H16>0,BT16/$H16*100,0) -> 0
B17: ='VPS1'!A13 -> MAŽE-LEADER-19.2-4.2 | C17: ='VPS1'!B13 -> MAŽE | D17: ='VPS1'!C13 -> 2 | E17: ='VPS1'!D13 -> - veiklos sritis „Parama žemės ūkio produktų perdirbimui, rinkodarai ir (arba) plėtrai “ | F17: ='VPS1'!E13 -> LEADER-19.2-4.2 | G17: ='VPS1'!G13 -> EŽŪFKP | H17: ='VPS1'!F13 -> 0 | I17: =SUM(J17:P17) -> 0 | J17: =COUNTIFS('D5'!$B$12:$B$4999,$B17,'D5'!$AF$12:$AF$4999,J$8,'D5'!$AI$12:$AI$4999,"taip") -> 0 | K17: =COUNTIFS('D5'!$B$12:$B$4999,$B17,'D5'!$AF$12:$AF$4999,K$8,'D5'!$AI$12:$AI$4999,"taip") -> 0 | L17: =COUNTIFS('D5'!$B$12:$B$4999,$B17,'D5'!$AF$12:$AF$4999,L$8,'D5'!$AI$12:$AI$4999,"taip") -> 0 | M17: =COUNTIFS('D5'!$B$12:$B$4999,$B17,'D5'!$AF$12:$AF$4999,M$8,'D5'!$AI$12:$AI$4999,"taip") -> 0 | N17: =COUNTIFS('D5'!$B$12:$B$4999,$B17,'D5'!$AF$12:$AF$4999,N$8,'D5'!$AI$12:$AI$4999,"taip") -> 0 | O17: =COUNTIFS('D5'!$B$12:$B$4999,$B17,'D5'!$AF$12:$AF$4999,O$8,'D5'!$AI$12:$AI$4999,"taip") -> 0 | P17: =COUNTIFS('D5'!$B$12:$B$4999,$B17,'D5'!$AF$12:$AF$4999,P$8,'D5'!$AI$12:$AI$4999,"taip") -> 0 | Q17: =SUM(R17:X17) -> 0 | R17: =SUMIFS('D5'!$W$12:$W$4999,'D5'!$B$12:$B$4999,$B17,'D5'!$AF$12:$AF$4999,R$8,'D5'!$AI$12:$AI$4999,"taip") -> 0 | S17: =SUMIFS('D5'!$W$12:$W$4999,'D5'!$B$12:$B$4999,$B17,'D5'!$AF$12:$AF$4999,S$8,'D5'!$AI$12:$AI$4999,"taip") -> 0 | T17: =SUMIFS('D5'!$W$12:$W$4999,'D5'!$B$12:$B$4999,$B17,'D5'!$AF$12:$AF$4999,T$8,'D5'!$AI$12:$AI$4999,"taip") -> 0 | U17: =SUMIFS('D5'!$W$12:$W$4999,'D5'!$B$12:$B$4999,$B17,'D5'!$AF$12:$AF$4999,U$8,'D5'!$AI$12:$AI$4999,"taip") -> 0 | V17: =SUMIFS('D5'!$W$12:$W$4999,'D5'!$B$12:$B$4999,$B17,'D5'!$AF$12:$AF$4999,V$8,'D5'!$AI$12:$AI$4999,"taip") -> 0 | W17: =SUMIFS('D5'!$W$12:$W$4999,'D5'!$B$12:$B$4999,$B17,'D5'!$AF$12:$AF$4999,W$8,'D5'!$AI$12:$AI$4999,"taip") -> 0 | X17: =SUMIFS('D5'!$W$12:$W$4999,'D5'!$B$12:$B$4999,$B17,'D5'!$AF$12:$AF$4999,X$8,'D5'!$AI$12:$AI$4999,"taip") -> 0 | Y17: =IF($H17>0,Q17/$H17*100,0) -> 0 | Z17: =IF($H17>0,R17/$H17*100,0) -> 0 | AA17: =IF($H17>0,S17/$H17*100,0) -> 0 | AB17: =IF($H17>0,T17/$H17*100,0) -> 0 | AC17: =IF($H17>0,U17/$H17*100,0) -> 0 | AD17: =IF($H17>0,V17/$H17*100,0) -> 0 | AE17: =IF($H17>0,W17/$H17*100,0) -> 0 | AF17: =IF($H17>0,X17/$H17*100,0) -> 0 | AG17: =SUM(AH17:AN17) -> 0 | AH17: =COUNTIFS('D5'!$B$12:$B$4999,$B17,'D5'!$AG$12:$AG$4999,AH$8,'D5'!$AJ$12:$AJ$4999,"taip") -> 0 | AI17: =COUNTIFS('D5'!$B$12:$B$4999,$B17,'D5'!$AG$12:$AG$4999,AI$8,'D5'!$AJ$12:$AJ$4999,"taip") -> 0 | AJ17: =COUNTIFS('D5'!$B$12:$B$4999,$B17,'D5'!$AG$12:$AG$4999,AJ$8,'D5'!$AJ$12:$AJ$4999,"taip") -> 0 | AK17: =COUNTIFS('D5'!$B$12:$B$4999,$B17,'D5'!$AG$12:$AG$4999,AK$8,'D5'!$AJ$12:$AJ$4999,"taip") -> 0 | AL17: =COUNTIFS('D5'!$B$12:$B$4999,$B17,'D5'!$AG$12:$AG$4999,AL$8,'D5'!$AJ$12:$AJ$4999,"taip") -> 0 | AM17: =COUNTIFS('D5'!$B$12:$B$4999,$B17,'D5'!$AG$12:$AG$4999,AM$8,'D5'!$AJ$12:$AJ$4999,"taip") -> 0 | AN17: =COUNTIFS('D5'!$B$12:$B$4999,$B17,'D5'!$AG$12:$AG$4999,AN$8,'D5'!$AJ$12:$AJ$4999,"taip") -> 0 | AO17: =SUM(AP17:AV17) -> 0 | AP17: =SUMIFS('D5'!$W$12:$W$4999,'D5'!$B$12:$B$4999,$B17,'D5'!$AG$12:$AG$4999,AP$8,'D5'!$AJ$12:$AJ$4999,"taip") -> 0 | AQ17: =SUMIFS('D5'!$W$12:$W$4999,'D5'!$B$12:$B$4999,$B17,'D5'!$AG$12:$AG$4999,AQ$8,'D5'!$AJ$12:$AJ$4999,"taip") -> 0 | AR17: =SUMIFS('D5'!$W$12:$W$4999,'D5'!$B$12:$B$4999,$B17,'D5'!$AG$12:$AG$4999,AR$8,'D5'!$AJ$12:$AJ$4999,"taip") -> 0 | AS17: =SUMIFS('D5'!$W$12:$W$4999,'D5'!$B$12:$B$4999,$B17,'D5'!$AG$12:$AG$4999,AS$8,'D5'!$AJ$12:$AJ$4999,"taip") -> 0 | AT17: =SUMIFS('D5'!$W$12:$W$4999,'D5'!$B$12:$B$4999,$B17,'D5'!$AG$12:$AG$4999,AT$8,'D5'!$AJ$12:$AJ$4999,"taip") -> 0 | AU17: =SUMIFS('D5'!$W$12:$W$4999,'D5'!$B$12:$B$4999,$B17,'D5'!$AG$12:$AG$4999,AU$8,'D5'!$AJ$12:$AJ$4999,"taip") -> 0 | AV17: =SUMIFS('D5'!$W$12:$W$4999,'D5'!$B$12:$B$4999,$B17,'D5'!$AG$12:$AG$4999,AV$8,'D5'!$AJ$12:$AJ$4999,"taip") -> 0 | AW17: =IF($H17>0,AO17/$H17*100,0) -> 0 | AX17: =IF($H17>0,AP17/$H17*100,0) -> 0 | AY17: =IF($H17>0,AQ17/$H17*100,0) -> 0 | AZ17: =IF($H17>0,AR17/$H17*100,0) -> 0 | BA17: =IF($H17>0,AS17/$H17*100,0) -> 0 | BB17: =IF($H17>0,AT17/$H17*100,0) -> 0 | BC17: =IF($H17>0,AU17/$H17*100,0) -> 0 | BD17: =IF($H17>0,AV17/$H17*100,0) -> 0 | BE17: =SUM(BF17:BL17) -> 0 | BF17: =COUNTIFS('D5'!$B$12:$B$4999,$B17,'D5'!$AH$12:$AH$4999,BF$8,'D5'!$AK$12:$AK$4999,"taip") -> 0 | BG17: =COUNTIFS('D5'!$B$12:$B$4999,$B17,'D5'!$AH$12:$AH$4999,BG$8,'D5'!$AK$12:$AK$4999,"taip") -> 0 | BH17: =COUNTIFS('D5'!$B$12:$B$4999,$B17,'D5'!$AH$12:$AH$4999,BH$8,'D5'!$AK$12:$AK$4999,"taip") -> 0 | BI17: =COUNTIFS('D5'!$B$12:$B$4999,$B17,'D5'!$AH$12:$AH$4999,BI$8,'D5'!$AK$12:$AK$4999,"taip") -> 0 | BJ17: =COUNTIFS('D5'!$B$12:$B$4999,$B17,'D5'!$AH$12:$AH$4999,BJ$8,'D5'!$AK$12:$AK$4999,"taip") -> 0 | BK17: =COUNTIFS('D5'!$B$12:$B$4999,$B17,'D5'!$AH$12:$AH$4999,BK$8,'D5'!$AK$12:$AK$4999,"taip") -> 0 | BL17: =COUNTIFS('D5'!$B$12:$B$4999,$B17,'D5'!$AH$12:$AH$4999,BL$8,'D5'!$AK$12:$AK$4999,"taip") -> 0 | BM17: =SUM(BN17:BT17) -> 0 | BN17: =SUMIFS('D5'!$W$12:$W$4999,'D5'!$B$12:$B$4999,$B17,'D5'!$AH$12:$AH$4999,BN$8,'D5'!$AK$12:$AK$4999,"taip") -> 0 | BO17: =SUMIFS('D5'!$W$12:$W$4999,'D5'!$B$12:$B$4999,$B17,'D5'!$AH$12:$AH$4999,BO$8,'D5'!$AK$12:$AK$4999,"taip") -> 0 | BP17: =SUMIFS('D5'!$W$12:$W$4999,'D5'!$B$12:$B$4999,$B17,'D5'!$AH$12:$AH$4999,BP$8,'D5'!$AK$12:$AK$4999,"taip") -> 0 | BQ17: =SUMIFS('D5'!$W$12:$W$4999,'D5'!$B$12:$B$4999,$B17,'D5'!$AH$12:$AH$4999,BQ$8,'D5'!$AK$12:$AK$4999,"taip") -> 0 | BR17: =SUMIFS('D5'!$W$12:$W$4999,'D5'!$B$12:$B$4999,$B17,'D5'!$AH$12:$AH$4999,BR$8,'D5'!$AK$12:$AK$4999,"taip") -> 0 | BS17: =SUMIFS('D5'!$W$12:$W$4999,'D5'!$B$12:$B$4999,$B17,'D5'!$AH$12:$AH$4999,BS$8,'D5'!$AK$12:$AK$4999,"taip") -> 0 | BT17: =SUMIFS('D5'!$W$12:$W$4999,'D5'!$B$12:$B$4999,$B17,'D5'!$AH$12:$AH$4999,BT$8,'D5'!$AK$12:$AK$4999,"taip") -> 0 | BU17: =IF($H17>0,BM17/$H17*100,0) -> 0 | BV17: =IF($H17>0,BN17/$H17*100,0) -> 0 | BW17: =IF($H17>0,BO17/$H17*100,0) -> 0 | BX17: =IF($H17>0,BP17/$H17*100,0) -> 0 | BY17: =IF($H17>0,BQ17/$H17*100,0) -> 0 | BZ17: =IF($H17>0,BR17/$H17*100,0) -> 0 | CA17: =IF($H17>0,BS17/$H17*100,0) -> 0 | CB17: =IF($H17>0,BT17/$H17*100,0) -> 0
B18: ='VPS1'!A14 -> MAŽE-LEADER-19.2-SAVA-1 | C18: ='VPS1'!B14 -> MAŽE | D18: ='VPS1'!C14 -> 3 | E18: ='VPS1'!D14 -> Priemonė „NVO socialinio verslo kūrimas ir plėtra“ (kai socialinio verslo iniciatorius - NVO) | F18: ='VPS1'!E14 -> LEADER-19.2-SAVA-1 | G18: ='VPS1'!G14 -> EŽŪFKP | H18: ='VPS1'!F14 -> 163822 | I18: =SUM(J18:P18) -> 1 | J18: =COUNTIFS('D5'!$B$12:$B$4999,$B18,'D5'!$AF$12:$AF$4999,J$8,'D5'!$AI$12:$AI$4999,"taip") -> 0 | K18: =COUNTIFS('D5'!$B$12:$B$4999,$B18,'D5'!$AF$12:$AF$4999,K$8,'D5'!$AI$12:$AI$4999,"taip") -> 0 | L18: =COUNTIFS('D5'!$B$12:$B$4999,$B18,'D5'!$AF$12:$AF$4999,L$8,'D5'!$AI$12:$AI$4999,"taip") -> 0 | M18: =COUNTIFS('D5'!$B$12:$B$4999,$B18,'D5'!$AF$12:$AF$4999,M$8,'D5'!$AI$12:$AI$4999,"taip") -> 0 | N18: =COUNTIFS('D5'!$B$12:$B$4999,$B18,'D5'!$AF$12:$AF$4999,N$8,'D5'!$AI$12:$AI$4999,"taip") -> 1 | O18: =COUNTIFS('D5'!$B$12:$B$4999,$B18,'D5'!$AF$12:$AF$4999,O$8,'D5'!$AI$12:$AI$4999,"taip") -> 0 | P18: =COUNTIFS('D5'!$B$12:$B$4999,$B18,'D5'!$AF$12:$AF$4999,P$8,'D5'!$AI$12:$AI$4999,"taip") -> 0 | Q18: =SUM(R18:X18) -> 53716 | R18: =SUMIFS('D5'!$W$12:$W$4999,'D5'!$B$12:$B$4999,$B18,'D5'!$AF$12:$AF$4999,R$8,'D5'!$AI$12:$AI$4999,"taip") -> 0 | S18: =SUMIFS('D5'!$W$12:$W$4999,'D5'!$B$12:$B$4999,$B18,'D5'!$AF$12:$AF$4999,S$8,'D5'!$AI$12:$AI$4999,"taip") -> 0 | T18: =SUMIFS('D5'!$W$12:$W$4999,'D5'!$B$12:$B$4999,$B18,'D5'!$AF$12:$AF$4999,T$8,'D5'!$AI$12:$AI$4999,"taip") -> 0 | U18: =SUMIFS('D5'!$W$12:$W$4999,'D5'!$B$12:$B$4999,$B18,'D5'!$AF$12:$AF$4999,U$8,'D5'!$AI$12:$AI$4999,"taip") -> 0 | V18: =SUMIFS('D5'!$W$12:$W$4999,'D5'!$B$12:$B$4999,$B18,'D5'!$AF$12:$AF$4999,V$8,'D5'!$AI$12:$AI$4999,"taip") -> 53716 | W18: =SUMIFS('D5'!$W$12:$W$4999,'D5'!$B$12:$B$4999,$B18,'D5'!$AF$12:$AF$4999,W$8,'D5'!$AI$12:$AI$4999,"taip") -> 0 | X18: =SUMIFS('D5'!$W$12:$W$4999,'D5'!$B$12:$B$4999,$B18,'D5'!$AF$12:$AF$4999,X$8,'D5'!$AI$12:$AI$4999,"taip") -> 0 | Y18: =IF($H18>0,Q18/$H18*100,0) -> 32.789247 | Z18: =IF($H18>0,R18/$H18*100,0) -> 0 | AA18: =IF($H18>0,S18/$H18*100,0) -> 0 | AB18: =IF($H18>0,T18/$H18*100,0) -> 0 | AC18: =IF($H18>0,U18/$H18*100,0) -> 0 | AD18: =IF($H18>0,V18/$H18*100,0) -> 32.789247 | AE18: =IF($H18>0,W18/$H18*100,0) -> 0 | AF18: =IF($H18>0,X18/$H18*100,0) -> 0 | AG18: =SUM(AH18:AN18) -> 1 | AH18: =COUNTIFS('D5'!$B$12:$B$4999,$B18,'D5'!$AG$12:$AG$4999,AH$8,'D5'!$AJ$12:$AJ$4999,"taip") -> 0 | AI18: =COUNTIFS('D5'!$B$12:$B$4999,$B18,'D5'!$AG$12:$AG$4999,AI$8,'D5'!$AJ$12:$AJ$4999,"taip") -> 0 | AJ18: =COUNTIFS('D5'!$B$12:$B$4999,$B18,'D5'!$AG$12:$AG$4999,AJ$8,'D5'!$AJ$12:$AJ$4999,"taip") -> 0 | AK18: =COUNTIFS('D5'!$B$12:$B$4999,$B18,'D5'!$AG$12:$AG$4999,AK$8,'D5'!$AJ$12:$AJ$4999,"taip") -> 0 | AL18: =COUNTIFS('D5'!$B$12:$B$4999,$B18,'D5'!$AG$12:$AG$4999,AL$8,'D5'!$AJ$12:$AJ$4999,"taip") -> 1 | AM18: =COUNTIFS('D5'!$B$12:$B$4999,$B18,'D5'!$AG$12:$AG$4999,AM$8,'D5'!$AJ$12:$AJ$4999,"taip") -> 0 | AN18: =COUNTIFS('D5'!$B$12:$B$4999,$B18,'D5'!$AG$12:$AG$4999,AN$8,'D5'!$AJ$12:$AJ$4999,"taip") -> 0 | AO18: =SUM(AP18:AV18) -> 53716 | AP18: =SUMIFS('D5'!$W$12:$W$4999,'D5'!$B$12:$B$4999,$B18,'D5'!$AG$12:$AG$4999,AP$8,'D5'!$AJ$12:$AJ$4999,"taip") -> 0 | AQ18: =SUMIFS('D5'!$W$12:$W$4999,'D5'!$B$12:$B$4999,$B18,'D5'!$AG$12:$AG$4999,AQ$8,'D5'!$AJ$12:$AJ$4999,"taip") -> 0 | AR18: =SUMIFS('D5'!$W$12:$W$4999,'D5'!$B$12:$B$4999,$B18,'D5'!$AG$12:$AG$4999,AR$8,'D5'!$AJ$12:$AJ$4999,"taip") -> 0 | AS18: =SUMIFS('D5'!$W$12:$W$4999,'D5'!$B$12:$B$4999,$B18,'D5'!$AG$12:$AG$4999,AS$8,'D5'!$AJ$12:$AJ$4999,"taip") -> 0 | AT18: =SUMIFS('D5'!$W$12:$W$4999,'D5'!$B$12:$B$4999,$B18,'D5'!$AG$12:$AG$4999,AT$8,'D5'!$AJ$12:$AJ$4999,"taip") -> 53716 | AU18: =SUMIFS('D5'!$W$12:$W$4999,'D5'!$B$12:$B$4999,$B18,'D5'!$AG$12:$AG$4999,AU$8,'D5'!$AJ$12:$AJ$4999,"taip") -> 0 | AV18: =SUMIFS('D5'!$W$12:$W$4999,'D5'!$B$12:$B$4999,$B18,'D5'!$AG$12:$AG$4999,AV$8,'D5'!$AJ$12:$AJ$4999,"taip") -> 0 | AW18: =IF($H18>0,AO18/$H18*100,0) -> 32.789247 | AX18: =IF($H18>0,AP18/$H18*100,0) -> 0 | AY18: =IF($H18>0,AQ18/$H18*100,0) -> 0 | AZ18: =IF($H18>0,AR18/$H18*100,0) -> 0 | BA18: =IF($H18>0,AS18/$H18*100,0) -> 0 | BB18: =IF($H18>0,AT18/$H18*100,0) -> 32.789247 | BC18: =IF($H18>0,AU18/$H18*100,0) -> 0 | BD18: =IF($H18>0,AV18/$H18*100,0) -> 0 | BE18: =SUM(BF18:BL18) -> 0 | BF18: =COUNTIFS('D5'!$B$12:$B$4999,$B18,'D5'!$AH$12:$AH$4999,BF$8,'D5'!$AK$12:$AK$4999,"taip") -> 0 | BG18: =COUNTIFS('D5'!$B$12:$B$4999,$B18,'D5'!$AH$12:$AH$4999,BG$8,'D5'!$AK$12:$AK$4999,"taip") -> 0 | BH18: =COUNTIFS('D5'!$B$12:$B$4999,$B18,'D5'!$AH$12:$AH$4999,BH$8,'D5'!$AK$12:$AK$4999,"taip") -> 0 | BI18: =COUNTIFS('D5'!$B$12:$B$4999,$B18,'D5'!$AH$12:$AH$4999,BI$8,'D5'!$AK$12:$AK$4999,"taip") -> 0 | BJ18: =COUNTIFS('D5'!$B$12:$B$4999,$B18,'D5'!$AH$12:$AH$4999,BJ$8,'D5'!$AK$12:$AK$4999,"taip") -> 0 | BK18: =COUNTIFS('D5'!$B$12:$B$4999,$B18,'D5'!$AH$12:$AH$4999,BK$8,'D5'!$AK$12:$AK$4999,"taip") -> 0 | BL18: =COUNTIFS('D5'!$B$12:$B$4999,$B18,'D5'!$AH$12:$AH$4999,BL$8,'D5'!$AK$12:$AK$4999,"taip") -> 0 | BM18: =SUM(BN18:BT18) -> 0 | BN18: =SUMIFS('D5'!$W$12:$W$4999,'D5'!$B$12:$B$4999,$B18,'D5'!$AH$12:$AH$4999,BN$8,'D5'!$AK$12:$AK$4999,"taip") -> 0 | BO18: =SUMIFS('D5'!$W$12:$W$4999,'D5'!$B$12:$B$4999,$B18,'D5'!$AH$12:$AH$4999,BO$8,'D5'!$AK$12:$AK$4999,"taip") -> 0 | BP18: =SUMIFS('D5'!$W$12:$W$4999,'D5'!$B$12:$B$4999,$B18,'D5'!$AH$12:$AH$4999,BP$8,'D5'!$AK$12:$AK$4999,"taip") -> 0 | BQ18: =SUMIFS('D5'!$W$12:$W$4999,'D5'!$B$12:$B$4999,$B18,'D5'!$AH$12:$AH$4999,BQ$8,'D5'!$AK$12:$AK$4999,"taip") -> 0 | BR18: =SUMIFS('D5'!$W$12:$W$4999,'D5'!$B$12:$B$4999,$B18,'D5'!$AH$12:$AH$4999,BR$8,'D5'!$AK$12:$AK$4999,"taip") -> 0 | BS18: =SUMIFS('D5'!$W$12:$W$4999,'D5'!$B$12:$B$4999,$B18,'D5'!$AH$12:$AH$4999,BS$8,'D5'!$AK$12:$AK$4999,"taip") -> 0 | BT18: =SUMIFS('D5'!$W$12:$W$4999,'D5'!$B$12:$B$4999,$B18,'D5'!$AH$12:$AH$4999,BT$8,'D5'!$AK$12:$AK$4999,"taip") -> 0 | BU18: =IF($H18>0,BM18/$H18*100,0) -> 0 | BV18: =IF($H18>0,BN18/$H18*100,0) -> 0 | BW18: =IF($H18>0,BO18/$H18*100,0) -> 0 | BX18: =IF($H18>0,BP18/$H18*100,0) -> 0 | BY18: =IF($H18>0,BQ18/$H18*100,0) -> 0 | BZ18: =IF($H18>0,BR18/$H18*100,0) -> 0 | CA18: =IF($H18>0,BS18/$H18*100,0) -> 0 | CB18: =IF($H18>0,BT18/$H18*100,0) -> 0
B19: ='VPS1'!A15 -> MAŽE-LEADER-19.2-7 | C19: ='VPS1'!B15 -> MAŽE | D19: ='VPS1'!C15 -> 1 | E19: ='VPS1'!D15 -> Priemonė „Pagrindinės paslaugos ir kaimų atnaujinimas kaimo vietovėse“ | F19: ='VPS1'!E15 -> LEADER-19.2-7 | G19: ='VPS1'!G15 -> EŽŪFKP | H19: ='VPS1'!F15 -> 0 | I19: =SUM(J19:P19) -> 0 | J19: =COUNTIFS('D5'!$B$12:$B$4999,$B19,'D5'!$AF$12:$AF$4999,J$8,'D5'!$AI$12:$AI$4999,"taip") -> 0 | K19: =COUNTIFS('D5'!$B$12:$B$4999,$B19,'D5'!$AF$12:$AF$4999,K$8,'D5'!$AI$12:$AI$4999,"taip") -> 0 | L19: =COUNTIFS('D5'!$B$12:$B$4999,$B19,'D5'!$AF$12:$AF$4999,L$8,'D5'!$AI$12:$AI$4999,"taip") -> 0 | M19: =COUNTIFS('D5'!$B$12:$B$4999,$B19,'D5'!$AF$12:$AF$4999,M$8,'D5'!$AI$12:$AI$4999,"taip") -> 0 | N19: =COUNTIFS('D5'!$B$12:$B$4999,$B19,'D5'!$AF$12:$AF$4999,N$8,'D5'!$AI$12:$AI$4999,"taip") -> 0 | O19: =COUNTIFS('D5'!$B$12:$B$4999,$B19,'D5'!$AF$12:$AF$4999,O$8,'D5'!$AI$12:$AI$4999,"taip") -> 0 | P19: =COUNTIFS('D5'!$B$12:$B$4999,$B19,'D5'!$AF$12:$AF$4999,P$8,'D5'!$AI$12:$AI$4999,"taip") -> 0 | Q19: =SUM(R19:X19) -> 0 | R19: =SUMIFS('D5'!$W$12:$W$4999,'D5'!$B$12:$B$4999,$B19,'D5'!$AF$12:$AF$4999,R$8,'D5'!$AI$12:$AI$4999,"taip") -> 0 | S19: =SUMIFS('D5'!$W$12:$W$4999,'D5'!$B$12:$B$4999,$B19,'D5'!$AF$12:$AF$4999,S$8,'D5'!$AI$12:$AI$4999,"taip") -> 0 | T19: =SUMIFS('D5'!$W$12:$W$4999,'D5'!$B$12:$B$4999,$B19,'D5'!$AF$12:$AF$4999,T$8,'D5'!$AI$12:$AI$4999,"taip") -> 0 | U19: =SUMIFS('D5'!$W$12:$W$4999,'D5'!$B$12:$B$4999,$B19,'D5'!$AF$12:$AF$4999,U$8,'D5'!$AI$12:$AI$4999,"taip") -> 0 | V19: =SUMIFS('D5'!$W$12:$W$4999,'D5'!$B$12:$B$4999,$B19,'D5'!$AF$12:$AF$4999,V$8,'D5'!$AI$12:$AI$4999,"taip") -> 0 | W19: =SUMIFS('D5'!$W$12:$W$4999,'D5'!$B$12:$B$4999,$B19,'D5'!$AF$12:$AF$4999,W$8,'D5'!$AI$12:$AI$4999,"taip") -> 0 | X19: =SUMIFS('D5'!$W$12:$W$4999,'D5'!$B$12:$B$4999,$B19,'D5'!$AF$12:$AF$4999,X$8,'D5'!$AI$12:$AI$4999,"taip") -> 0 | Y19: =IF($H19>0,Q19/$H19*100,0) -> 0 | Z19: =IF($H19>0,R19/$H19*100,0) -> 0 | AA19: =IF($H19>0,S19/$H19*100,0) -> 0 | AB19: =IF($H19>0,T19/$H19*100,0) -> 0 | AC19: =IF($H19>0,U19/$H19*100,0) -> 0 | AD19: =IF($H19>0,V19/$H19*100,0) -> 0 | AE19: =IF($H19>0,W19/$H19*100,0) -> 0 | AF19: =IF($H19>0,X19/$H19*100,0) -> 0 | AG19: =SUM(AH19:AN19) -> 0 | AH19: =COUNTIFS('D5'!$B$12:$B$4999,$B19,'D5'!$AG$12:$AG$4999,AH$8,'D5'!$AJ$12:$AJ$4999,"taip") -> 0 | AI19: =COUNTIFS('D5'!$B$12:$B$4999,$B19,'D5'!$AG$12:$AG$4999,AI$8,'D5'!$AJ$12:$AJ$4999,"taip") -> 0 | AJ19: =COUNTIFS('D5'!$B$12:$B$4999,$B19,'D5'!$AG$12:$AG$4999,AJ$8,'D5'!$AJ$12:$AJ$4999,"taip") -> 0 | AK19: =COUNTIFS('D5'!$B$12:$B$4999,$B19,'D5'!$AG$12:$AG$4999,AK$8,'D5'!$AJ$12:$AJ$4999,"taip") -> 0 | AL19: =COUNTIFS('D5'!$B$12:$B$4999,$B19,'D5'!$AG$12:$AG$4999,AL$8,'D5'!$AJ$12:$AJ$4999,"taip") -> 0 | AM19: =COUNTIFS('D5'!$B$12:$B$4999,$B19,'D5'!$AG$12:$AG$4999,AM$8,'D5'!$AJ$12:$AJ$4999,"taip") -> 0 | AN19: =COUNTIFS('D5'!$B$12:$B$4999,$B19,'D5'!$AG$12:$AG$4999,AN$8,'D5'!$AJ$12:$AJ$4999,"taip") -> 0 | AO19: =SUM(AP19:AV19) -> 0 | AP19: =SUMIFS('D5'!$W$12:$W$4999,'D5'!$B$12:$B$4999,$B19,'D5'!$AG$12:$AG$4999,AP$8,'D5'!$AJ$12:$AJ$4999,"taip") -> 0 | AQ19: =SUMIFS('D5'!$W$12:$W$4999,'D5'!$B$12:$B$4999,$B19,'D5'!$AG$12:$AG$4999,AQ$8,'D5'!$AJ$12:$AJ$4999,"taip") -> 0 | AR19: =SUMIFS('D5'!$W$12:$W$4999,'D5'!$B$12:$B$4999,$B19,'D5'!$AG$12:$AG$4999,AR$8,'D5'!$AJ$12:$AJ$4999,"taip") -> 0 | AS19: =SUMIFS('D5'!$W$12:$W$4999,'D5'!$B$12:$B$4999,$B19,'D5'!$AG$12:$AG$4999,AS$8,'D5'!$AJ$12:$AJ$4999,"taip") -> 0 | AT19: =SUMIFS('D5'!$W$12:$W$4999,'D5'!$B$12:$B$4999,$B19,'D5'!$AG$12:$AG$4999,AT$8,'D5'!$AJ$12:$AJ$4999,"taip") -> 0 | AU19: =SUMIFS('D5'!$W$12:$W$4999,'D5'!$B$12:$B$4999,$B19,'D5'!$AG$12:$AG$4999,AU$8,'D5'!$AJ$12:$AJ$4999,"taip") -> 0 | AV19: =SUMIFS('D5'!$W$12:$W$4999,'D5'!$B$12:$B$4999,$B19,'D5'!$AG$12:$AG$4999,AV$8,'D5'!$AJ$12:$AJ$4999,"taip") -> 0 | AW19: =IF($H19>0,AO19/$H19*100,0) -> 0 | AX19: =IF($H19>0,AP19/$H19*100,0) -> 0 | AY19: =IF($H19>0,AQ19/$H19*100,0) -> 0 | AZ19: =IF($H19>0,AR19/$H19*100,0) -> 0 | BA19: =IF($H19>0,AS19/$H19*100,0) -> 0 | BB19: =IF($H19>0,AT19/$H19*100,0) -> 0 | BC19: =IF($H19>0,AU19/$H19*100,0) -> 0 | BD19: =IF($H19>0,AV19/$H19*100,0) -> 0 | BE19: =SUM(BF19:BL19) -> 0 | BF19: =COUNTIFS('D5'!$B$12:$B$4999,$B19,'D5'!$AH$12:$AH$4999,BF$8,'D5'!$AK$12:$AK$4999,"taip") -> 0 | BG19: =COUNTIFS('D5'!$B$12:$B$4999,$B19,'D5'!$AH$12:$AH$4999,BG$8,'D5'!$AK$12:$AK$4999,"taip") -> 0 | BH19: =COUNTIFS('D5'!$B$12:$B$4999,$B19,'D5'!$AH$12:$AH$4999,BH$8,'D5'!$AK$12:$AK$4999,"taip") -> 0 | BI19: =COUNTIFS('D5'!$B$12:$B$4999,$B19,'D5'!$AH$12:$AH$4999,BI$8,'D5'!$AK$12:$AK$4999,"taip") -> 0 | BJ19: =COUNTIFS('D5'!$B$12:$B$4999,$B19,'D5'!$AH$12:$AH$4999,BJ$8,'D5'!$AK$12:$AK$4999,"taip") -> 0 | BK19: =COUNTIFS('D5'!$B$12:$B$4999,$B19,'D5'!$AH$12:$AH$4999,BK$8,'D5'!$AK$12:$AK$4999,"taip") -> 0 | BL19: =COUNTIFS('D5'!$B$12:$B$4999,$B19,'D5'!$AH$12:$AH$4999,BL$8,'D5'!$AK$12:$AK$4999,"taip") -> 0 | BM19: =SUM(BN19:BT19) -> 0 | BN19: =SUMIFS('D5'!$W$12:$W$4999,'D5'!$B$12:$B$4999,$B19,'D5'!$AH$12:$AH$4999,BN$8,'D5'!$AK$12:$AK$4999,"taip") -> 0 | BO19: =SUMIFS('D5'!$W$12:$W$4999,'D5'!$B$12:$B$4999,$B19,'D5'!$AH$12:$AH$4999,BO$8,'D5'!$AK$12:$AK$4999,"taip") -> 0 | BP19: =SUMIFS('D5'!$W$12:$W$4999,'D5'!$B$12:$B$4999,$B19,'D5'!$AH$12:$AH$4999,BP$8,'D5'!$AK$12:$AK$4999,"taip") -> 0 | BQ19: =SUMIFS('D5'!$W$12:$W$4999,'D5'!$B$12:$B$4999,$B19,'D5'!$AH$12:$AH$4999,BQ$8,'D5'!$AK$12:$AK$4999,"taip") -> 0 | BR19: =SUMIFS('D5'!$W$12:$W$4999,'D5'!$B$12:$B$4999,$B19,'D5'!$AH$12:$AH$4999,BR$8,'D5'!$AK$12:$AK$4999,"taip") -> 0 | BS19: =SUMIFS('D5'!$W$12:$W$4999,'D5'!$B$12:$B$4999,$B19,'D5'!$AH$12:$AH$4999,BS$8,'D5'!$AK$12:$AK$4999,"taip") -> 0 | BT19: =SUMIFS('D5'!$W$12:$W$4999,'D5'!$B$12:$B$4999,$B19,'D5'!$AH$12:$AH$4999,BT$8,'D5'!$AK$12:$AK$4999,"taip") -> 0 | BU19: =IF($H19>0,BM19/$H19*100,0) -> 0 | BV19: =IF($H19>0,BN19/$H19*100,0) -> 0 | BW19: =IF($H19>0,BO19/$H19*100,0) -> 0 | BX19: =IF($H19>0,BP19/$H19*100,0) -> 0 | BY19: =IF($H19>0,BQ19/$H19*100,0) -> 0 | BZ19: =IF($H19>0,BR19/$H19*100,0) -> 0 | CA19: =IF($H19>0,BS19/$H19*100,0) -> 0 | CB19: =IF($H19>0,BT19/$H19*100,0) -> 0
B20: ='VPS1'!A16 -> MAŽE-LEADER-19.2-7.2 | C20: ='VPS1'!B16 -> MAŽE | D20: ='VPS1'!C16 -> 2 | E20: ='VPS1'!D16 -> - veiklos sritis „Parama investicijoms į visų rūšių mažos apimties infrastruktūrą “ | F20: ='VPS1'!E16 -> LEADER-19.2-7.2 | G20: ='VPS1'!G16 -> EŽŪFKP | H20: ='VPS1'!F16 -> 154815 | I20: =SUM(J20:P20) -> 4 | J20: =COUNTIFS('D5'!$B$12:$B$4999,$B20,'D5'!$AF$12:$AF$4999,J$8,'D5'!$AI$12:$AI$4999,"taip") -> 0 | K20: =COUNTIFS('D5'!$B$12:$B$4999,$B20,'D5'!$AF$12:$AF$4999,K$8,'D5'!$AI$12:$AI$4999,"taip") -> 0 | L20: =COUNTIFS('D5'!$B$12:$B$4999,$B20,'D5'!$AF$12:$AF$4999,L$8,'D5'!$AI$12:$AI$4999,"taip") -> 3 | M20: =COUNTIFS('D5'!$B$12:$B$4999,$B20,'D5'!$AF$12:$AF$4999,M$8,'D5'!$AI$12:$AI$4999,"taip") -> 0 | N20: =COUNTIFS('D5'!$B$12:$B$4999,$B20,'D5'!$AF$12:$AF$4999,N$8,'D5'!$AI$12:$AI$4999,"taip") -> 1 | O20: =COUNTIFS('D5'!$B$12:$B$4999,$B20,'D5'!$AF$12:$AF$4999,O$8,'D5'!$AI$12:$AI$4999,"taip") -> 0 | P20: =COUNTIFS('D5'!$B$12:$B$4999,$B20,'D5'!$AF$12:$AF$4999,P$8,'D5'!$AI$12:$AI$4999,"taip") -> 0 | Q20: =SUM(R20:X20) -> 168434 | R20: =SUMIFS('D5'!$W$12:$W$4999,'D5'!$B$12:$B$4999,$B20,'D5'!$AF$12:$AF$4999,R$8,'D5'!$AI$12:$AI$4999,"taip") -> 0 | S20: =SUMIFS('D5'!$W$12:$W$4999,'D5'!$B$12:$B$4999,$B20,'D5'!$AF$12:$AF$4999,S$8,'D5'!$AI$12:$AI$4999,"taip") -> 0 | T20: =SUMIFS('D5'!$W$12:$W$4999,'D5'!$B$12:$B$4999,$B20,'D5'!$AF$12:$AF$4999,T$8,'D5'!$AI$12:$AI$4999,"taip") -> 97620 | U20: =SUMIFS('D5'!$W$12:$W$4999,'D5'!$B$12:$B$4999,$B20,'D5'!$AF$12:$AF$4999,U$8,'D5'!$AI$12:$AI$4999,"taip") -> 0 | V20: =SUMIFS('D5'!$W$12:$W$4999,'D5'!$B$12:$B$4999,$B20,'D5'!$AF$12:$AF$4999,V$8,'D5'!$AI$12:$AI$4999,"taip") -> 70814 | W20: =SUMIFS('D5'!$W$12:$W$4999,'D5'!$B$12:$B$4999,$B20,'D5'!$AF$12:$AF$4999,W$8,'D5'!$AI$12:$AI$4999,"taip") -> 0 | X20: =SUMIFS('D5'!$W$12:$W$4999,'D5'!$B$12:$B$4999,$B20,'D5'!$AF$12:$AF$4999,X$8,'D5'!$AI$12:$AI$4999,"taip") -> 0 | Y20: =IF($H20>0,Q20/$H20*100,0) -> 108.79695 | Z20: =IF($H20>0,R20/$H20*100,0) -> 0 | AA20: =IF($H20>0,S20/$H20*100,0) -> 0 | AB20: =IF($H20>0,T20/$H20*100,0) -> 63.055905 | AC20: =IF($H20>0,U20/$H20*100,0) -> 0 | AD20: =IF($H20>0,V20/$H20*100,0) -> 45.741046 | AE20: =IF($H20>0,W20/$H20*100,0) -> 0 | AF20: =IF($H20>0,X20/$H20*100,0) -> 0 | AG20: =SUM(AH20:AN20) -> 4 | AH20: =COUNTIFS('D5'!$B$12:$B$4999,$B20,'D5'!$AG$12:$AG$4999,AH$8,'D5'!$AJ$12:$AJ$4999,"taip") -> 0 | AI20: =COUNTIFS('D5'!$B$12:$B$4999,$B20,'D5'!$AG$12:$AG$4999,AI$8,'D5'!$AJ$12:$AJ$4999,"taip") -> 0 | AJ20: =COUNTIFS('D5'!$B$12:$B$4999,$B20,'D5'!$AG$12:$AG$4999,AJ$8,'D5'!$AJ$12:$AJ$4999,"taip") -> 2 | AK20: =COUNTIFS('D5'!$B$12:$B$4999,$B20,'D5'!$AG$12:$AG$4999,AK$8,'D5'!$AJ$12:$AJ$4999,"taip") -> 1 | AL20: =COUNTIFS('D5'!$B$12:$B$4999,$B20,'D5'!$AG$12:$AG$4999,AL$8,'D5'!$AJ$12:$AJ$4999,"taip") -> 1 | AM20: =COUNTIFS('D5'!$B$12:$B$4999,$B20,'D5'!$AG$12:$AG$4999,AM$8,'D5'!$AJ$12:$AJ$4999,"taip") -> 0 | AN20: =COUNTIFS('D5'!$B$12:$B$4999,$B20,'D5'!$AG$12:$AG$4999,AN$8,'D5'!$AJ$12:$AJ$4999,"taip") -> 0 | AO20: =SUM(AP20:AV20) -> 168434 | AP20: =SUMIFS('D5'!$W$12:$W$4999,'D5'!$B$12:$B$4999,$B20,'D5'!$AG$12:$AG$4999,AP$8,'D5'!$AJ$12:$AJ$4999,"taip") -> 0 | AQ20: =SUMIFS('D5'!$W$12:$W$4999,'D5'!$B$12:$B$4999,$B20,'D5'!$AG$12:$AG$4999,AQ$8,'D5'!$AJ$12:$AJ$4999,"taip") -> 0 | AR20: =SUMIFS('D5'!$W$12:$W$4999,'D5'!$B$12:$B$4999,$B20,'D5'!$AG$12:$AG$4999,AR$8,'D5'!$AJ$12:$AJ$4999,"taip") -> 48810 | AS20: =SUMIFS('D5'!$W$12:$W$4999,'D5'!$B$12:$B$4999,$B20,'D5'!$AG$12:$AG$4999,AS$8,'D5'!$AJ$12:$AJ$4999,"taip") -> 48810 | AT20: =SUMIFS('D5'!$W$12:$W$4999,'D5'!$B$12:$B$4999,$B20,'D5'!$AG$12:$AG$4999,AT$8,'D5'!$AJ$12:$AJ$4999,"taip") -> 70814 | AU20: =SUMIFS('D5'!$W$12:$W$4999,'D5'!$B$12:$B$4999,$B20,'D5'!$AG$12:$AG$4999,AU$8,'D5'!$AJ$12:$AJ$4999,"taip") -> 0 | AV20: =SUMIFS('D5'!$W$12:$W$4999,'D5'!$B$12:$B$4999,$B20,'D5'!$AG$12:$AG$4999,AV$8,'D5'!$AJ$12:$AJ$4999,"taip") -> 0 | AW20: =IF($H20>0,AO20/$H20*100,0) -> 108.79695 | AX20: =IF($H20>0,AP20/$H20*100,0) -> 0 | AY20: =IF($H20>0,AQ20/$H20*100,0) -> 0 | AZ20: =IF($H20>0,AR20/$H20*100,0) -> 31.527953 | BA20: =IF($H20>0,AS20/$H20*100,0) -> 31.527953 | BB20: =IF($H20>0,AT20/$H20*100,0) -> 45.741046 | BC20: =IF($H20>0,AU20/$H20*100,0) -> 0 | BD20: =IF($H20>0,AV20/$H20*100,0) -> 0 | BE20: =SUM(BF20:BL20) -> 2 | BF20: =COUNTIFS('D5'!$B$12:$B$4999,$B20,'D5'!$AH$12:$AH$4999,BF$8,'D5'!$AK$12:$AK$4999,"taip") -> 0 | BG20: =COUNTIFS('D5'!$B$12:$B$4999,$B20,'D5'!$AH$12:$AH$4999,BG$8,'D5'!$AK$12:$AK$4999,"taip") -> 0 | BH20: =COUNTIFS('D5'!$B$12:$B$4999,$B20,'D5'!$AH$12:$AH$4999,BH$8,'D5'!$AK$12:$AK$4999,"taip") -> 1 | BI20: =COUNTIFS('D5'!$B$12:$B$4999,$B20,'D5'!$AH$12:$AH$4999,BI$8,'D5'!$AK$12:$AK$4999,"taip") -> 0 | BJ20: =COUNTIFS('D5'!$B$12:$B$4999,$B20,'D5'!$AH$12:$AH$4999,BJ$8,'D5'!$AK$12:$AK$4999,"taip") -> 1 | BK20: =COUNTIFS('D5'!$B$12:$B$4999,$B20,'D5'!$AH$12:$AH$4999,BK$8,'D5'!$AK$12:$AK$4999,"taip") -> 0 | BL20: =COUNTIFS('D5'!$B$12:$B$4999,$B20,'D5'!$AH$12:$AH$4999,BL$8,'D5'!$AK$12:$AK$4999,"taip") -> 0 | BM20: =SUM(BN20:BT20) -> 97620 | BN20: =SUMIFS('D5'!$W$12:$W$4999,'D5'!$B$12:$B$4999,$B20,'D5'!$AH$12:$AH$4999,BN$8,'D5'!$AK$12:$AK$4999,"taip") -> 0 | BO20: =SUMIFS('D5'!$W$12:$W$4999,'D5'!$B$12:$B$4999,$B20,'D5'!$AH$12:$AH$4999,BO$8,'D5'!$AK$12:$AK$4999,"taip") -> 0 | BP20: =SUMIFS('D5'!$W$12:$W$4999,'D5'!$B$12:$B$4999,$B20,'D5'!$AH$12:$AH$4999,BP$8,'D5'!$AK$12:$AK$4999,"taip") -> 48810 | BQ20: =SUMIFS('D5'!$W$12:$W$4999,'D5'!$B$12:$B$4999,$B20,'D5'!$AH$12:$AH$4999,BQ$8,'D5'!$AK$12:$AK$4999,"taip") -> 0 | BR20: =SUMIFS('D5'!$W$12:$W$4999,'D5'!$B$12:$B$4999,$B20,'D5'!$AH$12:$AH$4999,BR$8,'D5'!$AK$12:$AK$4999,"taip") -> 48810 | BS20: =SUMIFS('D5'!$W$12:$W$4999,'D5'!$B$12:$B$4999,$B20,'D5'!$AH$12:$AH$4999,BS$8,'D5'!$AK$12:$AK$4999,"taip") -> 0 | BT20: =SUMIFS('D5'!$W$12:$W$4999,'D5'!$B$12:$B$4999,$B20,'D5'!$AH$12:$AH$4999,BT$8,'D5'!$AK$12:$AK$4999,"taip") -> 0 | BU20: =IF($H20>0,BM20/$H20*100,0) -> 63.055905 | BV20: =IF($H20>0,BN20/$H20*100,0) -> 0 | BW20: =IF($H20>0,BO20/$H20*100,0) -> 0 | BX20: =IF($H20>0,BP20/$H20*100,0) -> 31.527953 | BY20: =IF($H20>0,BQ20/$H20*100,0) -> 0 | BZ20: =IF($H20>0,BR20/$H20*100,0) -> 31.527953 | CA20: =IF($H20>0,BS20/$H20*100,0) -> 0 | CB20: =IF($H20>0,BT20/$H20*100,0) -> 0
B21: ='VPS1'!A17 -> MAŽE-LEADER-19.2-7.6 | C21: ='VPS1'!B17 -> MAŽE | D21: ='VPS1'!C17 -> 2 | E21: ='VPS1'!D17 -> - veiklos sritis „Parama investicijoms į kaimo kultūros ir gamtos paveldą, kraštovaizdį „ | F21: ='VPS1'!E17 -> LEADER-19.2-7.6 | G21: ='VPS1'!G17 -> EŽŪFKP | H21: ='VPS1'!F17 -> 191192 | I21: =SUM(J21:P21) -> 3 | J21: =COUNTIFS('D5'!$B$12:$B$4999,$B21,'D5'!$AF$12:$AF$4999,J$8,'D5'!$AI$12:$AI$4999,"taip") -> 0 | K21: =COUNTIFS('D5'!$B$12:$B$4999,$B21,'D5'!$AF$12:$AF$4999,K$8,'D5'!$AI$12:$AI$4999,"taip") -> 0 | L21: =COUNTIFS('D5'!$B$12:$B$4999,$B21,'D5'!$AF$12:$AF$4999,L$8,'D5'!$AI$12:$AI$4999,"taip") -> 0 | M21: =COUNTIFS('D5'!$B$12:$B$4999,$B21,'D5'!$AF$12:$AF$4999,M$8,'D5'!$AI$12:$AI$4999,"taip") -> 2 | N21: =COUNTIFS('D5'!$B$12:$B$4999,$B21,'D5'!$AF$12:$AF$4999,N$8,'D5'!$AI$12:$AI$4999,"taip") -> 1 | O21: =COUNTIFS('D5'!$B$12:$B$4999,$B21,'D5'!$AF$12:$AF$4999,O$8,'D5'!$AI$12:$AI$4999,"taip") -> 0 | P21: =COUNTIFS('D5'!$B$12:$B$4999,$B21,'D5'!$AF$12:$AF$4999,P$8,'D5'!$AI$12:$AI$4999,"taip") -> 0 | Q21: =SUM(R21:X21) -> 144417 | R21: =SUMIFS('D5'!$W$12:$W$4999,'D5'!$B$12:$B$4999,$B21,'D5'!$AF$12:$AF$4999,R$8,'D5'!$AI$12:$AI$4999,"taip") -> 0 | S21: =SUMIFS('D5'!$W$12:$W$4999,'D5'!$B$12:$B$4999,$B21,'D5'!$AF$12:$AF$4999,S$8,'D5'!$AI$12:$AI$4999,"taip") -> 0 | T21: =SUMIFS('D5'!$W$12:$W$4999,'D5'!$B$12:$B$4999,$B21,'D5'!$AF$12:$AF$4999,T$8,'D5'!$AI$12:$AI$4999,"taip") -> 0 | U21: =SUMIFS('D5'!$W$12:$W$4999,'D5'!$B$12:$B$4999,$B21,'D5'!$AF$12:$AF$4999,U$8,'D5'!$AI$12:$AI$4999,"taip") -> 95667 | V21: =SUMIFS('D5'!$W$12:$W$4999,'D5'!$B$12:$B$4999,$B21,'D5'!$AF$12:$AF$4999,V$8,'D5'!$AI$12:$AI$4999,"taip") -> 48750 | W21: =SUMIFS('D5'!$W$12:$W$4999,'D5'!$B$12:$B$4999,$B21,'D5'!$AF$12:$AF$4999,W$8,'D5'!$AI$12:$AI$4999,"taip") -> 0 | X21: =SUMIFS('D5'!$W$12:$W$4999,'D5'!$B$12:$B$4999,$B21,'D5'!$AF$12:$AF$4999,X$8,'D5'!$AI$12:$AI$4999,"taip") -> 0 | Y21: =IF($H21>0,Q21/$H21*100,0) -> 75.535064 | Z21: =IF($H21>0,R21/$H21*100,0) -> 0 | AA21: =IF($H21>0,S21/$H21*100,0) -> 0 | AB21: =IF($H21>0,T21/$H21*100,0) -> 0 | AC21: =IF($H21>0,U21/$H21*100,0) -> 50.037135 | AD21: =IF($H21>0,V21/$H21*100,0) -> 25.497929 | AE21: =IF($H21>0,W21/$H21*100,0) -> 0 | AF21: =IF($H21>0,X21/$H21*100,0) -> 0 | AG21: =SUM(AH21:AN21) -> 3 | AH21: =COUNTIFS('D5'!$B$12:$B$4999,$B21,'D5'!$AG$12:$AG$4999,AH$8,'D5'!$AJ$12:$AJ$4999,"taip") -> 0 | AI21: =COUNTIFS('D5'!$B$12:$B$4999,$B21,'D5'!$AG$12:$AG$4999,AI$8,'D5'!$AJ$12:$AJ$4999,"taip") -> 0 | AJ21: =COUNTIFS('D5'!$B$12:$B$4999,$B21,'D5'!$AG$12:$AG$4999,AJ$8,'D5'!$AJ$12:$AJ$4999,"taip") -> 0 | AK21: =COUNTIFS('D5'!$B$12:$B$4999,$B21,'D5'!$AG$12:$AG$4999,AK$8,'D5'!$AJ$12:$AJ$4999,"taip") -> 2 | AL21: =COUNTIFS('D5'!$B$12:$B$4999,$B21,'D5'!$AG$12:$AG$4999,AL$8,'D5'!$AJ$12:$AJ$4999,"taip") -> 1 | AM21: =COUNTIFS('D5'!$B$12:$B$4999,$B21,'D5'!$AG$12:$AG$4999,AM$8,'D5'!$AJ$12:$AJ$4999,"taip") -> 0 | AN21: =COUNTIFS('D5'!$B$12:$B$4999,$B21,'D5'!$AG$12:$AG$4999,AN$8,'D5'!$AJ$12:$AJ$4999,"taip") -> 0 | AO21: =SUM(AP21:AV21) -> 144417 | AP21: =SUMIFS('D5'!$W$12:$W$4999,'D5'!$B$12:$B$4999,$B21,'D5'!$AG$12:$AG$4999,AP$8,'D5'!$AJ$12:$AJ$4999,"taip") -> 0 | AQ21: =SUMIFS('D5'!$W$12:$W$4999,'D5'!$B$12:$B$4999,$B21,'D5'!$AG$12:$AG$4999,AQ$8,'D5'!$AJ$12:$AJ$4999,"taip") -> 0 | AR21: =SUMIFS('D5'!$W$12:$W$4999,'D5'!$B$12:$B$4999,$B21,'D5'!$AG$12:$AG$4999,AR$8,'D5'!$AJ$12:$AJ$4999,"taip") -> 0 | AS21: =SUMIFS('D5'!$W$12:$W$4999,'D5'!$B$12:$B$4999,$B21,'D5'!$AG$12:$AG$4999,AS$8,'D5'!$AJ$12:$AJ$4999,"taip") -> 95667 | AT21: =SUMIFS('D5'!$W$12:$W$4999,'D5'!$B$12:$B$4999,$B21,'D5'!$AG$12:$AG$4999,AT$8,'D5'!$AJ$12:$AJ$4999,"taip") -> 48750 | AU21: =SUMIFS('D5'!$W$12:$W$4999,'D5'!$B$12:$B$4999,$B21,'D5'!$AG$12:$AG$4999,AU$8,'D5'!$AJ$12:$AJ$4999,"taip") -> 0 | AV21: =SUMIFS('D5'!$W$12:$W$4999,'D5'!$B$12:$B$4999,$B21,'D5'!$AG$12:$AG$4999,AV$8,'D5'!$AJ$12:$AJ$4999,"taip") -> 0 | AW21: =IF($H21>0,AO21/$H21*100,0) -> 75.535064 | AX21: =IF($H21>0,AP21/$H21*100,0) -> 0 | AY21: =IF($H21>0,AQ21/$H21*100,0) -> 0 | AZ21: =IF($H21>0,AR21/$H21*100,0) -> 0 | BA21: =IF($H21>0,AS21/$H21*100,0) -> 50.037135 | BB21: =IF($H21>0,AT21/$H21*100,0) -> 25.497929 | BC21: =IF($H21>0,AU21/$H21*100,0) -> 0 | BD21: =IF($H21>0,AV21/$H21*100,0) -> 0 | BE21: =SUM(BF21:BL21) -> 2 | BF21: =COUNTIFS('D5'!$B$12:$B$4999,$B21,'D5'!$AH$12:$AH$4999,BF$8,'D5'!$AK$12:$AK$4999,"taip") -> 0 | BG21: =COUNTIFS('D5'!$B$12:$B$4999,$B21,'D5'!$AH$12:$AH$4999,BG$8,'D5'!$AK$12:$AK$4999,"taip") -> 0 | BH21: =COUNTIFS('D5'!$B$12:$B$4999,$B21,'D5'!$AH$12:$AH$4999,BH$8,'D5'!$AK$12:$AK$4999,"taip") -> 0 | BI21: =COUNTIFS('D5'!$B$12:$B$4999,$B21,'D5'!$AH$12:$AH$4999,BI$8,'D5'!$AK$12:$AK$4999,"taip") -> 0 | BJ21: =COUNTIFS('D5'!$B$12:$B$4999,$B21,'D5'!$AH$12:$AH$4999,BJ$8,'D5'!$AK$12:$AK$4999,"taip") -> 2 | BK21: =COUNTIFS('D5'!$B$12:$B$4999,$B21,'D5'!$AH$12:$AH$4999,BK$8,'D5'!$AK$12:$AK$4999,"taip") -> 0 | BL21: =COUNTIFS('D5'!$B$12:$B$4999,$B21,'D5'!$AH$12:$AH$4999,BL$8,'D5'!$AK$12:$AK$4999,"taip") -> 0 | BM21: =SUM(BN21:BT21) -> 95667 | BN21: =SUMIFS('D5'!$W$12:$W$4999,'D5'!$B$12:$B$4999,$B21,'D5'!$AH$12:$AH$4999,BN$8,'D5'!$AK$12:$AK$4999,"taip") -> 0 | BO21: =SUMIFS('D5'!$W$12:$W$4999,'D5'!$B$12:$B$4999,$B21,'D5'!$AH$12:$AH$4999,BO$8,'D5'!$AK$12:$AK$4999,"taip") -> 0 | BP21: =SUMIFS('D5'!$W$12:$W$4999,'D5'!$B$12:$B$4999,$B21,'D5'!$AH$12:$AH$4999,BP$8,'D5'!$AK$12:$AK$4999,"taip") -> 0 | BQ21: =SUMIFS('D5'!$W$12:$W$4999,'D5'!$B$12:$B$4999,$B21,'D5'!$AH$12:$AH$4999,BQ$8,'D5'!$AK$12:$AK$4999,"taip") -> 0 | BR21: =SUMIFS('D5'!$W$12:$W$4999,'D5'!$B$12:$B$4999,$B21,'D5'!$AH$12:$AH$4999,BR$8,'D5'!$AK$12:$AK$4999,"taip") -> 95667 | BS21: =SUMIFS('D5'!$W$12:$W$4999,'D5'!$B$12:$B$4999,$B21,'D5'!$AH$12:$AH$4999,BS$8,'D5'!$AK$12:$AK$4999,"taip") -> 0 | BT21: =SUMIFS('D5'!$W$12:$W$4999,'D5'!$B$12:$B$4999,$B21,'D5'!$AH$12:$AH$4999,BT$8,'D5'!$AK$12:$AK$4999,"taip") -> 0 | BU21: =IF($H21>0,BM21/$H21*100,0) -> 50.037135 | BV21: =IF($H21>0,BN21/$H21*100,0) -> 0 | BW21: =IF($H21>0,BO21/$H21*100,0) -> 0 | BX21: =IF($H21>0,BP21/$H21*100,0) -> 0 | BY21: =IF($H21>0,BQ21/$H21*100,0) -> 0 | BZ21: =IF($H21>0,BR21/$H21*100,0) -> 50.037135 | CA21: =IF($H21>0,BS21/$H21*100,0) -> 0 | CB21: =IF($H21>0,BT21/$H21*100,0) -> 0
B22: ='VPS1'!A18 -> MAŽE-LEADER-19.2-SAVA-3 | C22: ='VPS1'!B18 -> MAŽE | D22: ='VPS1'!C18 -> 3 | E22: ='VPS1'!D18 -> Priemonė „Vietos projektų pareiškėjų ir vykdytojų mokymas, įgūdžių įgijimas“ (kai mokymai susiję su VPS priemonėmis) | F22: ='VPS1'!E18 -> LEADER-19.2-SAVA-3 | G22: ='VPS1'!G18 -> EŽŪFKP | H22: ='VPS1'!F18 -> 38870 | I22: =SUM(J22:P22) -> 4 | J22: =COUNTIFS('D5'!$B$12:$B$4999,$B22,'D5'!$AF$12:$AF$4999,J$8,'D5'!$AI$12:$AI$4999,"taip") -> 0 | K22: =COUNTIFS('D5'!$B$12:$B$4999,$B22,'D5'!$AF$12:$AF$4999,K$8,'D5'!$AI$12:$AI$4999,"taip") -> 0 | L22: =COUNTIFS('D5'!$B$12:$B$4999,$B22,'D5'!$AF$12:$AF$4999,L$8,'D5'!$AI$12:$AI$4999,"taip") -> 1 | M22: =COUNTIFS('D5'!$B$12:$B$4999,$B22,'D5'!$AF$12:$AF$4999,M$8,'D5'!$AI$12:$AI$4999,"taip") -> 3 | N22: =COUNTIFS('D5'!$B$12:$B$4999,$B22,'D5'!$AF$12:$AF$4999,N$8,'D5'!$AI$12:$AI$4999,"taip") -> 0 | O22: =COUNTIFS('D5'!$B$12:$B$4999,$B22,'D5'!$AF$12:$AF$4999,O$8,'D5'!$AI$12:$AI$4999,"taip") -> 0 | P22: =COUNTIFS('D5'!$B$12:$B$4999,$B22,'D5'!$AF$12:$AF$4999,P$8,'D5'!$AI$12:$AI$4999,"taip") -> 0 | Q22: =SUM(R22:X22) -> 38701 | R22: =SUMIFS('D5'!$W$12:$W$4999,'D5'!$B$12:$B$4999,$B22,'D5'!$AF$12:$AF$4999,R$8,'D5'!$AI$12:$AI$4999,"taip") -> 0 | S22: =SUMIFS('D5'!$W$12:$W$4999,'D5'!$B$12:$B$4999,$B22,'D5'!$AF$12:$AF$4999,S$8,'D5'!$AI$12:$AI$4999,"taip") -> 0 | T22: =SUMIFS('D5'!$W$12:$W$4999,'D5'!$B$12:$B$4999,$B22,'D5'!$AF$12:$AF$4999,T$8,'D5'!$AI$12:$AI$4999,"taip") -> 9574 | U22: =SUMIFS('D5'!$W$12:$W$4999,'D5'!$B$12:$B$4999,$B22,'D5'!$AF$12:$AF$4999,U$8,'D5'!$AI$12:$AI$4999,"taip") -> 29127 | V22: =SUMIFS('D5'!$W$12:$W$4999,'D5'!$B$12:$B$4999,$B22,'D5'!$AF$12:$AF$4999,V$8,'D5'!$AI$12:$AI$4999,"taip") -> 0 | W22: =SUMIFS('D5'!$W$12:$W$4999,'D5'!$B$12:$B$4999,$B22,'D5'!$AF$12:$AF$4999,W$8,'D5'!$AI$12:$AI$4999,"taip") -> 0 | X22: =SUMIFS('D5'!$W$12:$W$4999,'D5'!$B$12:$B$4999,$B22,'D5'!$AF$12:$AF$4999,X$8,'D5'!$AI$12:$AI$4999,"taip") -> 0 | Y22: =IF($H22>0,Q22/$H22*100,0) -> 99.565217 | Z22: =IF($H22>0,R22/$H22*100,0) -> 0 | AA22: =IF($H22>0,S22/$H22*100,0) -> 0 | AB22: =IF($H22>0,T22/$H22*100,0) -> 24.630821 | AC22: =IF($H22>0,U22/$H22*100,0) -> 74.934397 | AD22: =IF($H22>0,V22/$H22*100,0) -> 0 | AE22: =IF($H22>0,W22/$H22*100,0) -> 0 | AF22: =IF($H22>0,X22/$H22*100,0) -> 0 | AG22: =SUM(AH22:AN22) -> 4 | AH22: =COUNTIFS('D5'!$B$12:$B$4999,$B22,'D5'!$AG$12:$AG$4999,AH$8,'D5'!$AJ$12:$AJ$4999,"taip") -> 0 | AI22: =COUNTIFS('D5'!$B$12:$B$4999,$B22,'D5'!$AG$12:$AG$4999,AI$8,'D5'!$AJ$12:$AJ$4999,"taip") -> 0 | AJ22: =COUNTIFS('D5'!$B$12:$B$4999,$B22,'D5'!$AG$12:$AG$4999,AJ$8,'D5'!$AJ$12:$AJ$4999,"taip") -> 1 | AK22: =COUNTIFS('D5'!$B$12:$B$4999,$B22,'D5'!$AG$12:$AG$4999,AK$8,'D5'!$AJ$12:$AJ$4999,"taip") -> 3 | AL22: =COUNTIFS('D5'!$B$12:$B$4999,$B22,'D5'!$AG$12:$AG$4999,AL$8,'D5'!$AJ$12:$AJ$4999,"taip") -> 0 | AM22: =COUNTIFS('D5'!$B$12:$B$4999,$B22,'D5'!$AG$12:$AG$4999,AM$8,'D5'!$AJ$12:$AJ$4999,"taip") -> 0 | AN22: =COUNTIFS('D5'!$B$12:$B$4999,$B22,'D5'!$AG$12:$AG$4999,AN$8,'D5'!$AJ$12:$AJ$4999,"taip") -> 0 | AO22: =SUM(AP22:AV22) -> 38701 | AP22: =SUMIFS('D5'!$W$12:$W$4999,'D5'!$B$12:$B$4999,$B22,'D5'!$AG$12:$AG$4999,AP$8,'D5'!$AJ$12:$AJ$4999,"taip") -> 0 | AQ22: =SUMIFS('D5'!$W$12:$W$4999,'D5'!$B$12:$B$4999,$B22,'D5'!$AG$12:$AG$4999,AQ$8,'D5'!$AJ$12:$AJ$4999,"taip") -> 0 | AR22: =SUMIFS('D5'!$W$12:$W$4999,'D5'!$B$12:$B$4999,$B22,'D5'!$AG$12:$AG$4999,AR$8,'D5'!$AJ$12:$AJ$4999,"taip") -> 9574 | AS22: =SUMIFS('D5'!$W$12:$W$4999,'D5'!$B$12:$B$4999,$B22,'D5'!$AG$12:$AG$4999,AS$8,'D5'!$AJ$12:$AJ$4999,"taip") -> 29127 | AT22: =SUMIFS('D5'!$W$12:$W$4999,'D5'!$B$12:$B$4999,$B22,'D5'!$AG$12:$AG$4999,AT$8,'D5'!$AJ$12:$AJ$4999,"taip") -> 0 | AU22: =SUMIFS('D5'!$W$12:$W$4999,'D5'!$B$12:$B$4999,$B22,'D5'!$AG$12:$AG$4999,AU$8,'D5'!$AJ$12:$AJ$4999,"taip") -> 0 | AV22: =SUMIFS('D5'!$W$12:$W$4999,'D5'!$B$12:$B$4999,$B22,'D5'!$AG$12:$AG$4999,AV$8,'D5'!$AJ$12:$AJ$4999,"taip") -> 0 | AW22: =IF($H22>0,AO22/$H22*100,0) -> 99.565217 | AX22: =IF($H22>0,AP22/$H22*100,0) -> 0 | AY22: =IF($H22>0,AQ22/$H22*100,0) -> 0 | AZ22: =IF($H22>0,AR22/$H22*100,0) -> 24.630821 | BA22: =IF($H22>0,AS22/$H22*100,0) -> 74.934397 | BB22: =IF($H22>0,AT22/$H22*100,0) -> 0 | BC22: =IF($H22>0,AU22/$H22*100,0) -> 0 | BD22: =IF($H22>0,AV22/$H22*100,0) -> 0 | BE22: =SUM(BF22:BL22) -> 3 | BF22: =COUNTIFS('D5'!$B$12:$B$4999,$B22,'D5'!$AH$12:$AH$4999,BF$8,'D5'!$AK$12:$AK$4999,"taip") -> 0 | BG22: =COUNTIFS('D5'!$B$12:$B$4999,$B22,'D5'!$AH$12:$AH$4999,BG$8,'D5'!$AK$12:$AK$4999,"taip") -> 0 | BH22: =COUNTIFS('D5'!$B$12:$B$4999,$B22,'D5'!$AH$12:$AH$4999,BH$8,'D5'!$AK$12:$AK$4999,"taip") -> 1 | BI22: =COUNTIFS('D5'!$B$12:$B$4999,$B22,'D5'!$AH$12:$AH$4999,BI$8,'D5'!$AK$12:$AK$4999,"taip") -> 0 | BJ22: =COUNTIFS('D5'!$B$12:$B$4999,$B22,'D5'!$AH$12:$AH$4999,BJ$8,'D5'!$AK$12:$AK$4999,"taip") -> 2 | BK22: =COUNTIFS('D5'!$B$12:$B$4999,$B22,'D5'!$AH$12:$AH$4999,BK$8,'D5'!$AK$12:$AK$4999,"taip") -> 0 | BL22: =COUNTIFS('D5'!$B$12:$B$4999,$B22,'D5'!$AH$12:$AH$4999,BL$8,'D5'!$AK$12:$AK$4999,"taip") -> 0 | BM22: =SUM(BN22:BT22) -> 28996 | BN22: =SUMIFS('D5'!$W$12:$W$4999,'D5'!$B$12:$B$4999,$B22,'D5'!$AH$12:$AH$4999,BN$8,'D5'!$AK$12:$AK$4999,"taip") -> 0 | BO22: =SUMIFS('D5'!$W$12:$W$4999,'D5'!$B$12:$B$4999,$B22,'D5'!$AH$12:$AH$4999,BO$8,'D5'!$AK$12:$AK$4999,"taip") -> 0 | BP22: =SUMIFS('D5'!$W$12:$W$4999,'D5'!$B$12:$B$4999,$B22,'D5'!$AH$12:$AH$4999,BP$8,'D5'!$AK$12:$AK$4999,"taip") -> 9574 | BQ22: =SUMIFS('D5'!$W$12:$W$4999,'D5'!$B$12:$B$4999,$B22,'D5'!$AH$12:$AH$4999,BQ$8,'D5'!$AK$12:$AK$4999,"taip") -> 0 | BR22: =SUMIFS('D5'!$W$12:$W$4999,'D5'!$B$12:$B$4999,$B22,'D5'!$AH$12:$AH$4999,BR$8,'D5'!$AK$12:$AK$4999,"taip") -> 19422 | BS22: =SUMIFS('D5'!$W$12:$W$4999,'D5'!$B$12:$B$4999,$B22,'D5'!$AH$12:$AH$4999,BS$8,'D5'!$AK$12:$AK$4999,"taip") -> 0 | BT22: =SUMIFS('D5'!$W$12:$W$4999,'D5'!$B$12:$B$4999,$B22,'D5'!$AH$12:$AH$4999,BT$8,'D5'!$AK$12:$AK$4999,"taip") -> 0 | BU22: =IF($H22>0,BM22/$H22*100,0) -> 74.597376 | BV22: =IF($H22>0,BN22/$H22*100,0) -> 0 | BW22: =IF($H22>0,BO22/$H22*100,0) -> 0 | BX22: =IF($H22>0,BP22/$H22*100,0) -> 24.630821 | BY22: =IF($H22>0,BQ22/$H22*100,0) -> 0 | BZ22: =IF($H22>0,BR22/$H22*100,0) -> 49.966555 | CA22: =IF($H22>0,BS22/$H22*100,0) -> 0 | CB22: =IF($H22>0,BT22/$H22*100,0) -> 0
